Workbook

Sheet 貸出サービス概況
A1: 貸出サービス概況 | AA1: 令和7年
A2: 館名 | C2: 奉仕人口 | D2: 登録者数 | G2: (人) | H2: 有効登録者数（人） | J2: 開館日数 | K2: 来館者数 | L2: 個人貸出人数 | R2: (人) | S2: 貸出数 | T2: （図書＋視聴覚資料等） | Y2: （点） | Z2: 個人貸出 | AA2: 備 考
D3: 本 館 | E3: 自動車図書館 | F3: 分室 ・サービスポイント | G3: 合 計 | I3: うち自治体内登録者 | L3: 本館奉仕 | P3: 自動車図書館 | Q3: 分室 ・サービスポイント | R3: 合 計 | S3: 個人貸出数 | X3: 団体 | Y3: 相互貸借 | Z3: 点数 ／
C4: (人) | J4: (日) | K4: （人） | L4: 一般 | M4: 学生 | N4: 児童 | O4: 合計 | S4: 本 館 | T4: 自動車 | U4: 分室・サービスポイント | V4: 合計 | W4: うち自治体内貸出 | X4: 貸出数 | Y4: 貸出数 | Z4: 奉仕人口
A5: 前橋市 | C5: 323536 | D5: =SUM(D6:D8) -> 174153 | G5: =SUM(G6:G8) -> 174153 | H5: - | I5: - | J5: =SUM(J6:J8) -> 5354 | K5: =SUM(K6:K8) -> 415679 | L5: =SUM(L6:L8) -> 324968 | M5: =SUM(M6:M8) -> 9864 | N5: =SUM(N6:N8) -> 50004 | O5: =SUM(O6:O8) -> 384836 | P5: 0 | Q5: =SUM(Q6:Q8) -> 2658 | R5: =O5+Q5 -> 387494 | S5: =SUM(S6:S8) -> 1576036 | T5: =SUM(T6:T8) -> 0 | U5: =SUM(U6:U8) -> 64 | V5: =SUM(S5:U5) -> 1576100 | W5: 0 | X5: =SUM(X6:X8) -> 21748 | Y5: =SUM(Y6:Y8) -> 1053 | Z5: =ROUNDDOWN(V5/C5,2) -> 4.87
B6: 前橋 | D6: 174153 | E6: 0 | F6: − | G6: 174153 | H6: − | I6: − | J6: 295 | K6: 96644 | L6: 72927 | M6: 1613 | N6: 2700 | O6: 77240 | P6: 0 | Q6: 2658 | R6: 79898 | S6: 289342 | T6: 0 | U6: 64 | V6: 289406 | W6: − | X6: 795 | Y6: 1053
B7: 前橋こ | D7: 0 | E7: 0 | F7: 0 | G7: 0 | H7: − | I7: − | J7: 331 | K7: 86249 | L7: 23126 | M7: 1110 | N7: 11198 | O7: 35434 | P7: 0 | Q7: 0 | R7: 35434 | S7: 203287 | T7: 0 | U7: 0 | V7: 203287 | W7: − | X7: 18329 | Y7: 0
B8: 前橋分 | D8: 0 | E8: 0 | F8: 0 | G8: 0 | H8: − | I8: − | J8: 4728 | K8: 232786 | L8: 228915 | M8: 7141 | N8: 36106 | O8: 272162 | P8: 0 | Q8: 0 | R8: 272162 | S8: 1083407 | T8: 0 | U8: 0 | V8: 1083407 | W8: − | X8: 2624 | Y8: −
A9: 高崎市 | C9: 363916 | D9: =SUM(D10:D15) -> 122598 | E9: =SUM(E10:E15) -> 0 | F9: =SUM(F10:F15) -> 5575 | G9: =SUM(G10:G15) -> 128173 | H9: =SUM(H10:H15) -> 34801 | I9: =SUM(I10:I15) -> 30479 | J9: =SUM(J10:J15) -> 1750 | K9: =SUM(K10:K15) -> 727911 | ... Y9: =SUM(Y10:Y15) -> 1687 | Z9: =ROUNDDOWN(V9/C9,2) -> 4.97
B10: 高崎 | D10: 90539 | E10: 0 | F10: 5575 | G10: 96114 | H10: 26061 | I10: 23057 | J10: 331 | K10: 506121 | L10: 281555 | M10: 9098 | N10: 26861 | O10: 317514 | P10: 0 | Q10: 44241 | R10: 361755 | S10: 1194198 | T10: 0 | U10: 111166 | V10: 1305364 | W10: 1168991 | X10: 4360 | Y10: 1450
B11: 箕郷 | D11: 4422 | E11: 0 | F11: 0 | G11: 4422 | H11: 1194 | I11: 1141 | J11: 284 | K11: 32730 | L11: 17063 | M11: 443 | N11: 1891 | O11: 19397 | P11: 0 | Q11: 0 | R11: 19397 | S11: 80645 | T11: 0 | U11: 0 | V11: 80645 | W11: 77667 | X11: 1541 | Y11: 21
B12: 群馬 | D12: 12026 | E12: 0 | F12: 0 | G12: 12026 | H12: 3409 | I12: 3085 | J12: 284 | K12: 84233 | L12: 42447 | M12: 937 | N12: 4724 | O12: 48108 | P12: 0 | Q12: 0 | R12: 48108 | S12: 199685 | T12: 0 | U12: 0 | V12: 199685 | W12: 175632 | X12: 3702 | Y12: 95
B13: 新町 | D13: 6758 | E13: 0 | F13: 0 | G13: 6758 | H13: 1945 | I13: 1155 | J13: 284 | K13: 39329 | L13: 23761 | M13: 457 | N13: 1547 | O13: 25765 | P13: 0 | Q13: 0 | R13: 25765 | S13: 99545 | T13: 0 | U13: 0 | V13: 99545 | W13: 64252 | X13: 601 | Y13: 62
B14: 榛名 | D14: 4249 | E14: 0 | F14: 0 | G14: 4249 | H14: 1066 | I14: 983 | J14: 284 | K14: 30288 | L14: 11026 | M14: 185 | N14: 997 | O14: 12208 | P14: 0 | Q14: 0 | R14: 12208 | S14: 50013 | T14: 0 | U14: 0 | V14: 50013 | W14: 45156 | X14: 800 | Y14: 22
B15: 吉井 | D15: 4604 | E15: 0 | F15: 0 | G15: 4604 | H15: 1126 | I15: 1058 | J15: 283 | K15: 35210 | L15: 16200 | M15: 378 | N15: 1949 | O15: 18527 | P15: 0 | Q15: 0 | R15: 18527 | S15: 73747 | T15: 0 | U15: 0 | V15: 73747 | W15: 66896 | X15: 1389 | Y15: 37
A16: 桐生市 | C16: 96378 | D16: =SUM(D17:D18) -> 67948 | E16: =SUM(E17:E18) -> 0 | F16: =SUM(F17:F18) -> 6753 | G16: =SUM(G17:G18) -> 74701 | H16: =SUM(H17:H18) -> 7135 | I16: =SUM(I17:I18) -> 6255 | J16: =SUM(J17:J18) -> 572 | K16: - | L16: =SUM(L17:L18) -> 61028 | M16: =SUM(M17:M18) -> 1359 | N16: =SUM(N17:N18) -> 5094 | O16: =SUM(O17:O18) -> 67481 | P16: =SUM(P17:P18) -> 0 | Q16: =SUM(Q17:Q18) -> 2877 | R16: =SUM(R17:R18) -> 70358 | S16: =SUM(S17:S18) -> 252997 | ... Y16: =SUM(Y17:Y18) -> 546 | Z16: =ROUNDDOWN(V16/C16,2) -> 2.7
B17: 桐生 | D17: 61257 | E17: 0 | F17: 6753 | G17: 68010 | H17: 7135 | I17: 6255 | J17: 286 | K17: － | L17: 50827 | M17: 997 | N17: 3555 | O17: 55379 | P17: 0 | Q17: 2877 | R17: 58256 | S17: 200741 | T17: 0 | U17: 7804 | V17: 208545 | W17: 188405 | X17: 17242 | Y17: 476 | AA17: 有効登録者数は新里含む
B18: 新里 | D18: 6691 | E18: 0 | F18: 0 | G18: 6691 | H18: － | I18: － | J18: 286 | K18: － | L18: 10201 | M18: 362 | N18: 1539 | O18: 12102 | P18: 0 | Q18: 0 | R18: 12102 | S18: 52256 | T18: 0 | U18: 0 | V18: 52256 | W18: 43771 | X18: 1388 | Y18: 70
A19: 伊勢崎市 | C19: 209656 | D19: =SUM(D20:D23) -> 94412 | E19: =SUM(E20:E23) -> 0 | F19: =SUM(F20:F23) -> 9883 | G19: =SUM(G20:G23) -> 104295 | H19: - | I19: - | J19: =SUM(J20:J23) -> 1146 | K19: =SUM(K20:K23) -> 513777 | L19: =SUM(L20:L23) -> 159728 | M19: =SUM(M20:M23) -> 5832 | N19: =SUM(N20:N23) -> 30627 | O19: =SUM(O20:O23) -> 196187 | P19: =SUM(P20:P23) -> 0 | Q19: =SUM(Q20:Q23) -> 25330 | ... Y19: =SUM(Y20:Y23) -> 3647 | Z19: =ROUNDDOWN(V19/C19,2) -> 4.24 | AA19: 図書館システムリプレイスの影響で有効登録者数は抽出不可
B20: 伊勢崎 | D20: 47098 | E20: 0 | F20: 9883 | G20: 56981 | H20: - | I20: - | J20: 274 | K20: 252148 | L20: 89427 | M20: 3103 | N20: 17270 | O20: 109800 | P20: 0 | Q20: 25330 | R20: 135130 | S20: 380569 | T20: 0 | U20: 114503 | V20: 495072 | W20: 467445 | X20: 63555 | Y20: 3298
B21: 赤堀 | D21: 10745 | E21: 0 | F21: 0 | G21: 10745 | H21: - | I21: - | J21: 313 | K21: 54358 | L21: 17493 | M21: 806 | N21: 4538 | O21: 22837 | P21: 0 | Q21: 0 | R21: 22837 | S21: 108136 | T21: 0 | U21: 0 | V21: 108136 | W21: 99467 | X21: 2629 | Y21: 82
B22: あずま | D22: 22540 | E22: 0 | F22: 0 | G22: 22540 | H22: - | I22: - | J22: 280 | K22: 131719 | L22: 26882 | M22: 801 | N22: 5139 | O22: 32822 | P22: 0 | Q22: 0 | R22: 32822 | S22: 156853 | T22: 0 | U22: 0 | V22: 156853 | W22: 142705 | X22: 4023 | Y22: 157
B23: 境 | D23: 14029 | E23: 0 | F23: 0 | G23: 14029 | H23: - | I23: - | J23: 279 | K23: 75552 | L23: 25926 | M23: 1122 | N23: 3680 | O23: 30728 | P23: 0 | Q23: 0 | R23: 30728 | S23: 130780 | T23: 0 | U23: 0 | V23: 130780 | W23: 121957 | X23: 3041 | Y23: 110
A24: 太田市 | C24: 221095 | D24: =SUM(D25:D29) -> 122204 | E24: =SUM(E25:E29) -> 0 | F24: =SUM(F25:F29) -> 0 | G24: =SUM(G25:G29) -> 104739 | H24: =SUM(H25:H29) -> 22390 | I24: =SUM(I25:I29) -> 19062 | J24: =SUM(J25:J29) -> 1398 | K24: =SUM(K25:K29) -> 689617 | ... Y24: =SUM(Y25:Y29) -> 1776 | Z24: =ROUNDDOWN(V24/C24,2) -> 3.66
B25: 太田 | D25: 61851 | E25: 0 | F25: 0 | G25: 61851 | H25: 11317 | I25: 9710 | J25: 279 | K25: 204753 | L25: 92112 | M25: 6122 | N25: 15907 | O25: 114141 | P25: 0 | Q25: 0 | R25: 114141 | S25: 357128 | T25: 0 | U25: 0 | V25: 357128 | W25: 310628 | X25: 9919 | Y25: 1167
B26: 尾島 | D26: 10884 | E26: 0 | F26: 0 | G26: 10884 | H26: 2309 | I26: 2106 | J26: 273 | K26: 51044 | L26: 17729 | M26: 1228 | N26: 4196 | O26: 23153 | P26: 0 | Q26: 0 | R26: 23153 | S26: 81005 | T26: 0 | U26: 0 | V26: 81005 | W26: 73215 | X26: 678 | Y26: 140
B27: 新田 | D27: 19518 | E27: 0 | F27: 0 | G27: 2053 | H27: 3599 | I27: 2897 | J27: 280 | K27: 192080 | L27: 53126 | M27: 2761 | N27: 11218 | O27: 67105 | P27: 0 | Q27: 0 | R27: 67105 | S27: 237067 | T27: 0 | U27: 0 | V27: 237067 | W27: 210733 | X27: 3263 | Y27: 347
B28: 藪塚 | D28: 12862 | E28: 0 | F28: 0 | G28: 12862 | H28: 2337 | I28: 2085 | J28: 277 | K28: 44427 | L28: 19420 | M28: 1461 | N28: 3863 | O28: 24744 | P28: 0 | Q28: 0 | R28: 24744 | S28: 85370 | T28: 0 | U28: 0 | V28: 85370 | W28: 76007 | X28: 2307 | Y28: 122
B29: 太田美 | D29: 17089 | E29: 0 | F29: 0 | G29: 17089 | H29: 2828 | I29: 2264 | J29: 289 | K29: 197313 | L29: 8981 | M29: 788 | N29: 3879 | O29: 13648 | P29: 0 | Q29: 0 | R29: 13648 | S29: 49957 | T29: 0 | U29: 0 | V29: 49957 | W29: 43944 | X29: 0 | Y29: 0
A30: 沼田 | C30: 40855 | D30: 50900 | E30: 0 | F30: 0 | G30: 50900 | H30: 5227 | I30: 3974 | J30: 281 | K30: - | L30: 50138 | M30: 1408 | N30: 11976 | O30: 63522 | P30: 2458 | Q30: 328 | R30: 66308 | S30: 240736 | T30: 9415 | U30: 887 | V30: 251038 | W30: 186629 | X30: 11251 | Y30: 1291 | Z30: =ROUNDDOWN(V30/C30,2) -> 6.14
A31: 館林 | C31: 72664 | D31: 65722 | E31: 0 | F31: 0 | G31: 65722 | H31: 5153 | I31: 4512 | J31: 288 | K31: - | L31: 40831 | M31: 1033 | N31: 5070 | O31: 46934 | P31: 0 | Q31: 0 | R31: 46934 | S31: 197236 | T31: 0 | U31: 0 | V31: 197236 | W31: 174897 | X31: 19387 | Y31: 428 | Z31: =ROUNDDOWN(V31/C31,2) -> 2.71
A32: 渋川市 | C32: 69544 | D32: =SUM(D33:D34) -> 40210 | E32: =SUM(E33:E34) -> 0 | F32: =SUM(F33:F34) -> 2957 | G32: =SUM(G33:G34) -> 43167 | H32: - | I32: - | J32: =SUM(J33:J34) -> 559 | K32: =SUM(K33:K34) -> 91620 | L32: =SUM(L33:L34) -> 65230 | M32: =SUM(M33:M34) -> 2373 | N32: =SUM(N33:N34) -> 16240 | O32: =SUM(O33:O34) -> 83843 | P32: =SUM(P33:P34) -> 0 | Q32: =SUM(Q33:Q34) -> 13021 | ... Y32: =SUM(Y33:Y34) -> 638 | Z32: =ROUNDDOWN(V32/C32,2) -> 4.06
B33: 渋川 | D33: 35488 | E33: 0 | F33: 2957 | G33: 38445 | H33: - | I33: - | J33: 283 | K33: 91620 | L33: 61191 | M33: 2223 | N33: 14367 | O33: 77781 | P33: 0 | Q33: 13021 | R33: 90802 | S33: 228318 | T33: 0 | U33: 35489 | V33: 263807 | W33: - | X33: 5465 | Y33: 616
B34: 北橘 | D34: 4722 | E34: 0 | F34: 0 | G34: 4722 | H34: 6119 | I34: 2242 | J34: 276 | K34: - | L34: 4039 | M34: 150 | N34: 1873 | O34: 6062 | P34: 0 | Q34: 0 | R34: 6062 | S34: 19105 | T34: 0 | U34: 0 | V34: 19105 | W34: 1645 | X34: 847 | Y34: 22
A35: 藤岡 | C35: 59440 | D35: 15542 | E35: 0 | F35: 0 | G35: 15542 | H35: 7167 | I35: 6039 | J35: 218 | K35: 209746 | L35: 61513 | M35: 1918 | N35: 6192 | O35: 69623 | P35: 0 | Q35: 0 | R35: 69623 | S35: 263118 | T35: 0 | U35: 0 | V35: 263118 | W35: 213012 | X35: 5744 | Y35: 435 | Z35: =ROUNDDOWN(V35/C35,2) -> 4.42
A36: 富岡 | C36: 43913 | D36: 42302 | E36: 0 | F36: 0 | G36: 42302 | H36: 7617 | I36: 6958 | J36: 295 | K36: 81081 | L36: 38765 | M36: 1611 | N36: 19139 | O36: 59515 | P36: 0 | Q36: 0 | R36: 59515 | S36: 177643 | T36: 0 | U36: 0 | V36: 177643 | W36: 157574 | X36: 2474 | Y36: 284 | Z36: =ROUNDDOWN(V36/C36,2) -> 4.04
A37: 安中市 | C37: 50633 | D37: =SUM(D38:D39) -> 26766 | E37: =SUM(E38:E39) -> 0 | F37: =SUM(F38:F39) -> 0 | G37: =SUM(G38:G39) -> 26766 | H37: =SUM(H38:H39) -> 5200 | I37: =SUM(I38:I39) -> 4892 | J37: =SUM(J38:J39) -> 573 | K37: =SUM(K38:K39) -> 66032 | ... Y37: =SUM(Y38:Y39) -> 345 | Z37: =ROUNDDOWN(V37/C37,2) -> 2.87
B38: 安中 | D38: 15922 | E38: 0 | F38: 0 | G38: 15922 | H38: 3238 | I38: 3009 | J38: 280 | K38: 41009 | L38: 27030 | M38: 655 | N38: 4400 | O38: 32085 | P38: 0 | Q38: 0 | R38: 32085 | S38: 88798 | T38: 0 | U38: 0 | V38: 88798 | W38: 82848 | X38: 890 | Y38: 194
B39: 松井田 | D39: 10844 | E39: 0 | F39: 0 | G39: 10844 | H39: 1962 | I39: 1883 | J39: 293 | K39: 25023 | L39: 13417 | M39: 407 | N39: 2763 | O39: 16587 | P39: 0 | Q39: 0 | R39: 16587 | S39: 56669 | T39: 0 | U39: 0 | V39: 56669 | W39: 54864 | X39: 1550 | Y39: 151
A40: みどり市 | C40: 47464 | D40: =SUM(D41:D42) -> 13545 | E40: =SUM(E41:E42) -> 0 | F40: =SUM(F41:F42) -> 0 | G40: =SUM(G41:G42) -> 13545 | H40: =SUM(H41:H42) -> 7605 | I40: =SUM(I41:I42) -> 5007 | J40: =SUM(J41:J42) -> 582 | K40: =SUM(K41:K42) -> 174344 | ... Y40: =SUM(Y41:Y42) -> 456 | Z40: =ROUNDDOWN(V40/C40,2) -> 6.27
...

Sheet 蔵書Ⅰ
A1: 蔵 書 Ⅰ | R1: 令和8年3月31日現在
A2: 館 名 | C2: 全 蔵 書 冊 数 (冊) | E2: 全 蔵 書 冊 数 内 訳 | P2: （冊） | Q2: 人口百人当冊数 | R2: 備 考
E3: 本 館 | I3: 自動車図書館 | L3: 分室・サービスポイント | O3: その他
D4: うち開架冊数 | E4: 一 般 | F4: 児 童 | G4: 合 計 | H4: うち紙芝居 | I4: 一 般 | J4: 児 童 | K4: 合 計 | L4: 一 般 | M4: 児 童 | N4: 合 計 | P4: うち児童 | Q4: （冊）
A5: 前橋市 | C5: =SUM(C6:C8) -> 972715 | D5: =SUM(D6:D8) -> 771858 | E5: =SUM(E6:E8) -> 594567 | F5: =SUM(F6:F8) -> 355444 | G5: =SUM(G6:G8) -> 950011 | H5: =SUM(H6:H8) -> 8753 | I5: =SUM(I6:I8) -> 15 | J5: =SUM(J6:J8) -> 37 | ... P5: =SUM(P6:P8) -> 0 | Q5: =(C5/貸出サービス概況!C5)*100 -> 300.65124
B6: 前橋 | C6: 320053 | D6: 172329 | E6: 289697 | F6: 7652 | G6: 297349 | H6: 57 | I6: 15 | J6: 37 | K6: 52 | L6: 7441 | M6: 15211 | N6: 22652 | O6: 0 | P6: 0
B7: 前橋こ | C7: 144694 | D7: 91561 | E7: 13735 | F7: 130959 | G7: 144694 | H7: 3192 | I7: 0 | J7: 0 | K7: 0 | L7: 0 | M7: 0 | N7: 0 | O7: 0 | P7: 0
B8: 前橋分 | C8: 507968 | D8: 507968 | E8: 291135 | F8: 216833 | G8: 507968 | H8: 5504 | I8: 0 | J8: 0 | K8: 0 | L8: 0 | M8: 0 | N8: 0 | O8: 0 | P8: 0
A9: 高崎市 | C9: =SUM(C10:C15) -> 1121483 | D9: =SUM(D10:D15) -> 688953 | E9: =SUM(E10:E15) -> 828387 | F9: =SUM(F10:F15) -> 264108 | G9: =SUM(G10:G15) -> 1092495 | H9: =SUM(H10:H15) -> 5374 | I9: =SUM(I10:I15) -> 0 | J9: =SUM(J10:J15) -> 0 | ... P9: =SUM(P10:P15) -> 0 | Q9: =(C9/貸出サービス概況!C9)*100 -> 308.17084
B10: 高崎 | C10: 699864 | D10: 377025 | E10: 541834 | F10: 129042 | G10: 670876 | H10: 1871 | I10: 0 | J10: 0 | K10: 0 | L10: 21129 | M10: 7859 | N10: 28988 | O10: 0 | P10: 0
B11: 箕郷 | C11: 47587 | D11: 39322 | E11: 32348 | F11: 15239 | G11: 47587 | H11: 336 | I11: 0 | J11: 0 | K11: 0 | L11: 0 | M11: 0 | N11: 0 | O11: 0 | P11: 0
B12: 群馬 | C12: 140090 | D12: 92577 | E12: 100727 | F12: 39363 | G12: 140090 | H12: 929 | I12: 0 | J12: 0 | K12: 0 | L12: 0 | M12: 0 | N12: 0 | O12: 0 | P12: 0
B13: 新町 | C13: 99328 | D13: 72495 | E13: 71145 | F13: 28183 | G13: 99328 | H13: 821 | I13: 0 | J13: 0 | K13: 0 | L13: 0 | M13: 0 | N13: 0 | O13: 0 | P13: 0
B14: 榛名 | C14: 72448 | D14: 55724 | E14: 47895 | F14: 24553 | G14: 72448 | H14: 761 | I14: 0 | J14: 0 | K14: 0 | L14: 0 | M14: 0 | N14: 0 | O14: 0 | P14: 0
B15: 吉井 | C15: 62166 | D15: 51810 | E15: 34438 | F15: 27728 | G15: 62166 | H15: 656 | I15: 0 | J15: 0 | K15: 0 | L15: 0 | M15: 0 | N15: 0 | O15: 0 | P15: 0
A16: 桐生市 | C16: =SUM(C17:C18) -> 374624 | D16: =SUM(D17:D18) -> 189227 | E16: =SUM(E17:E18) -> 202897 | F16: =SUM(F17:F18) -> 81675 | G16: =SUM(G17:G18) -> 284572 | H16: =SUM(H17:H18) -> 2305 | I16: =SUM(I17:I18) -> 0 | J16: =SUM(J17:J18) -> 0 | ... P16: =SUM(P17:P18) -> 0 | Q16: =(C16/貸出サービス概況!C16)*100 -> 388.70282
B17: 桐生 | C17: 301816 | D17: 141654 | E17: 158547 | F17: 53217 | G17: 211764 | H17: 1285 | I17: 0 | J17: 0 | K17: 0 | L17: 50231 | M17: 39821 | N17: 90052 | O17: 0 | P17: 0
B18: 新里 | C18: 72808 | D18: 47573 | E18: 44350 | F18: 28458 | G18: 72808 | H18: 1020 | I18: 0 | J18: 0 | K18: 0 | L18: 0 | M18: 0 | N18: 0 | O18: 0 | P18: 0
A19: 伊勢崎市 | C19: =SUM(C20:C23) -> 656680 | D19: =SUM(D20:D23) -> 369626 | E19: =SUM(E20:E23) -> 434711 | F19: =SUM(F20:F23) -> 180856 | G19: =SUM(G20:G23) -> 615567 | H19: =SUM(H20:H23) -> 4738 | I19: =SUM(I20:I23) -> 0 | J19: =SUM(J20:J23) -> 0 | ... P19: =SUM(P20:P23) -> 0 | Q19: =(C19/貸出サービス概況!C19)*100 -> 313.21784
B20: 伊勢崎 | C20: 325768 | D20: 148345 | E20: 202927 | F20: 81728 | G20: 284655 | H20: 1823 | I20: 0 | J20: 0 | K20: 0 | L20: 23140 | M20: 17973 | N20: 41113 | O20: 0 | P20: 0 | S20: 0
B21: 赤堀 | C21: 58798 | D21: 46765 | E21: 40037 | F21: 18761 | G21: 58798 | H21: 604 | I21: 0 | J21: 0 | K21: 0 | L21: 0 | M21: 0 | N21: 0 | O21: 0 | P21: 0
B22: あずま | C22: 134675 | D22: 80449 | E22: 89572 | F22: 45103 | G22: 134675 | H22: 1353 | I22: 0 | J22: 0 | K22: 0 | L22: 0 | M22: 0 | N22: 0 | O22: 0 | P22: 0
B23: 境 | C23: 137439 | D23: 94067 | E23: 102175 | F23: 35264 | G23: 137439 | H23: 958 | I23: 0 | J23: 0 | K23: 0 | L23: 0 | M23: 0 | N23: 0 | O23: 0 | P23: 0
A24: 太田市 | C24: =SUM(C25:C29) -> 716207 | D24: =SUM(D25:D29) -> 441117 | E24: =SUM(E25:E29) -> 543673 | F24: =SUM(F25:F29) -> 172534 | G24: =SUM(G25:G29) -> 716207 | H24: =SUM(H25:H29) -> 3498 | I24: =SUM(I25:I29) -> 0 | J24: =SUM(J25:J29) -> 0 | ... P24: =SUM(P25:P29) -> 0 | Q24: =(C24/貸出サービス概況!C24)*100 -> 323.93632
B25: 太田 | C25: 335432 | D25: 167634 | E25: 272691 | F25: 62741 | G25: 335432 | H25: 1376 | I25: 0 | J25: 0 | K25: 0 | L25: 0 | M25: 0 | N25: 0 | O25: 0 | P25: 0
B26: 尾島 | C26: 76526 | D26: 58297 | E26: 56308 | F26: 20218 | G26: 76526 | H26: 531 | I26: 0 | J26: 0 | K26: 0 | L26: 0 | M26: 0 | N26: 0 | O26: 0 | P26: 0
B27: 新田 | C27: 170017 | D27: 102580 | E27: 133774 | F27: 36243 | G27: 170017 | H27: 941 | I27: 0 | J27: 0 | K27: 0 | L27: 0 | M27: 0 | N27: 0 | O27: 0 | P27: 0
B28: 藪塚 | C28: 81399 | D28: 61072 | E28: 50063 | F28: 31336 | G28: 81399 | H28: 650 | I28: 0 | J28: 0 | K28: 0 | L28: 0 | M28: 0 | N28: 0 | O28: 0 | P28: 0
B29: 太田美 | C29: 52833 | D29: 51534 | E29: 30837 | F29: 21996 | G29: 52833 | H29: 0 | I29: 0 | J29: 0 | K29: 0 | L29: 0 | M29: 0 | N29: 0 | O29: 0 | P29: 0
A30: 沼田 | C30: 452615 | D30: 100000 | E30: 324310 | F30: 128305 | G30: 452615 | H30: 3329 | I30: - | J30: - | K30: 2500 | L30: - | M30: - | N30: 3500 | O30: 0 | P30: 0 | Q30: =(C30/貸出サービス概況!C30)*100 -> 1107.8571
A31: 館林 | C31: 336751 | D31: 165860 | E31: 226570 | F31: 68911 | G31: 295481 | H31: 1866 | I31: 0 | J31: 0 | K31: 0 | L31: 0 | M31: 0 | N31: 0 | O31: 41270 | P31: 28653 | Q31: =(C31/貸出サービス概況!C31)*100 -> 463.43581
A32: 渋川市 | C32: =SUM(C33:C34) -> 438628 | D32: =SUM(D33:D34) -> 254011 | E32: =SUM(E33:E34) -> 226317 | F32: =SUM(F33:F34) -> 81680 | G32: =SUM(G33:G34) -> 307997 | H32: =SUM(H33:H34) -> 1985 | I32: =SUM(I33:I34) -> 0 | J32: =SUM(J33:J34) -> 0 | ... P32: =SUM(P33:P34) -> 0 | Q32: =(C32/貸出サービス概況!C32)*100 -> 630.72012
B33: 渋川 | C33: 393444 | D33: 208827 | E33: 202584 | F33: 60229 | G33: 262813 | H33: 1647 | I33: 0 | J33: 0 | K33: 0 | L33: 88977 | M33: 41654 | N33: 130631 | O33: 1270 | P33: 0
B34: 北橘 | C34: 45184 | D34: 45184 | E34: 23733 | F34: 21451 | G34: 45184 | H34: 338 | I34: 0 | J34: 0 | K34: 0 | L34: 0 | M34: 0 | N34: 0 | O34: 0 | P34: 0
A35: 藤岡 | C35: 248097 | D35: 117381 | E35: 178751 | F35: 69346 | G35: 248097 | H35: 1868 | I35: 0 | J35: 0 | K35: 0 | L35: 0 | M35: 0 | N35: 0 | O35: 0 | P35: 0 | Q35: =(C35/貸出サービス概況!C35)*100 -> 417.39065
A36: 富岡 | C36: 175289 | D36: 97443 | E36: 126994 | F36: 48295 | G36: 175289 | H36: 1186 | I36: 0 | J36: 0 | K36: 0 | L36: 0 | M36: 0 | N36: 0 | O36: 0 | P36: 0 | Q36: =(C36/貸出サービス概況!C36)*100 -> 399.17337
A37: 安中市 | C37: =SUM(C38:C39) -> 180799 | D37: =SUM(D38:D39) -> 112791 | E37: =SUM(E38:E39) -> 126957 | F37: =SUM(F38:F39) -> 53842 | G37: =SUM(G38:G39) -> 180799 | H37: =SUM(H38:H39) -> 2128 | I37: =SUM(I38:I39) -> 0 | J37: =SUM(J38:J39) -> 0 | ... P37: =SUM(P38:P39) -> 0 | Q37: =(C37/貸出サービス概況!C37)*100 -> 357.0774
B38: 安中 | C38: 87818 | D38: 64076 | E38: 67771 | F38: 20047 | G38: 87818 | H38: 542 | I38: 0 | J38: 0 | K38: 0 | L38: 0 | M38: 0 | N38: 0 | O38: 0 | P38: 0
B39: 松井田 | C39: 92981 | D39: 48715 | E39: 59186 | F39: 33795 | G39: 92981 | H39: 1586 | I39: 0 | J39: 0 | K39: 0 | L39: 0 | M39: 0 | N39: 0 | O39: 0 | P39: 0
A40: みどり市 | C40: =SUM(C41:C42) -> 331421 | D40: =SUM(D41:D42) -> 158538 | E40: =SUM(E41:E42) -> 251079 | F40: =SUM(F41:F42) -> 80342 | G40: =SUM(G41:G42) -> 331421 | H40: =SUM(H41:H42) -> 2298 | I40: =SUM(I41:I42) -> 0 | J40: =SUM(J41:J42) -> 0 | ... P40: =SUM(P41:P42) -> 0 | Q40: =(C40/貸出サービス概況!C40)*100 -> 698.25763
...

Sheet 蔵書Ⅱ
A1: 蔵 書 Ⅱ | P1: =蔵書Ⅰ!R1 -> 令和8年3月31日現在
A2: 館 名 | B2: 本 館 用 一 般 図 書 | O2: （冊） | P2: 備 考
B3: 総 記 | C3: 宗教哲学 | D3: 歴史地理 | E3: 社会科学 | F3: 自然科学 | G3: 技術工学 | H3: 産 業 | I3: 芸術ｽﾎﾟｰﾂ | J3: 言 語 | K3: 文 学 | L3: 郷土資料 | M3: 洋 書 | N3: そ の 他 | O3: 合 計
B4: 0 | C4: 1 | D4: 2 | E4: 3 | F4: 4 | G4: 5 | H4: 6 | I4: 7 | J4: 8 | K4: 9
A5: 前橋 | B5: 8198 | C5: 10165 | D5: 23251 | E5: 24486 | F5: 10651 | G5: 10204 | H5: 4977 | I5: 22682 | J5: 2892 | K5: 76557 | L5: 87559 | M5: 1164 | N5: 6911 | O5: 289697
A6: 前橋こ | B6: 1079 | C6: 181 | D6: 314 | E6: 3388 | F6: 1017 | G6: 1951 | H6: 115 | I6: 2489 | J6: 85 | K6: 936 | L6: 437 | M6: 1743 | N6: 0 | O6: 13735
A7: 前橋分 | B7: 4426 | C7: 8121 | D7: 17925 | E7: 23355 | F7: 19725 | G7: 31583 | H7: 8644 | I7: 32425 | J7: 3544 | K7: 134724 | L7: 6617 | M7: 46 | N7: 0 | O7: 291135
A8: 高崎 | B8: 17277 | C8: 25384 | D8: 45497 | E8: 95272 | F8: 38223 | G8: 43468 | H8: 18861 | I8: 52130 | J8: 8602 | K8: 149374 | L8: 46555 | M8: 1191 | N8: 0 | O8: 541834
A9: 箕郷 | B9: 648 | C9: 1094 | D9: 2659 | E9: 3143 | F9: 2455 | G9: 2777 | H9: 1055 | I9: 2916 | J9: 636 | K9: 11307 | L9: 3639 | M9: 19 | N9: 0 | O9: 32348
A10: 群馬 | B10: 2842 | C10: 3863 | D10: 9197 | E10: 11764 | F10: 7509 | G10: 7975 | H10: 3042 | I10: 8046 | J10: 1455 | K10: 40040 | L10: 4821 | M10: 173 | N10: 0 | O10: 100727
A11: 新町 | B11: 2555 | C11: 2464 | D11: 7899 | E11: 7565 | F11: 4611 | G11: 5094 | H11: 2083 | I11: 6294 | J11: 1553 | K11: 26197 | L11: 4798 | M11: 32 | N11: 0 | O11: 71145
A12: 榛名 | B12: 771 | C12: 866 | D12: 2626 | E12: 3924 | F12: 3276 | G12: 4674 | H12: 1598 | I12: 3944 | J12: 586 | K12: 20791 | L12: 4839 | M12: 0 | N12: 0 | O12: 47895
A13: 吉井 | B13: 945 | C13: 1225 | D13: 4206 | E13: 3708 | F13: 1931 | G13: 2505 | H13: 988 | I13: 3106 | J13: 673 | K13: 12171 | L13: 2980 | M13: 0 | N13: 0 | O13: 34438
A14: 桐生 | B14: 4875 | C14: 5630 | D14: 12881 | E14: 15320 | F14: 7028 | G14: 7865 | H14: 3685 | I14: 14134 | J14: 1599 | K14: 37527 | L14: 26850 | M14: 8772 | N14: 12381 | O14: 158547
A15: 新里 | B15: 808 | C15: 1304 | D15: 2608 | E15: 3498 | F15: 2934 | G15: 3039 | H15: 1236 | I15: 4723 | J15: 404 | K15: 19067 | L15: 3998 | M15: 67 | N15: 664 | O15: 44350
A16: 伊勢崎 | B16: 7741 | C16: 6739 | D16: 16614 | E16: 21092 | F16: 9337 | G16: 9002 | H16: 4404 | I16: 16405 | J16: 2606 | K16: 67385 | L16: 37881 | M16: 2482 | N16: 1239 | O16: 202927
... A24: 太田美 | B24: 903 | C24: 784 | D24: 1268 | E24: 2518 | F24: 2066 | G24: 4448 | H24: 1193 | I24: 15671 | J24: 247 | K24: 841 | L24: 898 | M24: 0 | N24: 0 | O24: 30837
A25: 沼田 | B25: 8360 | C25: 11656 | D25: 27015 | E25: 40018 | F25: 22525 | G25: 26696 | H25: 10891 | I25: 31875 | J25: 4463 | K25: 106027 | L25: 25536 | M25: - | N25: 9248 | O25: 324310
A26: 館林 | B26: 8005 | C26: 7241 | D26: 19675 | E26: 32034 | F26: 13742 | G26: 12919 | H26: 6180 | I26: 18182 | J26: 3626 | K26: 59399 | L26: 27394 | M26: 1121 | N26: 17052 | O26: 226570
A27: 渋川 | B27: 4956 | C27: 8594 | D27: 13899 | E27: 23466 | F27: 12041 | G27: 12234 | H27: 5988 | I27: 14090 | J27: 3187 | K27: 90106 | L27: 14023 | M27: 0 | N27: 0 | O27: 202584
A28: 北橘 | B28: 512 | C28: 618 | D28: 1390 | E28: 2060 | F28: 1197 | G28: 1832 | H28: 768 | I28: 2127 | J28: 301 | K28: 10194 | L28: 2734 | M28: 0 | N28: 0 | O28: 23733
A29: 藤岡 | B29: 5316 | C29: 6694 | D29: 14943 | E29: 19767 | F29: 10256 | G29: 10137 | H29: 4741 | I29: 14375 | J29: 2152 | K29: 73340 | L29: 16928 | M29: 102 | N29: 0 | O29: 178751
A30: 富岡 | B30: 3959 | C30: 4000 | D30: 11219 | E30: 12452 | F30: 5498 | G30: 7157 | H30: 2729 | I30: 10228 | J30: 1742 | K30: 39527 | L30: 18421 | M30: 492 | N30: 9570 | O30: 126994
A31: 安中 | B31: 2168 | C31: 2251 | D31: 5823 | E31: 7720 | F31: 4614 | G31: 5620 | H31: 2525 | I31: 5594 | J31: 1075 | K31: 22047 | L31: 7796 | M31: 0 | N31: 538 | O31: 67771
A32: 松井田 | B32: 1571 | C32: 1918 | D32: 4566 | E32: 7439 | F32: 4157 | G32: 5225 | H32: 1975 | I32: 5328 | J32: 1025 | K32: 22833 | L32: 3099 | M32: 0 | N32: 50 | O32: 59186
A33: 笠懸 | B33: 3790 | C33: 3261 | D33: 8374 | E33: 11438 | F33: 7093 | G33: 9001 | H33: 3275 | I33: 18545 | J33: 1469 | K33: 46477 | L33: 10359 | M33: 461 | N33: 993 | O33: 124536
A34: 大間々 | B34: 3518 | C34: 4606 | D34: 9834 | E34: 16093 | F34: 9054 | G34: 12323 | H34: 4547 | I34: 14900 | J34: 1841 | K34: 45632 | L34: 3980 | M34: 16 | N34: 199 | O34: 126543
A35: 吉岡 | B35: 973 | C35: 1493 | D35: 3257 | E35: 5620 | F35: 3631 | G35: 4258 | H35: 1574 | I35: 5017 | J35: 763 | K35: 20841 | L35: 1936 | M35: 0 | N35: 0 | O35: 49363
A36: 上野 | B36: 537 | C36: 416 | D36: 1149 | E36: 1889 | F36: 2800 | G36: 3405 | H36: 1668 | I36: 3401 | J36: 283 | K36: 8107 | L36: 0 | M36: 0 | N36: 3875 | O36: 27530
A37: 神流 | B37: 233 | C37: 443 | D37: 732 | E37: 803 | F37: 874 | G37: 992 | H37: 309 | I37: 1005 | J37: 221 | K37: 6726 | L37: 0 | M37: 0 | N37: 0 | O37: 12338
... A39: 中之条 | B39: 2933 | C39: 3259 | D39: 7218 | E39: 10968 | F39: 6879 | G39: 6545 | H39: 2969 | I39: 10053 | J39: 1282 | K39: 39529 | L39: 0 | M39: 0 | N39: 26 | O39: 91661
A40: 草津 | B40: 2130 | C40: 1305 | D40: 3373 | E40: 3875 | F40: 2421 | G40: 2366 | H40: 698 | I40: 4500 | J40: 762 | K40: 16423 | L40: 2082 | M40: 368 | N40: 2140 | O40: 42443 | P40: その他＝YA
A41: 玉村 | B41: 4355 | C41: 4391 | D41: 9345 | E41: 15745 | F41: 7659 | G41: 9585 | H41: 3140 | I41: 12559 | J41: 1994 | K41: 54013 | L41: 6194 | M41: 196 | N41: 1527 | O41: 130703
A42: 明和 | B42: 1417 | C42: 2186 | D42: 4134 | E42: 7102 | F42: 2994 | G42: 4652 | H42: 1890 | I42: 5020 | J42: 865 | K42: 20070 | L42: 1 | M42: 0 | N42: 0 | O42: 50331
A43: 千代田 | B43: 1688 | C43: 1224 | D43: 3656 | E43: 3963 | F43: 2493 | G43: 2792 | H43: 1004 | I43: 3228 | J43: 854 | K43: 14583 | L43: 1138 | M43: 0 | N43: 0 | O43: 36623
A44: 大泉 | B44: 3271 | C44: 3195 | D44: 8425 | E44: 13871 | F44: 7069 | G44: 7364 | H44: 3046 | I44: 8761 | J44: 1857 | K44: 30333 | L44: 10948 | M44: 3092 | N44: 4511 | O44: 105743
A45: 邑楽 | B45: 4069 | C45: 5320 | D45: 8551 | E45: 15762 | F45: 9639 | G45: 13012 | H45: 4868 | I45: 10498 | J45: 2300 | K45: 34582 | L45: 5048 | N45: 3510 | O45: 117159
A46: 計 | B46: =SUM(B5:B45) -> 139344 | C46: =SUM(C5:C45) -> 171478 | D46: =SUM(D5:D45) -> 378158 | E46: =SUM(E5:E45) -> 563173 | F46: =SUM(F5:F45) -> 296400 | G46: =SUM(G5:G45) -> 354259 | H46: =SUM(H5:H45) -> 140452 | I46: =SUM(I5:I45) -> 476293 | ... O46: =SUM(O5:O45) -> 4768537
A47: 県議会 | B47: 938 | C47: 170 | D47: 1010 | E47: 4603 | F47: 319 | G47: 394 | H47: 421 | I47: 338 | J47: 78 | K47: 856 | L47: 2967 | M47: 0 | N47: 4756 | O47: 16850
A48: 点字 | B48: 432 | C48: 1472 | D48: 1958 | E48: 2946 | F48: 2436 | G48: 1084 | H48: 406 | I48: 1963 | J48: 401 | K48: 17034 | L48: 0 | M48: 0 | N48: 0 | O48: 30132
...

Sheet 受入図書冊数
A1: 受 入 図 書 冊 数 | X1: =貸出サービス概況!AA1 -> 令和7年
A2: 館名 | C2: 年間受入冊数 | D2: 受入れ方法による内訳(冊) | G2: 用途別内訳 | P2: (冊) | Q2: 年間除籍冊数（含移管） | R2: 年間受入雑誌種数 | U2: 年間受入新聞種数 | X2: 備 考
D3: 購 入 | E3: 寄 贈 | F3: その他１ | G3: 本館奉仕用 | J3: 自動車図書館 | M3: 分室・サービスポイント | P3: その他２ | R3: 購入 | S3: 寄贈 | T3: 合計 | U3: 購入 | V3: 寄贈 | W3: 合計
G4: 一 般 | H4: 児 童 | I4: 合 計 | J4: 一 般 | K4: 児 童 | L4: 合 計 | M4: 一 般 | N4: 児 童 | O4: 合 計 | T4: (種) | W4: (種)
A5: 前橋市 | C5: =SUM(C6:C8) -> 26234 | D5: =SUM(D6:D8) -> 23859 | E5: =SUM(E6:E8) -> 1126 | F5: =SUM(F6:F8) -> 1249 | G5: =SUM(G6:G8) -> 17077 | H5: =SUM(H6:H8) -> 8679 | I5: =SUM(I6:I8) -> 25756 | J5: =SUM(J6:J8) -> 0 | ... W5: =SUM(W6:W8) -> 108
B6: 前橋 | C6: 8295 | D6: 6969 | E6: 307 | F6: 1019 | G6: 7453 | H6: 364 | I6: 7817 | J6: 0 | K6: 0 | L6: 0 | M6: 128 | N6: 350 | O6: 478 | P6: 0 | Q6: 14693 | R6: 95 | S6: 50 | T6: 145 | U6: 16 | V6: 17 | W6: 33
B7: 前橋こ | C7: 2782 | D7: 2596 | E7: 150 | F7: 36 | G7: 192 | H7: 2590 | I7: 2782 | J7: 0 | K7: 0 | L7: 0 | M7: 0 | N7: 0 | O7: 0 | P7: 0 | Q7: 4495 | R7: 14 | S7: 1 | T7: 15 | U7: 2 | V7: 0 | W7: 2
B8: 前橋分 | C8: 15157 | D8: 14294 | E8: 669 | F8: 194 | G8: 9432 | H8: 5725 | I8: 15157 | J8: 0 | K8: 0 | L8: 0 | M8: 0 | N8: 0 | O8: 0 | P8: 0 | Q8: 31793 | R8: 324 | S8: 30 | T8: 354 | U8: 73 | V8: 0 | W8: 73
A9: 高崎市 | C9: =SUM(C10:C15) -> 27144 | D9: =SUM(D10:D15) -> 24727 | E9: =SUM(E10:E15) -> 2075 | F9: =SUM(F10:F15) -> 342 | G9: =SUM(G10:G15) -> 18056 | H9: =SUM(H10:H15) -> 7927 | I9: =SUM(I10:I15) -> 25983 | J9: =SUM(J10:J15) -> 0 | ... W9: =SUM(W10:W15) -> 65
B10: 高崎 | C10: 17326 | D10: 15999 | E10: 1182 | F10: 145 | G10: 11886 | H10: 4279 | I10: 16165 | J10: 0 | K10: 0 | L10: 0 | M10: 904 | N10: 257 | O10: 1161 | P10: 0 | Q10: 12643 | R10: 175 | S10: 98 | T10: 273 | U10: 20 | V10: 10 | W10: 30
B11: 箕郷 | C11: 1725 | D11: 1597 | E11: 122 | F11: 6 | G11: 1098 | H11: 627 | I11: 1725 | J11: 0 | K11: 0 | L11: 0 | M11: 0 | N11: 0 | O11: 0 | P11: 0 | Q11: 741 | R11: 39 | S11: 2 | T11: 41 | U11: 7 | V11: 0 | W11: 7
B12: 群馬 | C12: 3078 | D12: 2677 | E12: 234 | F12: 167 | G12: 2209 | H12: 869 | I12: 3078 | J12: 0 | K12: 0 | L12: 0 | M12: 0 | N12: 0 | O12: 0 | P12: 0 | Q12: 6900 | R12: 62 | S12: 3 | T12: 65 | U12: 7 | V12: 0 | W12: 7
B13: 新町 | C13: 1692 | D13: 1524 | E13: 152 | F13: 16 | G13: 1042 | H13: 650 | I13: 1692 | J13: 0 | K13: 0 | L13: 0 | M13: 0 | N13: 0 | O13: 0 | P13: 0 | Q13: 1520 | R13: 47 | S13: 5 | T13: 52 | U13: 7 | V13: 0 | W13: 7
B14: 榛名 | C14: 1776 | D14: 1498 | E14: 272 | F14: 6 | G14: 964 | H14: 812 | I14: 1776 | J14: 0 | K14: 0 | L14: 0 | M14: 0 | N14: 0 | O14: 0 | P14: 0 | Q14: 1571 | R14: 36 | S14: 1 | T14: 37 | U14: 7 | V14: 0 | W14: 7
B15: 吉井 | C15: 1547 | D15: 1432 | E15: 113 | F15: 2 | G15: 857 | H15: 690 | I15: 1547 | J15: 0 | K15: 0 | L15: 0 | M15: 0 | N15: 0 | O15: 0 | P15: 0 | Q15: 1321 | R15: 33 | S15: 4 | T15: 37 | U15: 7 | V15: 0 | W15: 7
A16: 桐生市 | C16: =SUM(C17:C18) -> 12334 | D16: =SUM(D17:D18) -> 10453 | E16: =SUM(E17:E18) -> 1790 | F16: =SUM(F17:F18) -> 91 | G16: =SUM(G17:G18) -> 6794 | H16: =SUM(H17:H18) -> 3414 | I16: =SUM(I17:I18) -> 10208 | J16: =SUM(J17:J18) -> 0 | ... W16: =SUM(W17:W18) -> 24
B17: 桐生 | C17: 10013 | D17: 8520 | E17: 1405 | F17: 88 | G17: 5505 | H17: 2382 | I17: 7887 | J17: 0 | K17: 0 | L17: 0 | M17: 1233 | N17: 893 | O17: 2126 | P17: 0 | Q17: 7346 | R17: 96 | S17: 5 | T17: 101 | U17: 14 | V17: 3 | W17: 17
B18: 新里 | C18: 2321 | D18: 1933 | E18: 385 | F18: 3 | G18: 1289 | H18: 1032 | I18: 2321 | J18: 0 | K18: 0 | L18: 0 | M18: 0 | N18: 0 | O18: 0 | P18: 0 | Q18: 2546 | R18: 60 | S18: 2 | T18: 62 | U18: 7 | V18: 0 | W18: 7
A19: 伊勢崎市 | C19: =SUM(C20:C23) -> 19554 | D19: =SUM(D20:D23) -> 16607 | E19: =SUM(E20:E23) -> 1276 | F19: =SUM(F20:F23) -> 1671 | G19: =SUM(G20:G23) -> 11186 | H19: =SUM(H20:H23) -> 6065 | I19: =SUM(I20:I23) -> 17251 | J19: =SUM(J20:J23) -> 0 | ... W19: =SUM(W20:W23) -> 43
B20: 伊勢崎 | C20: 10094 | D20: 7661 | E20: 838 | F20: 1595 | G20: 5163 | H20: 2628 | I20: 7791 | J20: 0 | K20: 0 | L20: 0 | M20: 1141 | N20: 1162 | O20: 2303 | P20: 0 | Q20: 6648 | R20: 109 | S20: 26 | T20: 135 | U20: 16 | V20: 2 | W20: 18
B21: 赤堀 | C21: 3181 | D21: 3038 | E21: 124 | F21: 19 | G21: 1963 | H21: 1218 | I21: 3181 | J21: 0 | K21: 0 | L21: 0 | M21: 0 | N21: 0 | O21: 0 | P21: 0 | Q21: 3052 | R21: 46 | S21: 6 | T21: 52 | U21: 7 | V21: 0 | W21: 7
B22: あずま | C22: 3049 | D22: 2840 | E22: 166 | F22: 43 | G22: 1922 | H22: 1127 | I22: 3049 | J22: 0 | K22: 0 | L22: 0 | M22: 0 | N22: 0 | O22: 0 | P22: 0 | Q22: 2203 | R22: 90 | S22: 4 | T22: 94 | U22: 9 | V22: 0 | W22: 9
B23: 境 | C23: 3230 | D23: 3068 | E23: 148 | F23: 14 | G23: 2138 | H23: 1092 | I23: 3230 | J23: 0 | K23: 0 | L23: 0 | M23: 0 | N23: 0 | O23: 0 | P23: 0 | Q23: 2178 | R23: 86 | S23: 3 | T23: 89 | U23: 9 | V23: 0 | W23: 9
A24: 太田市 | C24: =SUM(C25:C29) -> 23019 | D24: =SUM(D25:D29) -> 21640 | E24: =SUM(E25:E29) -> 1045 | F24: =SUM(F25:F29) -> 334 | G24: =SUM(G25:G29) -> 15855 | H24: =SUM(H25:H29) -> 7164 | I24: =SUM(I25:I29) -> 23019 | J24: =SUM(J25:J29) -> 0 | ... W24: =SUM(W25:W29) -> 48
B25: 太田 | C25: 8600 | D25: 8279 | E25: 213 | F25: 108 | G25: 6091 | H25: 2509 | I25: 8600 | J25: 0 | K25: 0 | L25: 0 | M25: 0 | N25: 0 | O25: 0 | P25: 0 | Q25: 10597 | R25: 95 | S25: 29 | T25: 124 | U25: 11 | V25: 7 | W25: 18
B26: 尾島 | C26: 2954 | D26: 2840 | E26: 88 | F26: 26 | G26: 2025 | H26: 929 | I26: 2954 | J26: 0 | K26: 0 | L26: 0 | M26: 0 | N26: 0 | O26: 0 | P26: 0 | Q26: 3013 | R26: 82 | S26: 2 | T26: 84 | U26: 7 | V26: 0 | W26: 7
B27: 新田 | C27: 6166 | D27: 6019 | E27: 109 | F27: 38 | G27: 4465 | H27: 1701 | I27: 6166 | J27: 0 | K27: 0 | L27: 0 | M27: 0 | N27: 0 | O27: 0 | P27: 0 | Q27: 264 | R27: 89 | S27: 2 | T27: 91 | U27: 8 | V27: 0 | W27: 8
B28: 藪塚 | C28: 3274 | D28: 2855 | E28: 407 | F28: 12 | G28: 2236 | H28: 1038 | I28: 3274 | J28: 0 | K28: 0 | L28: 0 | M28: 0 | N28: 0 | O28: 0 | P28: 0 | Q28: 2428 | R28: 90 | S28: 1 | T28: 91 | U28: 7 | V28: 0 | W28: 7
B29: 太田美 | C29: 2025 | D29: 1647 | E29: 228 | F29: 150 | G29: 1038 | H29: 987 | I29: 2025 | J29: 0 | K29: 0 | L29: 0 | M29: 0 | N29: 0 | O29: 0 | P29: 0 | Q29: 1487 | R29: 266 | S29: 41 | T29: 307 | U29: 8 | V29: 0 | W29: 8
A30: 沼田 | C30: 6490 | D30: 6225 | E30: 265 | F30: 0 | G30: 4467 | H30: 2023 | I30: 6490 | J30: 0 | K30: 0 | L30: 0 | M30: 0 | N30: 0 | O30: 0 | P30: 0 | Q30: 1353 | R30: 140 | S30: 14 | T30: 154 | U30: 12 | V30: 2 | W30: 14
A31: 館林 | C31: 5883 | D31: 5363 | E31: 442 | F31: 78 | G31: 3790 | H31: 1024 | I31: 4814 | J31: 0 | K31: 0 | L31: 0 | M31: 0 | N31: 0 | O31: 0 | P31: 1069 | Q31: 7945 | R31: 73 | S31: 80 | T31: 153 | U31: 12 | V31: 8 | W31: 20
A32: 渋川市 | C32: =SUM(C33:C34) -> 8297 | D32: =SUM(D33:D34) -> 7429 | E32: =SUM(E33:E34) -> 868 | F32: =SUM(F33:F34) -> 0 | G32: =SUM(G33:G34) -> 3445 | H32: =SUM(H33:H34) -> 2055 | I32: =SUM(I33:I34) -> 5500 | J32: =SUM(J33:J34) -> 0 | ... L32: =SUM(L33:L34) -> 0 | M32: - | N32: - | O32: =SUM(O33:O34) -> 2797 | P32: =SUM(P33:P34) -> 0 | Q32: =SUM(Q33:Q34) -> 4968 | R32: =SUM(R33:R34) -> 100 | S32: =SUM(S33:S34) -> 4 | T32: =SUM(T33:T34) -> 104 | U32: =SUM(U33:U34) -> 11 | V32: =SUM(V33:V34) -> 1 | W32: =SUM(W33:W34) -> 12
B33: 渋川 | C33: 7479 | D33: 6726 | E33: 753 | F33: 0 | G33: 3012 | H33: 1670 | I33: 4682 | J33: 0 | K33: 0 | L33: 0 | M33: 1712 | N33: 1085 | O33: 2797 | P33: 0 | Q33: 4488 | R33: 83 | S33: 3 | T33: 86 | U33: 9 | V33: 1 | W33: 10
B34: 北橘 | C34: 818 | D34: 703 | E34: 115 | F34: 0 | G34: 433 | H34: 385 | I34: 818 | J34: 0 | K34: 0 | L34: 0 | M34: 0 | N34: 0 | O34: 0 | P34: 0 | Q34: 480 | R34: 17 | S34: 1 | T34: 18 | U34: 2 | V34: 0 | W34: 2
A35: 藤岡 | C35: 6522 | D35: 6088 | E35: 416 | F35: 18 | G35: 4854 | H35: 1668 | I35: 6522 | J35: 0 | K35: 0 | L35: 0 | M35: 0 | N35: 0 | O35: 0 | P35: 0 | Q35: 5067 | R35: 86 | S35: 40 | T35: 126 | U35: 10 | V35: 5 | W35: 15
A36: 富岡 | C36: 4738 | D36: 4158 | E36: 513 | F36: 67 | G36: 3148 | H36: 1590 | I36: 4738 | J36: 0 | K36: 0 | L36: 0 | M36: 0 | N36: 0 | O36: 0 | P36: 0 | Q36: 13987 | R36: 67 | S36: 0 | T36: 67 | U36: 10 | V36: 4 | W36: 14
A37: 安中市 | C37: =SUM(C38:C39) -> 4638 | D37: =SUM(D38:D39) -> 4352 | E37: =SUM(E38:E39) -> 276 | F37: =SUM(F38:F39) -> 10 | G37: =SUM(G38:G39) -> 3373 | H37: =SUM(H38:H39) -> 1265 | I37: =SUM(I38:I39) -> 4638 | J37: =SUM(J38:J39) -> 0 | ... W37: =SUM(W38:W39) -> 15
B38: 安中 | C38: 2346 | D38: 2158 | E38: 181 | F38: 7 | G38: 1868 | H38: 478 | I38: 2346 | J38: 0 | K38: 0 | L38: 0 | M38: 0 | N38: 0 | O38: 0 | P38: 0 | Q38: 1346 | R38: 60 | S38: 1 | T38: 61 | U38: 10 | V38: 0 | W38: 10
B39: 松井田 | C39: 2292 | D39: 2194 | E39: 95 | F39: 3 | G39: 1505 | H39: 787 | I39: 2292 | J39: 0 | K39: 0 | L39: 0 | M39: 0 | N39: 0 | O39: 0 | P39: 0 | Q39: 1983 | R39: 61 | S39: 5 | T39: 66 | U39: 5 | V39: 0 | W39: 5
A40: みどり市 | C40: =SUM(C41:C42) -> 5899 | D40: =SUM(D41:D42) -> 5091 | E40: =SUM(E41:E42) -> 808 | F40: =SUM(F41:F42) -> 0 | G40: =SUM(G41:G42) -> 4225 | H40: =SUM(H41:H42) -> 1674 | I40: =SUM(I41:I42) -> 5899 | J40: =SUM(J41:J42) -> 0 | ... W40: =SUM(W41:W42) -> 13
...

Sheet 視聴覚資料
A1: 視聴覚資料等所蔵・受入状況
A2: 館 名 | B2: 所蔵数 | G2: (点) | I2: =蔵書Ⅱ!P1 -> 令和8年3月31日現在 | L2: 年 間 受 入 点 数 | S2: (点) | T2: =(貸出サービス概況!AA1) -> 令和7年 | V2: 備 考
B3: 視聴覚資料 | J3: ＣＤーＲＯＭ | K3: ﾏｲｸﾛﾌｨﾙﾑ、 | L3: 視聴覚資料 | T3: ＣＤーＲＯＭ | U3: ﾏｲｸﾛﾌｨﾙﾑ
B4: Ｃ Ｄ | C4: レコード | D4: カセット | E4: ﾋﾞﾃﾞｵ | F4: Ｌ Ｄ | G4: DVD | H4: その他 | I4: 合 計 | J4: ＤＶＤ－ＲＯＭ | K4: ﾌｨｯｼｭ | L4: Ｃ Ｄ | M4: レコード | N4: カセット | O4: ﾋﾞﾃﾞｵ | P4: Ｌ Ｄ | Q4: DVD | R4: その他 | S4: 合 計 | T4: ＤＶＤ－ＲＯＭ | U4: ､ﾌｨｯｼｭ
A5: 前橋 | B5: 11803 | C5: 42 | D5: 42 | E5: 125 | F5: 0 | G5: 2651 | H5: 1021 | I5: 15684 | J5: 93 | K5: 731 | L5: 79 | M5: 0 | N5: 0 | O5: 0 | P5: 0 | Q5: 51 | R5: 0 | S5: 130 | T5: 12 | U5: 0
A6: 前橋こ | B6: 2466 | C6: 0 | D6: 0 | E6: 14 | F6: 0 | G6: 1861 | H6: 0 | I6: 4341 | J6: 0 | K6: 0 | L6: 28 | M6: 0 | N6: 0 | O6: 0 | P6: 0 | Q6: 50 | R6: 0 | S6: 78 | T6: 0 | U6: 0
A7: 前橋分 | B7: 18965 | C7: 0 | D7: 0 | E7: 53 | F7: 0 | G7: 5797 | H7: 0 | I7: 24815 | J7: 0 | K7: 0 | L7: 188 | M7: 0 | N7: 0 | O7: 0 | P7: 0 | Q7: 87 | R7: 0 | S7: 275 | T7: 0 | U7: 0
A8: 高崎 | B8: 57335 | C8: 0 | D8: 1 | E8: 3746 | F8: 0 | G8: 21786 | H8: 0 | I8: 82868 | J8: 25 | K8: 0 | L8: 1247 | M8: 0 | N8: 0 | O8: 0 | P8: 0 | Q8: 653 | R8: 0 | S8: 1900 | T8: 0 | U8: 0
A9: 箕郷 | B9: 2043 | C9: 0 | D9: 7 | E9: 66 | F9: 0 | G9: 1546 | H9: 0 | I9: 3662 | J9: 0 | K9: 0 | L9: 43 | M9: 0 | N9: 0 | O9: 0 | P9: 0 | Q9: 41 | R9: 0 | S9: 84 | T9: 0 | U9: 0
A10: 群馬 | B10: 5463 | C10: 0 | D10: 2 | E10: 947 | F10: 0 | G10: 1902 | H10: 0 | I10: 8314 | J10: 0 | K10: 0 | L10: 84 | M10: 0 | N10: 0 | O10: 0 | P10: 0 | Q10: 72 | R10: 0 | S10: 156 | T10: 0 | U10: 0
A11: 新町 | B11: 4445 | C11: 0 | D11: 0 | E11: 45 | F11: 0 | G11: 2199 | H11: 0 | I11: 6689 | J11: 0 | K11: 0 | L11: 92 | M11: 0 | N11: 0 | O11: 0 | P11: 0 | Q11: 41 | R11: 0 | S11: 133 | T11: 0 | U11: 0
A12: 榛名 | B12: 1565 | C12: 0 | D12: 0 | E12: 101 | F12: 0 | G12: 1297 | H12: 0 | I12: 2963 | J12: 0 | K12: 0 | L12: 30 | M12: 0 | N12: 0 | O12: 0 | P12: 0 | Q12: 42 | R12: 0 | S12: 72 | T12: 0 | U12: 0
A13: 吉井 | B13: 1878 | C13: 0 | D13: 0 | E13: 3 | F13: 0 | G13: 1765 | H13: 0 | I13: 3646 | J13: 0 | K13: 0 | L13: 36 | M13: 0 | N13: 0 | O13: 0 | P13: 0 | Q13: 64 | R13: 0 | S13: 100 | T13: 0 | U13: 0
A14: 桐生 | B14: 2775 | C14: 6646 | D14: 1 | E14: 50 | F14: 0 | G14: 1516 | H14: 0 | I14: 10988 | J14: 263 | K14: 369 | L14: 134 | M14: 0 | N14: 0 | O14: 0 | P14: 0 | Q14: 31 | R14: 0 | S14: 165 | T14: 0 | U14: 0
A15: 新里 | B15: 2321 | C15: 0 | D15: 0 | E15: 17 | F15: 0 | G15: 903 | H15: 0 | I15: 3241 | J15: 19 | K15: 0 | L15: 70 | M15: 0 | N15: 0 | O15: 0 | P15: 0 | Q15: 35 | R15: 0 | S15: 105 | T15: 0 | U15: 0
A16: 伊勢崎 | B16: 9909 | C16: 0 | D16: 116 | E16: 930 | F16: 0 | G16: 3914 | H16: 1480 | I16: 16349 | J16: 197 | K16: 0 | L16: 261 | M16: 0 | N16: 0 | O16: 0 | P16: 0 | Q16: 122 | R16: 19 | S16: 402 | T16: 18 | U16: 0
A17: 赤堀 | B17: 3604 | C17: 0 | D17: 1 | E17: 85 | F17: 0 | G17: 2035 | H17: 0 | I17: 5725 | J17: 12 | K17: - | L17: 81 | M17: 0 | N17: 0 | O17: 0 | P17: 0 | Q17: 75 | R17: 0 | S17: 156 | T17: 0 | U17: -
A18: あずま | B18: 5363 | C18: 0 | D18: 65 | E18: 293 | F18: 0 | G18: 2101 | H18: 0 | I18: 7822 | J18: 13 | K18: 0 | L18: 101 | M18: 0 | N18: 0 | O18: 0 | P18: 0 | Q18: 77 | R18: 0 | S18: 178 | T18: 0 | U18: 0
A19: 境 | B19: 4260 | C19: 0 | D19: 4 | E19: 498 | F19: 0 | G19: 2302 | H19: 0 | I19: 7064 | J19: 18 | K19: 0 | L19: 105 | M19: 0 | N19: 0 | O19: 0 | P19: 0 | Q19: 95 | R19: 0 | S19: 200 | T19: 0 | U19: 0
A20: 太田 | B20: 10010 | C20: 0 | D20: 8 | E20: 247 | F20: 495 | G20: 4441 | H20: 0 | I20: 15201 | J20: 25 | K20: 685 | L20: 154 | M20: 0 | N20: 0 | O20: 0 | P20: 0 | Q20: 186 | R20: 0 | S20: 340 | T20: 0 | U20: 0
A21: 尾島 | B21: 2853 | C21: 0 | D21: 0 | E21: 123 | F21: 0 | G21: 1704 | H21: 0 | I21: 4680 | J21: 0 | K21: 0 | L21: 47 | M21: 0 | N21: 0 | O21: 0 | P21: 0 | Q21: 72 | R21: 0 | S21: 119 | T21: 0 | U21: 0
A22: 新田 | B22: 8925 | C22: 0 | D22: 2 | E22: 40 | F22: 0 | G22: 3277 | H22: 0 | I22: 12244 | J22: 0 | K22: 0 | L22: 149 | M22: 0 | N22: 0 | O22: 0 | P22: 0 | Q22: 174 | R22: 0 | S22: 323 | T22: 0 | U22: 0
A23: 藪塚 | B23: 2258 | C23: 0 | D23: 0 | E23: 388 | F23: 0 | G23: 1371 | H23: 0 | I23: 4017 | J23: 0 | K23: 0 | L23: 77 | M23: 0 | N23: 0 | O23: 0 | P23: 0 | Q23: 74 | R23: 0 | S23: 151 | T23: 0 | U23: 0
A24: 太田美 | B24: 0 | C24: 0 | D24: 0 | E24: 0 | F24: 0 | G24: 236 | H24: 0 | I24: 236 | J24: 0 | K24: 0 | L24: 0 | M24: 0 | N24: 0 | O24: 0 | P24: 0 | Q24: 13 | R24: 0 | S24: 13 | T24: 0 | U24: 0
A25: 沼田 | B25: 12864 | C25: 0 | D25: 719 | E25: 4311 | F25: 420 | G25: 2366 | H25: 0 | I25: 20680 | J25: 25 | K25: 528 | L25: 86 | M25: 0 | N25: 0 | O25: 0 | P25: 0 | Q25: 56 | R25: 0 | S25: 142 | T25: 0 | U25: 0
A26: 館林 | B26: 7417 | C26: 0 | D26: 510 | E26: 3018 | F26: 560 | G26: 2223 | H26: 1630 | I26: 15358 | J26: 110 | K26: 0 | L26: 117 | M26: 0 | N26: 0 | O26: 0 | P26: 0 | Q26: 97 | R26: 0 | S26: 214 | T26: 0 | U26: 0
A27: 渋川 | B27: 8125 | C27: 1195 | D27: 59 | E27: 0 | F27: 0 | G27: 3815 | H27: 0 | I27: 13194 | J27: 0 | K27: 0 | L27: 80 | M27: 0 | N27: 0 | O27: 0 | P27: 0 | Q27: 140 | R27: 0 | S27: 220 | T27: 0 | U27: 0
A28: 北橘 | B28: 54 | C28: 0 | D28: 0 | E28: 3 | F28: 0 | G28: 690 | H28: 0 | I28: 747 | J28: 0 | K28: 0 | L28: 0 | M28: 0 | N28: 0 | O28: 0 | P28: 0 | Q28: 34 | R28: 0 | S28: 34 | T28: 0 | U28: 0
A29: 藤岡 | B29: 7731 | C29: 0 | D29: 240 | E29: 0 | F29: 0 | G29: 3719 | H29: 0 | I29: 11690 | J29: 57 | K29: 0 | L29: 117 | M29: 0 | N29: 0 | O29: 0 | P29: 0 | Q29: 154 | R29: 0 | S29: 271 | T29: 4 | U29: 0
... A45: 邑楽 | B45: 8363 | C45: 0 | D45: 472 | E45: 1915 | F45: 464 | G45: 2020 | H45: 0 | I45: 13234 | J45: 0 | K45: 0 | L45: 147 | M45: 0 | N45: 0 | O45: 0 | P45: 0 | Q45: 99 | R45: 0 | S45: 246 | T45: 0 | U45: 0
A46: 計 | B46: =SUM(B5:B45) -> 253023 | C46: =SUM(C5:C45) -> 7883 | D46: =SUM(D5:D45) -> 2665 | E46: =SUM(E5:E45) -> 26693 | F46: =SUM(F5:F45) -> 2270 | G46: =SUM(G5:G45) -> 104660 | H46: =SUM(H5:H45) -> 4142 | I46: =SUM(I5:I45) -> 401336 | ... U46: =SUM(U5:U45) -> 0
A47: 県議会 | B47: 7 | C47: 0 | D47: 3 | E47: 632 | F47: 0 | G47: 1025 | H47: 0 | I47: 1667 | J47: 18 | K47: 0 | L47: 0 | M47: 0 | N47: 0 | O47: 0 | P47: 0 | Q47: 40 | R47: 0 | S47: 40 | T47: 0 | U47: 0
A48: 点字 | B48: 0 | C48: 0 | D48: 0 | E48: 0 | F48: 0 | G48: 0 | H48: 0 | I48: 0 | J48: 0 | K48: 0 | L48: 0 | M48: 0 | N48: 0 | O48: 0 | P48: 0 | Q48: 0 | R48: 0 | S48: 0 | T48: 0 | U48: 0
A49: 県立 | B49: 27543 | C49: 13913 | D49: 96 | E49: 5393 | F49: 182 | G49: 2570 | I49: 49697 | J49: 1629 | K49: 8092 | L49: 143 | M49: 0 | N49: 0 | O49: 0 | P49: 0 | Q49: 14 | R49: 0 | S49: 157 | T49: 25 | U49: 6
A50: 小計 | B50: =SUM(B47:B49) -> 27550 | C50: =SUM(C47:C49) -> 13913 | D50: =SUM(D47:D49) -> 99 | E50: =SUM(E47:E49) -> 6025 | F50: =SUM(F47:F49) -> 182 | G50: =SUM(G47:G49) -> 3595 | H50: =SUM(H47:H49) -> 0 | I50: =SUM(I47:I49) -> 51364 | ... U50: =SUM(U47:U49) -> 6
A51: 合計 | B51: =B46+B50 -> 280573 | C51: =C46+C50 -> 21796 | D51: =D46+D50 -> 2764 | E51: =E46+E50 -> 32718 | F51: =F46+F50 -> 2452 | G51: =G46+G50 -> 108255 | H51: =H46+H50 -> 4142 | I51: =I46+I50 -> 452700 | ... U51: =U46+U50 -> 6

Sheet 個人登録・個人貸出Ⅰ
A1: 本館個人利用登録 | H1: =貸出サービス概況!AA1 -> 令和7年 | J1: 本館個人貸出Ⅰ | O1: =貸出サービス概況!AA1 -> 令和7年
A2: 館 名 | B2: 登録者数 | E2: (人) | F2: 登録開始年齢 | G2: 利用有効期間 | H2: 備 考 | J2: 館 名 | K2: 貸出冊数 | N2: (冊) | O2: 備 考
B3: 一般 | C3: 学生 | D3: 児童 | E3: 総 計 | H3: （学生の区分） | K3: 一 般 | L3: 学 生 | M3: 児 童 | N3: 総 計
A4: 前橋 | B4: 148174 | C4: 15565 | D4: 10414 | E4: 174153 | F4: 0 | G4: 3 | H4: 13歳〜18歳 | J4: 前橋 | K4: 230343 | L4: 6387 | M4: 14897 | N4: 251627
A5: 前橋こ | B5: − | C5: − | D5: − | E5: 0 | F5: 0 | G5: 3 | H5: 中央館で一括計上 | J5: 前橋こ | K5: 111606 | L5: 6434 | M5: 68795 | N5: 186835
A6: 前橋分 | B6: − | C6: − | D6: − | E6: 0 | F6: 0 | G6: 3 | H6: 中央館で一括計上 | J6: 前橋分 | K6: 774015 | L6: 33426 | M6: 217424 | N6: 1024865
A7: 高崎 | B7: 81208 | C7: 4705 | D7: 4626 | E7: 90539 | F7: 0 | G7: 3 | H7: 13～18歳 | J7: 高崎 | K7: 805254 | L7: 29908 | M7: 120940 | N7: 956102
A8: 箕郷 | B8: 3654 | C8: 390 | D8: 378 | E8: 4422 | F8: 0 | G8: 3 | H8: 13～18歳 | J8: 箕郷 | K8: 57185 | L8: 1602 | M8: 11381 | N8: 70168
A9: 群馬 | B9: 9983 | C9: 1048 | D9: 995 | E9: 12026 | F9: 0 | G9: 3 | H9: 13～18歳 | J9: 群馬 | K9: 145463 | L9: 3295 | M9: 26152 | N9: 174910
A10: 新町 | B10: 5793 | C10: 537 | D10: 428 | E10: 6758 | F10: 0 | G10: 3 | H10: 13～18歳 | J10: 新町 | K10: 73843 | L10: 1812 | M10: 9043 | N10: 84698
A11: 榛名 | B11: 3510 | C11: 487 | D11: 252 | E11: 4249 | F11: 0 | G11: 3 | H11: 13～18歳 | J11: 榛名 | K11: 37000 | L11: 651 | M11: 6275 | N11: 43926
A12: 吉井 | B12: 3357 | C12: 725 | D12: 522 | E12: 4604 | F12: 0 | G12: 3 | H12: 13～18歳 | J12: 吉井 | K12: 51783 | L12: 1090 | M12: 11833 | N12: 64706
A13: 桐生 | B13: 52888 | C13: 4712 | D13: 3657 | E13: 61257 | F13: 0 | G13: 7 | H13: 13-18歳 | J13: 桐生 | K13: 165032 | L13: 4098 | M13: 20452 | N13: 189582
A14: 新里 | B14: 5913 | C14: 354 | D14: 424 | E14: 6691 | F14: 0 | G14: 7 | H14: 13-18歳 | J14: 新里 | K14: 37774 | L14: 1756 | M14: 8213 | N14: 47743
A15: 伊勢崎 | B15: 41775 | C15: 2895 | D15: 2428 | E15: 47098 | F15: 0 | G15: 3 | H15: 13～18歳 | J15: 伊勢崎 | K15: 269837 | L15: 10604 | M15: 71355 | N15: 351796
A16: 赤堀 | B16: 8864 | C16: 1052 | D16: 829 | E16: 10745 | F16: 0 | G16: 3 | H16: 13～18歳 | J16: 赤堀 | K16: 64752 | L16: 3401 | M16: 26318 | N16: 94471
A17: あずま | B17: 18789 | C17: 2203 | D17: 1548 | E17: 22540 | F17: 0 | G17: 3 | H17: 13～18歳 | J17: あずま | K17: 105315 | L17: 3455 | M17: 29574 | N17: 138344
A18: 境 | B18: 12206 | C18: 1056 | D18: 767 | E18: 14029 | F18: 0 | G18: 3 | H18: 13～18歳 | J18: 境 | K18: 90046 | L18: 3830 | M18: 20312 | N18: 114188
... A23: 太田美 | B23: 12712 | C23: 2641 | D23: 1736 | E23: 17089 | F23: 0 | G23: 5 | H23: 13～22歳 | J23: 太田美 | K23: 31127 | L23: 2148 | M23: 16682 | N23: 49957
A24: 沼田 | B24: 46180 | C24: 2492 | D24: 2228 | E24: 50900 | F24: 0 | G24: 永 | H24: 12～17を学生とする | J24: 沼田 | K24: 157098 | L24: 5915 | M24: 67405 | N24: 230418
A25: 館林 | B25: 61842 | C25: 2394 | D25: 1486 | E25: 65722 | F25: 0 | G25: 2 | J25: 館林 | K25: 143786 | L25: 3037 | M25: 33011 | N25: 179834
A26: 渋川 | B26: 32127 | C26: 1682 | D26: 1679 | E26: 35488 | F26: 0 | G26: 3 | H26: 13～18歳 | J26: 渋川 | K26: 146956 | L26: 6007 | M26: 42218 | N26: 195181
A27: 北橘 | B27: 4039 | C27: 346 | D27: 337 | E27: 4722 | F27: 0 | G27: 2 | J27: 北橘 | K27: 9815 | L27: 491 | M27: 7062 | N27: 17368
A28: 藤岡 | B28: 10827 | C28: 2336 | D28: 2379 | E28: 15542 | F28: 0 | G28: 5 | H28: 13～18歳 | J28: 藤岡 | K28: 196016 | L28: 5984 | M28: 36500 | N28: 238500
A29: 富岡 | B29: 36383 | C29: 4018 | D29: 1901 | E29: 42302 | F29: 0 | G29: 5 | H29: 13～22歳 | J29: 富岡 | K29: 127237 | L29: 6699 | M29: 40514 | N29: 174450
A30: 安中 | B30: 14145 | C30: 1022 | D30: 755 | E30: 15922 | F30: 0 | G30: 5 | H30: 13～22才 | J30: 安中 | K30: 70543 | L30: 2051 | M30: 14706 | N30: 87300
A31: 松井田 | B31: 9912 | C31: 532 | D31: 400 | E31: 10844 | F31: 0 | G31: 永 | H31: 13～22才 | J31: 松井田 | K31: 40513 | L31: 1315 | M31: 11169 | N31: 52997
A32: 笠懸 | B32: 5401 | C32: 1119 | D32: 1604 | E32: 8124 | F32: 0 | G32: 3 | H32: 12～19歳 | J32: 笠懸 | K32: 114209 | L32: 8511 | M32: 42266 | N32: 164986
A33: 大間々 | B33: 4112 | C33: 775 | D33: 534 | E33: 5421 | F33: 0 | G33: 3 | H33: 12～19歳 | J33: 大間々 | K33: 75773 | L33: 7951 | M33: 23096 | N33: 106820
A34: 吉岡 | B34: 4426 | C34: 712 | D34: 1870 | E34: 7008 | F34: 0 | G34: 5 | H34: 13～22歳 | J34: 吉岡 | K34: 112039 | L34: 5007 | M34: 62869 | N34: 179915
A35: 上野 | B35: 860 | E35: 860 | F35: 0 | G35: 永 | J35: 上野 | K35: 3288 | M35: 2564 | N35: 5852
A36: 神流 | B36: 1328 | C36: 14 | D36: 35 | E36: 1377 | F36: 6 | G36: 永 | J36: 神流 | K36: 1238 | L36: 11 | M36: 149 | N36: 1398
A37: 甘楽 | B37: 9579 | C37: 844 | D37: 796 | E37: 11219 | F37: 0 | G37: 5 | H37: 13～18歳 | J37: 甘楽 | K37: 22488 | L37: 4066 | M37: 57067 | N37: 83621
A38: 中之条 | B38: 22973 | C38: 1574 | D38: 812 | E38: 25359 | F38: 0 | G38: 永 | H38: 12～19歳 | J38: 中之条 | K38: 76681 | L38: 4691 | M38: 28501 | N38: 109873
A39: 草津 | B39: 14139 | C39: 198 | D39: 77 | E39: 14414 | F39: 0 | G39: 永 | H39: 13-18歳 | J39: 草津 | K39: 18482 | L39: 113 | M39: 971 | N39: 19566
A40: 玉村 | B40: 41980 | C40: 3220 | D40: 1629 | E40: 46829 | F40: 0 | G40: 3 | H40: 13～22歳 | J40: 玉村 | K40: 186943 | L40: 6741 | M40: 37796 | N40: 231480
A41: 明和 | B41: 10930 | C41: 1042 | D41: 426 | E41: 12398 | F41: 0 | G41: 永 | H41: １３歳～２２歳 | J41: 明和 | K41: 26459 | L41: 1295 | M41: 9090 | N41: 36844
A42: 千代田 | B42: 5409 | C42: 494 | D42: 138 | E42: 6041 | F42: 13 | G42: 永 | H42: 13～18歳 | J42: 千代田 | K42: 14099 | L42: 195 | M42: 1989 | N42: 16283
A43: 大泉 | B43: 53209 | C43: 1625 | D43: 3473 | E43: 58307 | F43: 0 | G43: 5 | H43: 13～18歳 | J43: 大泉 | K43: 90842 | L43: 879 | M43: 28973 | N43: 120694
A44: 邑楽 | B44: 60789 | C44: 2173 | D44: 1390 | E44: 64352 | F44: 0 | G44: 5 | J44: 邑楽 | K44: 176457 | L44: 5637 | M44: 38399 | N44: 220493
...

Sheet 個人貸出Ⅱ
A1: 本館個人貸出Ⅱ | S1: =貸出サービス概況!AA1 -> 令和7年
A2: 館 名 | B2: 分 類 別 貸 出 冊 数 | Q2: (冊)
B3: 総 記 | C3: 宗教哲学 | D3: 歴史地理 | E3: 社会科学 | F3: 自然科学 | G3: 技術工学 | H3: 産 業 | I3: 芸術ｽﾎﾟｰﾂ | J3: 言 語 | K3: 文 学 | L3: 郷土資料 | M3: 児 童 | N3: 紙芝居 | O3: 洋 書 | P3: 雑誌等 | Q3: その他 | R3: 合 計 | S3: 備 考
B4: 0 | C4: 1 | D4: 2 | E4: 3 | F4: 4 | G4: 5 | H4: 6 | I4: 7 | J4: 8 | K4: 9
A5: 前橋 | B5: 3606 | C5: 6703 | D5: 21195 | E5: 15731 | F5: 10486 | G5: 20217 | H5: 5496 | I5: 12910 | J5: 2184 | K5: 88419 | L5: 569 | M5: 28664 | N5: 250 | O5: 628 | P5: 13893 | Q5: 20676 | R5: 251627
A6: 前橋こ | B6: 290 | C6: 412 | D6: 1443 | E6: 2761 | F6: 652 | G6: 3217 | H6: 253 | I6: 1142 | J6: 82 | K6: 1605 | L6: 100 | M6: 165466 | N6: 2352 | O6: 1206 | P6: 902 | Q6: 4952 | R6: 186835
A7: 前橋分 | B7: 7651 | C7: 16368 | D7: 45376 | E7: 33685 | F7: 29807 | G7: 60803 | H7: 12979 | I7: 26251 | J7: 5068 | K7: 223988 | L7: 1934 | M7: 427198 | N7: 5850 | O7: 508 | P7: 48728 | Q7: 78671 | R7: 1024865
A8: 高崎 | B8: 13054 | C8: 34548 | D8: 49690 | E8: 59210 | F8: 41118 | G8: 76540 | H8: 21121 | I8: 45109 | J8: 10752 | K8: 247754 | L8: 6097 | M8: 305046 | N8: 3337 | O8: 1006 | P8: 41608 | Q8: 112 | R8: 956102
A9: 箕郷 | B9: 527 | C9: 1594 | D9: 2842 | E9: 2942 | F9: 2857 | G9: 4411 | H9: 1038 | I9: 3997 | J9: 417 | K9: 18482 | L9: 806 | M9: 26159 | N9: 426 | O9: 14 | P9: 3656 | Q9: 0 | R9: 70168
A10: 群馬 | B10: 1486 | C10: 3892 | D10: 7048 | E10: 8076 | F10: 6173 | G10: 12201 | H10: 2810 | I10: 5614 | J10: 822 | K10: 42825 | L10: 879 | M10: 68899 | N10: 1493 | O10: 33 | P10: 12652 | Q10: 7 | R10: 174910
A11: 新町 | B11: 689 | C11: 2175 | D11: 4714 | E11: 3058 | F11: 3147 | G11: 4499 | H11: 1357 | I11: 3191 | J11: 518 | K11: 24949 | L11: 639 | M11: 29215 | N11: 414 | O11: 5 | P11: 6126 | Q11: 2 | R11: 84698
A12: 榛名 | B12: 328 | C12: 778 | D12: 1903 | E12: 1574 | F12: 1222 | G12: 2113 | H12: 703 | I12: 1297 | J12: 335 | K12: 14271 | L12: 314 | M12: 16426 | N12: 270 | O12: 6 | P12: 2382 | Q12: 4 | R12: 43926
A13: 吉井 | B13: 459 | C13: 1243 | D13: 2801 | E13: 2410 | F13: 2063 | G13: 3464 | H13: 838 | I13: 1911 | J13: 303 | K13: 15854 | L13: 658 | M13: 27970 | N13: 407 | O13: 1 | P13: 4323 | Q13: 1 | R13: 64706
A14: 桐生 | B14: 2450 | C14: 4811 | D14: 10107 | E14: 8699 | F14: 8915 | G14: 14110 | H14: 3342 | I14: 17942 | J14: 1317 | K14: 52025 | L14: 1322 | M14: 51458 | N14: 1345 | O14: 363 | P14: 11361 | Q14: 15 | R14: 189582
A15: 新里 | B15: 371 | C15: 855 | D15: 2182 | E15: 1242 | F15: 1142 | G15: 2441 | H15: 521 | I15: 4657 | J15: 125 | K15: 9717 | L15: 130 | M15: 20310 | N15: 371 | O15: 8 | P15: 3622 | Q15: 49 | R15: 47743
A16: 伊勢崎 | B16: 2995 | C16: 7602 | D16: 14061 | E16: 17543 | F16: 12751 | G16: 20990 | H16: 5438 | I16: 28972 | J16: 2430 | K16: 91195 | L16: 4285 | M16: 131095 | N16: 2321 | O16: 971 | P16: 9146 | Q16: 1 | R16: 351796
... A24: 太田美 | B24: 450 | C24: 521 | D24: 1087 | E24: 1559 | F24: 818 | G24: 2587 | H24: 437 | I24: 3081 | J24: 179 | K24: 366 | L24: 84 | M24: 38788 | N24: 0 | O24: 0 | P24: 0 | Q24: 0 | R24: 49957
A25: 沼田 | B25: 1885 | C25: 3871 | D25: 10158 | E25: 8092 | F25: 8447 | G25: 14895 | H25: 4593 | I25: 20035 | J25: 1370 | K25: 56293 | L25: - | M25: 87587 | N25: 1764 | O25: - | P25: 11428 | Q25: - | R25: 230418
A26: 館林 | B26: 1670 | C26: 3721 | D26: 10439 | E26: 6905 | F26: 6146 | G26: 8393 | H26: 2254 | I26: 7327 | J26: 973 | K26: 51643 | L26: 60 | M26: 73472 | N26: 1191 | O26: 85 | P26: 5389 | Q26: 166 | R26: 179834
A27: 渋川 | B27: 1065 | C27: 3488 | D27: 7178 | E27: 6035 | F27: 5976 | G27: 9420 | H27: 2629 | I27: 6987 | J27: 895 | K27: 67729 | L27: 928 | M27: 75329 | N27: 1213 | O27: - | P27: 6309 | Q27: 0 | R27: 195181
A28: 北橘 | B28: 47 | C28: 221 | D28: 319 | E28: 198 | F28: 322 | G28: 685 | H28: 175 | I28: 409 | J28: 18 | K28: 3908 | L28: 76 | M28: 10099 | N28: 30 | O28: 0 | P28: 860 | Q28: 0 | R28: 17367
A29: 藤岡 | B29: 1654 | C29: 5444 | D29: 10785 | E29: 11469 | F29: 9600 | G29: 16919 | H29: 4200 | I29: 16305 | J29: 1133 | K29: 58577 | L29: 426 | M29: 86648 | N29: 2077 | O29: - | P29: 13263 | Q29: - | R29: 238500
A30: 富岡 | B30: 819 | C30: 2152 | D30: 9068 | E30: 5136 | F30: 5291 | G30: 11086 | H30: 3498 | I30: 5130 | J30: 751 | K30: 38225 | L30: 901 | M30: 69924 | N30: 1297 | O30: 160 | P30: 5578 | Q30: 15434 | R30: 174450
A31: 安中 | B31: 799 | C31: 1912 | D31: 5361 | E31: 3828 | F31: 3345 | G31: 6433 | H31: 1860 | I31: 5345 | J31: 486 | K31: 28672 | L31: 179 | M31: 23195 | N31: 421 | O31: 0 | P31: 5457 | Q31: 7 | R31: 87300
A32: 松井田 | B32: 442 | C32: 861 | D32: 2429 | E32: 1646 | F32: 1427 | G32: 3576 | H32: 1022 | I32: 2420 | J32: 169 | K32: 16853 | L32: 146 | M32: 17800 | N32: 254 | O32: 0 | P32: 3864 | Q32: 88 | R32: 52997
A33: 笠懸 | B33: 944 | C33: 2837 | D33: 9028 | E33: 3817 | F33: 39264 | G33: 11016 | H33: 2576 | I33: 4648 | J33: 425 | K33: 34857 | L33: 89 | M33: 49558 | N33: 659 | O33: 24 | P33: 5181 | Q33: 63 | R33: 164986
A34: 大間々 | B34: 478 | C34: 1481 | D34: 4433 | E34: 2754 | F34: 29180 | G34: 5492 | H34: 1198 | I34: 2078 | J34: 247 | K34: 25243 | L34: 28 | M34: 28145 | N34: 574 | O34: 1 | P34: 5462 | Q34: 26 | R34: 106820
A35: 吉岡 | B35: 1240 | C35: 3634 | D35: 7115 | E35: 5658 | F35: 6615 | G35: 11965 | H35: 3251 | I35: 18280 | J35: 788 | K35: 28842 | L35: 105 | M35: 82532 | N35: 1664 | O35: 0 | P35: 7908 | Q35: 318 | R35: 179915
A36: 上野 | B36: 17 | C36: 19 | D36: 126 | E36: 110 | F36: 174 | G36: 295 | H36: 133 | I36: 1362 | J36: 13 | K36: 916 | L36: 0 | M36: 50 | N36: 0 | O36: 0 | P36: 200 | Q36: 2437 | R36: 5852
A37: 神流 | B37: 57 | C37: 7 | D37: 10 | E37: 17 | F37: 70 | G37: 116 | H37: 25 | I37: 71 | J37: 2 | K37: 1023 | L37: 0 | M37: 0 | N37: 0 | O37: 0 | P37: 0 | Q37: 0 | R37: 1398
A38: 甘楽 | B38: 285 | C38: 886 | D38: 2323 | E38: 1481 | F38: 1489 | G38: 2622 | H38: 788 | I38: 13700 | J38: 253 | K38: 20440 | L38: 310 | M38: 34057 | N38: 433 | O38: 0 | P38: 3995 | Q38: 559 | R38: 83621
A39: 中之条 | B39: 570 | C39: 1477 | D39: 4653 | E39: 3273 | F39: 3718 | G39: 6828 | H39: 1974 | I39: 5734 | J39: 452 | K39: 30618 | L39: 0 | M39: 46592 | N39: 0 | O39: 0 | P39: 3984 | Q39: 0 | R39: 109873
A40: 草津 | B40: 891 | C40: 417 | D40: 812 | E40: 478 | F40: 416 | G40: 638 | H40: 62 | I40: 1271 | J40: 122 | K40: 11729 | L40: 162 | M40: 2102 | N40: 11 | O40: 30 | P40: 160 | Q40: 265 | R40: 19566 | S40: その他＝YA
A41: 玉村 | B41: 2156 | C41: 4707 | D41: 8914 | E41: 8750 | F41: 7905 | G41: 14710 | H41: 3227 | I41: 6629 | J41: 1191 | K41: 57320 | L41: 1149 | M41: 92523 | N41: 1455 | O41: 16 | P41: 13825 | Q41: 7003 | R41: 231480
A42: 明和 | B42: 211 | C42: 595 | D42: 1134 | E42: 836 | F42: 691 | G42: 1911 | H42: 439 | I42: 965 | J42: 108 | K42: 11211 | L42: 22 | M42: 13621 | N42: 191 | O42: 0 | P42: 1530 | Q42: 3379 | R42: 36844
A43: 千代田 | B43: 798 | C43: 285 | D43: 842 | E43: 354 | F43: 353 | G43: 562 | H43: 169 | I43: 1287 | J43: 17 | K43: 4782 | L43: 25 | M43: 5794 | N43: 112 | O43: 0 | P43: 761 | Q43: 142 | R43: 16283
A44: 大泉 | B44: 1015 | C44: 2245 | D44: 6138 | E44: 5422 | F44: 4299 | G44: 6299 | H44: 2070 | I44: 4561 | J44: 986 | K44: 29664 | L44: 280 | M44: 46802 | N44: 953 | O44: 465 | P44: 4769 | Q44: 4726 | R44: 120694
A45: 邑楽 | B45: 2208 | C45: 5746 | D45: 11302 | E45: 8821 | F45: 10528 | G45: 18117 | H45: 4990 | I45: 30829 | J45: 1088 | K45: 49607 | L45: 47 | M45: 65998 | N45: 1333 | O45: 0 | P45: 9785 | Q45: 94 | R45: 220493
A46: 計 | B46: =SUM(B5:B45) -> 63783 | C46: =SUM(C5:C45) -> 149769 | D46: =SUM(D5:D45) -> 336239 | E46: =SUM(E5:E45) -> 286279 | F46: =SUM(F5:F45) -> 301372 | G46: =SUM(G5:G45) -> 449483 | H46: =SUM(H5:H45) -> 115647 | I46: =SUM(I5:I45) -> 387503 | ... R46: =SUM(R5:R45) -> 6981017
A47: 県議会 | B47: 8 | C47: 31 | D47: 22 | E47: 151 | F47: 15 | G47: 7 | H47: 16 | I47: 15 | J47: 1 | K47: 19 | L47: 26 | M47: 0 | N47: 0 | O47: 0 | P47: 52 | Q47: 6 | R47: 369
...

Sheet 自動車図書館等
A1: 自動車図書館・分室・サービスポイント・団体貸出 | N1: =貸出サービス概況!AA1 -> 令和7年
A2: 館 名 | B2: 自 動 車 図 書 館 | J2: 分室、ＳＰ | K2: 団体貸出
B3: 自動車図書館車名 | C3: 台数 | D3: 乗務員 | E3: 積載図書冊数 | F3: 巡回間隔 | G3: 巡回駐車場数 | H3: 巡回対象地域 | I3: 貸出冊数 | J3: 貸出冊数 | K3: 団体数 | L3: 貸出回数 | M3: 貸出数 | N3: 備 考
C4: (台) | D4: (人) | E4: (冊) | F4: （ｎ日に一度） | I4: (冊) | J4: 合計（冊） | K4: (団体) | L4: (回) | M4: (点)
A5: 前橋 | C5: 0 | D5: 0 | E5: 0 | F5: 0 | G5: 0 | I5: 0 | J5: 0 | K5: 12 | L5: 42 | M5: 795 | N5: 7カ所：第五コミュニティーセンター、児童文化センター、朝倉児童館、日吉児童館、大友児童館、下小出児童館、粕川児童館
A6: 前橋こ | C6: 0 | D6: 0 | E6: 0 | F6: 0 | G6: 0 | I6: 0 | J6: 0 | K6: 34 | L6: 175 | M6: 18329
A7: 前橋分 | C7: 0 | D7: 0 | E7: 0 | F7: 0 | G7: 0 | I7: 0 | J7: 0 | K7: 46 | L7: 201 | M7: 2624
A8: 高崎 | C8: 0 | D8: 0 | E8: 0 | F8: 0 | G8: 0 | I8: 0 | J8: 102038 | K8: 82 | L8: - | M8: 4360 | P8: （分室、SP）２カ所：高崎駅サービスセンター・倉賀野公民館
A9: 箕郷 | C9: 0 | D9: 0 | E9: 0 | F9: 0 | G9: 0 | I9: 0 | J9: 0 | K9: 10 | L9: - | M9: 1541
A10: 群馬 | C10: 0 | D10: 0 | E10: 0 | F10: 0 | G10: 0 | I10: 0 | J10: 0 | K10: 23 | L10: - | M10: 3702
A11: 新町 | C11: 0 | D11: 0 | E11: 0 | F11: 0 | G11: 0 | I11: 0 | J11: 0 | K11: 5 | L11: - | M11: 601
A12: 榛名 | C12: 0 | D12: 0 | E12: 0 | F12: 0 | G12: 0 | I12: 0 | J12: 0 | K12: 16 | L12: - | M12: 800
A13: 吉井 | C13: 0 | D13: 0 | E13: 0 | F13: 0 | G13: 0 | I13: 0 | J13: 0 | K13: 12 | L13: - | M13: 1389
A14: 桐生 | C14: 0 | D14: 0 | E14: 0 | F14: 0 | G14: 0 | I14: 0 | J14: 7804 | K14: 118 | L14: － | M14: 17242 | P14: (分室､SP)14カ所：市内の公民館14館
A15: 新里 | C15: 0 | D15: 0 | E15: 0 | F15: 0 | G15: 0 | I15: 0 | J15: 0 | K15: 49 | L15: － | M15: 1388
A16: 伊勢崎 | C16: 0 | D16: 0 | E16: 0 | F16: 0 | G16: 0 | I16: 0 | J16: 105400 | K16: 77 | L16: 806 | M16: 63555
A17: 赤堀 | C17: 0 | D17: 0 | E17: 0 | F17: 0 | G17: 0 | I17: 0 | J17: 0 | K17: 20 | L17: 261 | M17: 2629
A18: あずま | C18: 0 | D18: 0 | E18: 0 | F18: 0 | G18: 0 | I18: 0 | J18: 0 | K18: 34 | L18: 300 | M18: 4023
A19: 境 | C19: 0 | D19: 0 | E19: 0 | F19: 0 | G19: 0 | I19: 0 | J19: 0 | K19: 18 | L19: 180 | M19: 3041
A20: 太田 | C20: 0 | D20: 0 | E20: 0 | F20: 0 | G20: 0 | I20: 0 | J20: 0 | K20: 47 | L20: 1082 | M20: 9919
A21: 尾島 | C21: 0 | D21: 0 | E21: 0 | F21: 0 | G21: 0 | I21: 0 | J21: 0 | K21: 8 | L21: 35 | M21: 678
A22: 新田 | C22: 0 | D22: 0 | E22: 0 | F22: 0 | G22: 0 | I22: 0 | J22: 0 | K22: 44 | L22: 518 | M22: 3263
A23: 藪塚 | C23: 0 | D23: 0 | E23: 0 | F23: 0 | G23: 0 | I23: 0 | J23: 0 | K23: 18 | L23: 268 | M23: 2307
A24: 太田美 | C24: 0 | D24: 0 | E24: 0 | F24: 0 | G24: 0 | I24: 0 | J24: 0 | K24: 0 | L24: 0 | M24: 0
A25: 沼田 | B25: あかつき号 | C25: 1 | D25: 3 | E25: 2500 | F25: 30 | G25: 44 | H25: 市内 | I25: 9415 | J25: 884 | K25: 83 | L25: 601 | M25: 11251
A26: 館林 | C26: 0 | D26: 0 | E26: 0 | F26: 0 | G26: 0 | I26: 0 | J26: 0 | K26: 51 | L26: 278 | M26: 19387
A27: 渋川 | C27: 0 | D27: 0 | E27: 0 | F27: 0 | G27: 0 | I27: 0 | J27: 35489 | K27: 88 | L27: 820 | M27: 5465
A28: 北橘 | C28: 0 | D28: 0 | E28: 0 | F28: 0 | G28: 0 | I28: 0 | J28: 0 | K28: 83 | L28: 49 | M28: 847
A29: 藤岡 | C29: 0 | D29: 0 | E29: 0 | F29: 0 | G29: 0 | I29: 0 | J29: 0 | K29: 58 | L29: 1099 | M29: 5744
A30: 富岡 | C30: 0 | D30: 0 | E30: 0 | F30: 0 | G30: 0 | I30: 0 | J30: 0 | K30: 35 | L30: 254 | M30: 2474
A31: 安中 | C31: 0 | D31: 0 | E31: 0 | F31: 0 | G31: 0 | I31: 0 | J31: 0 | K31: 56 | L31: 96 | M31: 890
A32: 松井田 | C32: 0 | D32: 0 | E32: 0 | F32: 0 | G32: 0 | I32: 0 | J32: 0 | K32: 52 | L32: 134 | M32: 1550
A33: 笠懸 | C33: 0 | D33: 0 | E33: 0 | F33: 0 | G33: 0 | I33: 0 | J33: 0 | K33: 179 | L33: 539 | M33: 10462
A34: 大間々 | C34: 0 | D34: 0 | E34: 0 | F34: 0 | G34: 0 | I34: 0 | J34: 0 | K34: 107 | L34: 438 | M34: 5779
A35: 吉岡 | C35: 0 | D35: 0 | E35: 0 | F35: 0 | G35: 0 | I35: 0 | J35: 0 | K35: 24 | L35: 2143 | M35: 10178
A36: 上野 | K36: 10 | M36: 99
A37: 神流 | C37: 0 | D37: 0 | E37: 0 | F37: 0 | G37: 0 | I37: 0 | J37: 0 | K37: 0 | L37: 0 | M37: 0
A38: 甘楽 | C38: 0 | D38: 0 | E38: 0 | F38: 0 | G38: 0 | I38: 0 | J38: 0 | K38: 30 | L38: 865 | M38: 5842
A39: 中之条 | C39: 0 | D39: 0 | E39: 0 | F39: 0 | G39: 0 | I39: 0 | J39: 0 | K39: 35 | L39: 522 | M39: 2839
A40: 草津 | C40: 0 | D40: 0 | E40: 0 | F40: 0 | G40: 0 | I40: 0 | J40: 0 | K40: 6 | M40: 322
...

Sheet レファレンス
A1: レファレンス等 | Z1: =貸出サービス概況!AA1 -> 令和7年
A2: 館 名 | B2: レ フ ァ レ ン ス | K2: 文 献 複 写 | O2: マイクロフィルム・フィッシュ複写 | Q2: CD-ROM等電子出版物複写 | S2: オンラインデータベース複写 | U2: リ ク エ ス ト | X2: (点) | Y2: 相互貸借 | Z2: 備 考
B3: 受付件数 | C3: 受付区分 | F3: (件) | G3: 内容区分 (件) | I3: 担当者数 (人) | K3: 複写件数 | L3: 複写枚数 | M3: 複写料金（白黒） | N3: カラー複写料金 | O3: コピー枚数 | P3: コピー料金 | Q3: コピー枚数 | R3: コピー料金 | S3: コピー枚数 | T3: コピー料金 | U3: 返却待ち | V3: 購 入 | W3: 相互貸借 | X3: 合 計 | Y3: 貸出数
C4: 口 頭 | D4: 電 話 | E4: 文 書 | F4: e－メール | G4: 利用案内 | H4: 調査相談 | I4: 専 任 | J4: 兼 任 | K4: (冊・点) | L4: (枚) | M4: (円/1枚) | N4: (円/1枚) | O4: (枚) | P4: (円/1枚) | Q4: (枚) | R4: (円/1枚) | S4: (枚) | T4: (円/1枚) | U4: 予約 | V4: 希 望 | W4: 借受数 | Y4: (点)
