Workbook

Sheet 貸出サービス概況
A1: 貸出サービス概況 | AA1: 令和7年
A2: 館名 | C2: 奉仕人口 | D2: 登録者数 | G2: (人) | H2: 有効登録者数（人） | J2: 開館日数 | K2: 来館者数 | L2: 個人貸出人数 | R2: (人) | S2: 貸出数 | T2: （図書＋視聴覚資料等） | Y2: （点） | Z2: 個人貸出 | AA2: 備 考
D3: 本 館 | E3: 自動車図書館 | F3: 分室 ・サービスポイント | G3: 合 計 | I3: うち自治体内登録者 | L3: 本館奉仕 | P3: 自動車図書館 | Q3: 分室 ・サービスポイント | R3: 合 計 | S3: 個人貸出数 | X3: 団体 | Y3: 相互貸借 | Z3: 点数 ／
C4: (人) | J4: (日) | K4: （人） | L4: 一般 | M4: 学生 | N4: 児童 | O4: 合計 | S4: 本 館 | T4: 自動車 | U4: 分室・サービスポイント | V4: 合計 | W4: うち自治体内貸出 | X4: 貸出数 | Y4: 貸出数 | Z4: 奉仕人口
A5: 前橋市 | C5: 323536 | D5: =SUM(D6:D8) -> 174153 | G5: =SUM(G6:G8) -> 174153 | H5: - | I5: - | J5: =SUM(J6:J8) -> 5354 | K5: =SUM(K6:K8) -> 415679 | L5: =SUM(L6:L8) -> 324968 | M5: =SUM(M6:M8) -> 9864 | N5: =SUM(N6:N8) -> 50004 | O5: =SUM(O6:O8) -> 384836 | P5: 0 | Q5: =SUM(Q6:Q8) -> 2658 | R5: =O5+Q5 -> 387494 | S5: =SUM(S6:S8) -> 1576036 | T5: =SUM(T6:T8) -> 0 | U5: =SUM(U6:U8) -> 64 | V5: =SUM(S5:U5) -> 1576100 | W5: 0 | X5: =SUM(X6:X8) -> 21748 | Y5: =SUM(Y6:Y8) -> 1053 | Z5: =ROUNDDOWN(V5/C5,2) -> 4.87
B6: 前橋 | D6: 174153 | E6: 0 | F6: − | G6: 174153 | H6: − | I6: − | J6: 295 | K6: 96644 | L6: 72927 | M6: 1613 | N6: 2700 | O6: 77240 | P6: 0 | Q6: 2658 | R6: 79898 | S6: 289342 | T6: 0 | U6: 64 | V6: 289406 | W6: − | X6: 795 | Y6: 1053
B7: 前橋こ | D7: 0 | E7: 0 | F7: 0 | G7: 0 | H7: − | I7: − | J7: 331 | K7: 86249 | L7: 23126 | M7: 1110 | N7: 11198 | O7: 35434 | P7: 0 | Q7: 0 | R7: 35434 | S7: 203287 | T7: 0 | U7: 0 | V7: 203287 | W7: − | X7: 18329 | Y7: 0
B8: 前橋分 | D8: 0 | E8: 0 | F8: 0 | G8: 0 | H8: − | I8: − | J8: 4728 | K8: 232786 | L8: 228915 | M8: 7141 | N8: 36106 | O8: 272162 | P8: 0 | Q8: 0 | R8: 272162 | S8: 1083407 | T8: 0 | U8: 0 | V8: 1083407 | W8: − | X8: 2624 | Y8: −
A9: 高崎市 | C9: 363916 | D9: =SUM(D10:D15) -> 122598 | E9: =SUM(E10:E15) -> 0 | F9: =SUM(F10:F15) -> 5575 | G9: =SUM(G10:G15) -> 128173 | H9: =SUM(H10:H15) -> 34801 | I9: =SUM(I10:I15) -> 30479 | J9: =SUM(J10:J15) -> 1750 | K9: =SUM(K10:K15) -> 727911 | ... Y9: =SUM(Y10:Y15) -> 1687 | Z9: =ROUNDDOWN(V9/C9,2) -> 4.97
B10: 高崎 | D10: 90539 | E10: 0 | F10: 5575 | G10: 96114 | H10: 26061 | I10: 23057 | J10: 331 | K10: 506121 | L10: 281555 | M10: 9098 | N10: 26861 | O10: 317514 | P10: 0 | Q10: 44241 | R10: 361755 | S10: 1194198 | T10: 0 | U10: 111166 | V10: 1305364 | W10: 1168991 | X10: 4360 | Y10: 1450
B11: 箕郷 | D11: 4422 | E11: 0 | F11: 0 | G11: 4422 | H11: 1194 | I11: 1141 | J11: 284 | K11: 32730 | L11: 17063 | M11: 443 | N11: 1891 | O11: 19397 | P11: 0 | Q11: 0 | R11: 19397 | S11: 80645 | T11: 0 | U11: 0 | V11: 80645 | W11: 77667 | X11: 1541 | Y11: 21
B12: 群馬 | D12: 12026 | E12: 0 | F12: 0 | G12: 12026 | H12: 3409 | I12: 3085 | J12: 284 | K12: 84233 | L12: 42447 | M12: 937 | N12: 4724 | O12: 48108 | P12: 0 | Q12: 0 | R12: 48108 | S12: 199685 | T12: 0 | U12: 0 | V12: 199685 | W12: 175632 | X12: 3702 | Y12: 95
B13: 新町 | D13: 6758 | E13: 0 | F13: 0 | G13: 6758 | H13: 1945 | I13: 1155 | J13: 284 | K13: 39329 | L13: 23761 | M13: 457 | N13: 1547 | O13: 25765 | P13: 0 | Q13: 0 | R13: 25765 | S13: 99545 | T13: 0 | U13: 0 | V13: 99545 | W13: 64252 | X13: 601 | Y13: 62
B14: 榛名 | D14: 4249 | E14: 0 | F14: 0 | G14: 4249 | H14: 1066 | I14: 983 | J14: 284 | K14: 30288 | L14: 11026 | M14: 185 | N14: 997 | O14: 12208 | P14: 0 | Q14: 0 | R14: 12208 | S14: 50013 | T14: 0 | U14: 0 | V14: 50013 | W14: 45156 | X14: 800 | Y14: 22
B15: 吉井 | D15: 4604 | E15: 0 | F15: 0 | G15: 4604 | H15: 1126 | I15: 1058 | J15: 283 | K15: 35210 | L15: 16200 | M15: 378 | N15: 1949 | O15: 18527 | P15: 0 | Q15: 0 | R15: 18527 | S15: 73747 | T15: 0 | U15: 0 | V15: 73747 | W15: 66896 | X15: 1389 | Y15: 37
A16: 桐生市 | C16: 96378 | D16: =SUM(D17:D18) -> 67948 | E16: =SUM(E17:E18) -> 0 | F16: =SUM(F17:F18) -> 6753 | G16: =SUM(G17:G18) -> 74701 | H16: =SUM(H17:H18) -> 7135 | I16: =SUM(I17:I18) -> 6255 | J16: =SUM(J17:J18) -> 572 | K16: - | L16: =SUM(L17:L18) -> 61028 | M16: =SUM(M17:M18) -> 1359 | N16: =SUM(N17:N18) -> 5094 | O16: =SUM(O17:O18) -> 67481 | P16: =SUM(P17:P18) -> 0 | Q16: =SUM(Q17:Q18) -> 2877 | R16: =SUM(R17:R18) -> 70358 | S16: =SUM(S17:S18) -> 252997 | ... Y16: =SUM(Y17:Y18) -> 546 | Z16: =ROUNDDOWN(V16/C16,2) -> 2.7
B17: 桐生 | D17: 61257 | E17: 0 | F17: 6753 | G17: 68010 | H17: 7135 | I17: 6255 | J17: 286 | K17: － | L17: 50827 | M17: 997 | N17: 3555 | O17: 55379 | P17: 0 | Q17: 2877 | R17: 58256 | S17: 200741 | T17: 0 | U17: 7804 | V17: 208545 | W17: 188405 | X17: 17242 | Y17: 476 | AA17: 有効登録者数は新里含む
B18: 新里 | D18: 6691 | E18: 0 | F18: 0 | G18: 6691 | H18: － | I18: － | J18: 286 | K18: － | L18: 10201 | M18: 362 | N18: 1539 | O18: 12102 | P18: 0 | Q18: 0 | R18: 12102 | S18: 52256 | T18: 0 | U18: 0 | V18: 52256 | W18: 43771 | X18: 1388 | Y18: 70
A19: 伊勢崎市 | C19: 209656 | D19: =SUM(D20:D23) -> 94412 | E19: =SUM(E20:E23) -> 0 | F19: =SUM(F20:F23) -> 9883 | G19: =SUM(G20:G23) -> 104295 | H19: - | I19: - | J19: =SUM(J20:J23) -> 1146 | K19: =SUM(K20:K23) -> 513777 | L19: =SUM(L20:L23) -> 159728 | M19: =SUM(M20:M23) -> 5832 | N19: =SUM(N20:N23) -> 30627 | O19: =SUM(O20:O23) -> 196187 | P19: =SUM(P20:P23) -> 0 | Q19: =SUM(Q20:Q23) -> 25330 | ... Y19: =SUM(Y20:Y23) -> 3647 | Z19: =ROUNDDOWN(V19/C19,2) -> 4.24 | AA19: 図書館システムリプレイスの影響で有効登録者数は抽出不可
B20: 伊勢崎 | D20: 47098 | E20: 0 | F20: 9883 | G20: 56981 | H20: - | I20: - | J20: 274 | K20: 252148 | L20: 89427 | M20: 3103 | N20: 17270 | O20: 109800 | P20: 0 | Q20: 25330 | R20: 135130 | S20: 380569 | T20: 0 | U20: 114503 | V20: 495072 | W20: 467445 | X20: 63555 | Y20: 3298
B21: 赤堀 | D21: 10745 | E21: 0 | F21: 0 | G21: 10745 | H21: - | I21: - | J21: 313 | K21: 54358 | L21: 17493 | M21: 806 | N21: 4538 | O21: 22837 | P21: 0 | Q21: 0 | R21: 22837 | S21: 108136 | T21: 0 | U21: 0 | V21: 108136 | W21: 99467 | X21: 2629 | Y21: 82
B22: あずま | D22: 22540 | E22: 0 | F22: 0 | G22: 22540 | H22: - | I22: - | J22: 280 | K22: 131719 | L22: 26882 | M22: 801 | N22: 5139 | O22: 32822 | P22: 0 | Q22: 0 | R22: 32822 | S22: 156853 | T22: 0 | U22: 0 | V22: 156853 | W22: 142705 | X22: 4023 | Y22: 157
B23: 境 | D23: 14029 | E23: 0 | F23: 0 | G23: 14029 | H23: - | I23: - | J23: 279 | K23: 75552 | L23: 25926 | M23: 1122 | N23: 3680 | O23: 30728 | P23: 0 | Q23: 0 | R23: 30728 | S23: 130780 | T23: 0 | U23: 0 | V23: 130780 | W23: 121957 | X23: 3041 | Y23: 110
A24: 太田市 | C24: 221095 | D24: =SUM(D25:D29) -> 122204 | E24: =SUM(E25:E29) -> 0 | F24: =SUM(F25:F29) -> 0 | G24: =SUM(G25:G29) -> 104739 | H24: =SUM(H25:H29) -> 22390 | I24: =SUM(I25:I29) -> 19062 | J24: =SUM(J25:J29) -> 1398 | K24: =SUM(K25:K29) -> 689617 | ... Y24: =SUM(Y25:Y29) -> 1776 | Z24: =ROUNDDOWN(V24/C24,2) -> 3.66
B25: 太田 | D25: 61851 | E25: 0 | F25: 0 | G25: 61851 | H25: 11317 | I25: 9710 | J25: 279 | K25: 204753 | L25: 92112 | M25: 6122 | N25: 15907 | O25: 114141 | P25: 0 | Q25: 0 | R25: 114141 | S25: 357128 | T25: 0 | U25: 0 | V25: 357128 | W25: 310628 | X25: 9919 | Y25: 1167
B26: 尾島 | D26: 10884 | E26: 0 | F26: 0 | G26: 10884 | H26: 2309 | I26: 2106 | J26: 273 | K26: 51044 | L26: 17729 | M26: 1228 | N26: 4196 | O26: 23153 | P26: 0 | Q26: 0 | R26: 23153 | S26: 81005 | T26: 0 | U26: 0 | V26: 81005 | W26: 73215 | X26: 678 | Y26: 140
B27: 新田 | D27: 19518 | E27: 0 | F27: 0 | G27: 2053 | H27: 3599 | I27: 2897 | J27: 280 | K27: 192080 | L27: 53126 | M27: 2761 | N27: 11218 | O27: 67105 | P27: 0 | Q27: 0 | R27: 67105 | S27: 237067 | T27: 0 | U27: 0 | V27: 237067 | W27: 210733 | X27: 3263 | Y27: 347
B28: 藪塚 | D28: 12862 | E28: 0 | F28: 0 | G28: 12862 | H28: 2337 | I28: 2085 | J28: 277 | K28: 44427 | L28: 19420 | M28: 1461 | N28: 3863 | O28: 24744 | P28: 0 | Q28: 0 | R28: 24744 | S28: 85370 | T28: 0 | U28: 0 | V28: 85370 | W28: 76007 | X28: 2307 | Y28: 122
B29: 太田美 | D29: 17089 | E29: 0 | F29: 0 | G29: 17089 | H29: 2828 | I29: 2264 | J29: 289 | K29: 197313 | L29: 8981 | M29: 788 | N29: 3879 | O29: 13648 | P29: 0 | Q29: 0 | R29: 13648 | S29: 49957 | T29: 0 | U29: 0 | V29: 49957 | W29: 43944 | X29: 0 | Y29: 0
A30: 沼田 | C30: 40855 | D30: 50900 | E30: 0 | F30: 0 | G30: 50900 | H30: 5227 | I30: 3974 | J30: 281 | K30: - | L30: 50138 | M30: 1408 | N30: 11976 | O30: 63522 | P30: 2458 | Q30: 328 | R30: 66308 | S30: 240736 | T30: 9415 | U30: 887 | V30: 251038 | W30: 186629 | X30: 11251 | Y30: 1291 | Z30: =ROUNDDOWN(V30/C30,2) -> 6.14
A31: 館林 | C31: 72664 | D31: 65722 | E31: 0 | F31: 0 | G31: 65722 | H31: 5153 | I31: 4512 | J31: 288 | K31: - | L31: 40831 | M31: 1033 | N31: 5070 | O31: 46934 | P31: 0 | Q31: 0 | R31: 46934 | S31: 197236 | T31: 0 | U31: 0 | V31: 197236 | W31: 174897 | X31: 19387 | Y31: 428 | Z31: =ROUNDDOWN(V31/C31,2) -> 2.71
A32: 渋川市 | C32: 69544 | D32: =SUM(D33:D34) -> 40210 | E32: =SUM(E33:E34) -> 0 | F32: =SUM(F33:F34) -> 2957 | G32: =SUM(G33:G34) -> 43167 | H32: - | I32: - | J32: =SUM(J33:J34) -> 559 | K32: =SUM(K33:K34) -> 91620 | L32: =SUM(L33:L34) -> 65230 | M32: =SUM(M33:M34) -> 2373 | N32: =SUM(N33:N34) -> 16240 | O32: =SUM(O33:O34) -> 83843 | P32: =SUM(P33:P34) -> 0 | Q32: =SUM(Q33:Q34) -> 13021 | ... Y32: =SUM(Y33:Y34) -> 638 | Z32: =ROUNDDOWN(V32/C32,2) -> 4.06
B33: 渋川 | D33: 35488 | E33: 0 | F33: 2957 | G33: 38445 | H33: - | I33: - | J33: 283 | K33: 91620 | L33: 61191 | M33: 2223 | N33: 14367 | O33: 77781 | P33: 0 | Q33: 13021 | R33: 90802 | S33: 228318 | T33: 0 | U33: 35489 | V33: 263807 | W33: - | X33: 5465 | Y33: 616
B34: 北橘 | D34: 4722 | E34: 0 | F34: 0 | G34: 4722 | H34: 6119 | I34: 2242 | J34: 276 | K34: - | L34: 4039 | M34: 150 | N34: 1873 | O34: 6062 | P34: 0 | Q34: 0 | R34: 6062 | S34: 19105 | T34: 0 | U34: 0 | V34: 19105 | W34: 1645 | X34: 847 | Y34: 22
A35: 藤岡 | C35: 59440 | D35: 15542 | E35: 0 | F35: 0 | G35: 15542 | H35: 7167 | I35: 6039 | J35: 218 | K35: 209746 | L35: 61513 | M35: 1918 | N35: 6192 | O35: 69623 | P35: 0 | Q35: 0 | R35: 69623 | S35: 263118 | T35: 0 | U35: 0 | V35: 263118 | W35: 213012 | X35: 5744 | Y35: 435 | Z35: =ROUNDDOWN(V35/C35,2) -> 4.42
A36: 富岡 | C36: 43913 | D36: 42302 | E36: 0 | F36: 0 | G36: 42302 | H36: 7617 | I36: 6958 | J36: 295 | K36: 81081 | L36: 38765 | M36: 1611 | N36: 19139 | O36: 59515 | P36: 0 | Q36: 0 | R36: 59515 | S36: 177643 | T36: 0 | U36: 0 | V36: 177643 | W36: 157574 | X36: 2474 | Y36: 284 | Z36: =ROUNDDOWN(V36/C36,2) -> 4.04
A37: 安中市 | C37: 50633 | D37: =SUM(D38:D39) -> 26766 | E37: =SUM(E38:E39) -> 0 | F37: =SUM(F38:F39) -> 0 | G37: =SUM(G38:G39) -> 26766 | H37: =SUM(H38:H39) -> 5200 | I37: =SUM(I38:I39) -> 4892 | J37: =SUM(J38:J39) -> 573 | K37: =SUM(K38:K39) -> 66032 | ... Y37: =SUM(Y38:Y39) -> 345 | Z37: =ROUNDDOWN(V37/C37,2) -> 2.87
B38: 安中 | D38: 15922 | E38: 0 | F38: 0 | G38: 15922 | H38: 3238 | I38: 3009 | J38: 280 | K38: 41009 | L38: 27030 | M38: 655 | N38: 4400 | O38: 32085 | P38: 0 | Q38: 0 | R38: 32085 | S38: 88798 | T38: 0 | U38: 0 | V38: 88798 | W38: 82848 | X38: 890 | Y38: 194
B39: 松井田 | D39: 10844 | E39: 0 | F39: 0 | G39: 10844 | H39: 1962 | I39: 1883 | J39: 293 | K39: 25023 | L39: 13417 | M39: 407 | N39: 2763 | O39: 16587 | P39: 0 | Q39: 0 | R39: 16587 | S39: 56669 | T39: 0 | U39: 0 | V39: 56669 | W39: 54864 | X39: 1550 | Y39: 151
A40: みどり市 | C40: 47464 | D40: =SUM(D41:D42) -> 13545 | E40: =SUM(E41:E42) -> 0 | F40: =SUM(F41:F42) -> 0 | G40: =SUM(G41:G42) -> 13545 | H40: =SUM(H41:H42) -> 7605 | I40: =SUM(I41:I42) -> 5007 | J40: =SUM(J41:J42) -> 582 | K40: =SUM(K41:K42) -> 174344 | ... Y40: =SUM(Y41:Y42) -> 456 | Z40: =ROUNDDOWN(V40/C40,2) -> 6.27
B41: 笠懸 | D41: 8124 | E41: 0 | F41: 0 | G41: 8124 | H41: 4408 | I41: 3120 | J41: 291 | K41: 94258 | L41: 26853 | M41: 2347 | N41: 6727 | O41: 35927 | P41: 0 | Q41: 0 | R41: 35927 | S41: 177431 | T41: 0 | U41: 0 | V41: 177431 | W41: 122563 | X41: 10462 | Y41: 231
B42: 大間々 | D42: 5421 | E42: 0 | F42: 0 | G42: 5421 | H42: 3197 | I42: 1887 | J42: 291 | K42: 80086 | L42: 20394 | M42: 2868 | N42: 4008 | O42: 27270 | P42: 0 | Q42: 0 | R42: 27270 | S42: 120538 | T42: 0 | U42: 0 | V42: 120538 | W42: 68456 | X42: 5779 | Y42: 225
A43: 吉岡 | C43: 22815 | D43: 7008 | E43: 0 | F43: 0 | G43: 7008 | H43: 3995 | I43: 2870 | J43: 274 | K43: - | L43: 34215 | M43: 1325 | N43: 12201 | O43: 47741 | P43: 0 | Q43: 0 | R43: 47741 | S43: 204912 | T43: 0 | U43: 0 | V43: 204912 | W43: 142712 | X43: 10178 | Y43: 236 | Z43: =ROUNDDOWN(V43/C43,2) -> 8.98
A44: 上野 | C44: 954 | D44: 860 | E44: 0 | F44: 0 | G44: 860 | H44: 164 | I44: 159 | J44: 272 | K44: 5759 | L44: 1201 | O44: 1201 | P44: 0 | Q44: 0 | R44: 1201 | S44: 5862 | T44: 0 | U44: 0 | V44: 5862 | X44: 99 | Y44: 2 | Z44: =ROUNDDOWN(V44/C44,2) -> 6.14
A45: 神流 | C45: 1321 | D45: 1377 | E45: 0 | F45: 0 | G45: 1377 | H45: 1377 | I45: 1377 | J45: 248 | K45: 849 | L45: 603 | M45: 22 | N45: 224 | O45: 849 | P45: 0 | Q45: 0 | R45: 849 | S45: 1398 | T45: 0 | U45: 0 | V45: 1398 | X45: 0 | Y45: 0 | Z45: =ROUNDDOWN(V45/C45,2) -> 1.05
A46: 甘楽 | C46: 11797 | D46: 11219 | E46: 0 | F46: 0 | G46: 11219 | H46: 1804 | I46: 1295 | J46: 298 | K46: - | L46: 14155 | M46: 741 | N46: 3518 | O46: 18414 | P46: 0 | Q46: 0 | R46: 18414 | S46: 83621 | T46: 0 | U46: 0 | V46: 83621 | W46: 59681 | X46: 5842 | Y46: 432 | Z46: =ROUNDDOWN(V46/C46,2) -> 7.08
A47: 中之条 | C47: 46568 | D47: 25359 | E47: 0 | F47: 0 | G47: 25359 | H47: 3231 | I47: 1757 | J47: 284 | K47: 94337 | L47: 26334 | M47: 1569 | N47: 7076 | O47: 34979 | P47: 0 | Q47: 0 | R47: 34979 | S47: 126967 | T47: 0 | U47: 0 | V47: 126967 | W47: 69946 | X47: 2839 | Y47: 276 | Z47: =ROUNDDOWN(V47/C47,2) -> 2.72
A48: 草津 | C48: 5781 | D48: 14414 | E48: 0 | F48: 0 | G48: 14414 | H48: 778 | I48: 393 | J48: 288 | K48: 31801 | L48: 719 | M48: 22 | N48: 37 | O48: 778 | P48: 0 | Q48: 0 | R48: 778 | S48: 20929 | T48: 0 | U48: 0 | V48: 20929 | W48: 11706 | X48: 322 | Y48: 0 | Z48: =ROUNDDOWN(V48/C48,2) -> 3.62
A49: 玉村 | C49: 34891 | D49: 46829 | E49: 0 | F49: 0 | G49: 46829 | H49: 4426 | I49: 3169 | J49: 286 | K49: 126792 | L49: 54546 | M49: 1664 | N49: 7692 | O49: 63902 | P49: 0 | Q49: 0 | R49: 63902 | S49: 258043 | T49: 0 | U49: 0 | V49: 258043 | W49: 180568 | X49: 4081 | Y49: 404 | Z49: =ROUNDDOWN(V49/C49,2) -> 7.39
A50: 明和 | C50: 10317 | D50: 12398 | E50: 0 | F50: 0 | G50: 12398 | H50: 1359 | I50: 956 | J50: 292 | K50: 30833 | L50: 10237 | M50: 538 | N50: 2720 | O50: 13495 | P50: 0 | Q50: 0 | R50: 13495 | S50: 41675 | T50: 0 | U50: 0 | V50: 41675 | W50: 29518 | X50: 530 | Y50: 76 | Z50: =ROUNDDOWN(V50/C50,2) -> 4.03
A51: 千代田 | C51: 10276 | D51: 6041 | E51: 0 | F51: 0 | G51: 6041 | H51: 6041 | I51: 5021 | J51: 291 | K51: 19102 | L51: 4222 | M51: 78 | N51: 381 | O51: 4681 | P51: 0 | Q51: 0 | R51: 4681 | S51: 18489 | T51: 0 | U51: 0 | V51: 18489 | W51: 15711 | X51: 9794 | Y51: 28 | Z51: =ROUNDDOWN(V51/C51,2) -> 1.79
A52: 大泉 | C52: 41395 | D52: 58307 | E52: 0 | F52: 0 | G52: 58307 | H52: 24608 | I52: 17684 | J52: 288 | K52: 95026 | L52: 24362 | M52: 232 | N52: 5083 | O52: 29677 | P52: 0 | Q52: 0 | R52: 29677 | S52: 135666 | T52: 0 | U52: 0 | V52: 135666 | W52: 105961 | X52: 1559 | Y52: 242 | Z52: =ROUNDDOWN(V52/C52,2) -> 3.27
A53: 邑楽 | C53: 24592 | D53: 64352 | E53: 0 | F53: 0 | G53: 64352 | H53: 5513 | I53: 2920 | J53: 290 | K53: 112871 | L53: 49502 | M53: 2495 | N53: 7007 | O53: 59004 | P53: 17 | Q53: 0 | R53: 59021 | S53: 242843 | T53: 51 | U53: 0 | V53: 242894 | W53: 118127 | X53: 29783 | Y53: 338 | Z53: =ROUNDDOWN(V53/C53,2) -> 9.87
A54: 計 | C54: =SUM(C5:C53)-C48 -> 1804020 | D54: =SUM(D5,D9,D16,D19,D24,D30:D32,D35:D37,D40,D43:D53) -> 1084466 | E54: =SUM(E5,E9,E16,E19,E24,E30:E32,E35:E37,E40,E43:E53) -> 0 | F54: =SUM(F5,F9,F16,F19,F24,F30:F32,F35:F37,F40,F43:F53) -> 25168 | G54: =SUM(G5,G9,G16,G19,G24,G30:G32,G35:G37,G40,G43:G53) -> 1092169 | H54: =SUM(H5,H9,H16,H19,H24,H30:H32,H35:H37,H40,H43:H53) -> 155591 | I54: =SUM(I5,I9,I16,I19,I24,I30:I32,I35:I37,I40,I43:I53) -> 124779 | J54: =SUM(J5,J9,J16,J19,J24,J30:J32,J35:J37,J40,J43:J53) -> 16127 | K54: =SUM(K5,K9,K16,K19,K24,K30:K32,K35:K37,K40,K43:K53) -> 3487177 | ... Y54: =SUM(Y5,Y9,Y16,Y19,Y24,Y30:Y32,Y35:Y37,Y40,Y43:Y53) -> 14620 | Z54: -
A55: 県議会 | D55: 0 | E55: 0 | F55: 0 | G55: 0 | H55: 0 | I55: 0 | J55: 243 | K55: 638 | L55: 638 | M55: 0 | N55: 0 | O55: 638 | P55: 0 | Q55: 0 | R55: 638 | S55: 369 | T55: 0 | U55: 0 | V55: 369 | W55: 0 | X55: 0 | Y55: 0
A56: 点字 | D56: 600 | G56: 600 | O56: 0 | R56: 0 | S56: 36550 | T56: 0 | U56: 0 | V56: 36550 | X56: 0 | Y56: 9577
A57: 県立 | C57: 1866130 | D57: 150163 | G57: 150163 | H57: 7014 | I57: - | J57: 286 | K57: 162467 | L57: 48397 | M57: 931 | N57: 1147 | O57: 50475 | R57: 50475 | S57: 222731 | T57: 0 | U57: 0 | V57: 222731 | W57: - | X57: 22395 | Y57: 11523
A58: 小計 | C58: =SUM(C55:C57) -> 1866130 | D58: =SUM(D55:D57) -> 150763 | E58: =SUM(E55:E57) -> 0 | F58: =SUM(F55:F57) -> 0 | G58: =SUM(G55:G57) -> 150763 | H58: =SUM(H55:H57) -> 7014 | I58: =SUM(I55:I57) -> 0 | J58: =SUM(J55:J57) -> 529 | ... Y58: =SUM(Y55:Y57) -> 21100
A59: 合計 | D59: =D54+D58 -> 1235229 | E59: =E54+E58 -> 0 | F59: =F54+F58 -> 25168 | G59: =G54+G58 -> 1242932 | H59: =H54+H58 -> 162605 | I59: =I54+I58 -> 124779 | J59: =J54+J58 -> 16656 | K59: =K54+K58 -> 3650282 | ... Y59: =Y54+Y58 -> 35720
A60: ※奉仕人口は、令和8年4月1日時点（令和8年4月25日公表）の「移動人口調査(4月）」）。中之条町ツインプラザの奉仕人口は吾妻郡の人口。

Sheet 蔵書Ⅰ
A1: 蔵 書 Ⅰ | R1: 令和8年3月31日現在
A2: 館 名 | C2: 全 蔵 書 冊 数 (冊) | E2: 全 蔵 書 冊 数 内 訳 | P2: （冊） | Q2: 人口百人当冊数 | R2: 備 考
E3: 本 館 | I3: 自動車図書館 | L3: 分室・サービスポイント | O3: その他
D4: うち開架冊数 | E4: 一 般 | F4: 児 童 | G4: 合 計 | H4: うち紙芝居 | I4: 一 般 | J4: 児 童 | K4: 合 計 | L4: 一 般 | M4: 児 童 | N4: 合 計 | P4: うち児童 | Q4: （冊）
A5: 前橋市 | C5: =SUM(C6:C8) -> 972715 | D5: =SUM(D6:D8) -> 771858 | E5: =SUM(E6:E8) -> 594567 | F5: =SUM(F6:F8) -> 355444 | G5: =SUM(G6:G8) -> 950011 | H5: =SUM(H6:H8) -> 8753 | I5: =SUM(I6:I8) -> 15 | J5: =SUM(J6:J8) -> 37 | ... P5: =SUM(P6:P8) -> 0 | Q5: =(C5/貸出サービス概況!C5)*100 -> 300.65124
B6: 前橋 | C6: 320053 | D6: 172329 | E6: 289697 | F6: 7652 | G6: 297349 | H6: 57 | I6: 15 | J6: 37 | K6: 52 | L6: 7441 | M6: 15211 | N6: 22652 | O6: 0 | P6: 0
B7: 前橋こ | C7: 144694 | D7: 91561 | E7: 13735 | F7: 130959 | G7: 144694 | H7: 3192 | I7: 0 | J7: 0 | K7: 0 | L7: 0 | M7: 0 | N7: 0 | O7: 0 | P7: 0
B8: 前橋分 | C8: 507968 | D8: 507968 | E8: 291135 | F8: 216833 | G8: 507968 | H8: 5504 | I8: 0 | J8: 0 | K8: 0 | L8: 0 | M8: 0 | N8: 0 | O8: 0 | P8: 0
A9: 高崎市 | C9: =SUM(C10:C15) -> 1121483 | D9: =SUM(D10:D15) -> 688953 | E9: =SUM(E10:E15) -> 828387 | F9: =SUM(F10:F15) -> 264108 | G9: =SUM(G10:G15) -> 1092495 | H9: =SUM(H10:H15) -> 5374 | I9: =SUM(I10:I15) -> 0 | J9: =SUM(J10:J15) -> 0 | ... P9: =SUM(P10:P15) -> 0 | Q9: =(C9/貸出サービス概況!C9)*100 -> 308.17084
B10: 高崎 | C10: 699864 | D10: 377025 | E10: 541834 | F10: 129042 | G10: 670876 | H10: 1871 | I10: 0 | J10: 0 | K10: 0 | L10: 21129 | M10: 7859 | N10: 28988 | O10: 0 | P10: 0
B11: 箕郷 | C11: 47587 | D11: 39322 | E11: 32348 | F11: 15239 | G11: 47587 | H11: 336 | I11: 0 | J11: 0 | K11: 0 | L11: 0 | M11: 0 | N11: 0 | O11: 0 | P11: 0
B12: 群馬 | C12: 140090 | D12: 92577 | E12: 100727 | F12: 39363 | G12: 140090 | H12: 929 | I12: 0 | J12: 0 | K12: 0 | L12: 0 | M12: 0 | N12: 0 | O12: 0 | P12: 0
B13: 新町 | C13: 99328 | D13: 72495 | E13: 71145 | F13: 28183 | G13: 99328 | H13: 821 | I13: 0 | J13: 0 | K13: 0 | L13: 0 | M13: 0 | N13: 0 | O13: 0 | P13: 0
B14: 榛名 | C14: 72448 | D14: 55724 | E14: 47895 | F14: 24553 | G14: 72448 | H14: 761 | I14: 0 | J14: 0 | K14: 0 | L14: 0 | M14: 0 | N14: 0 | O14: 0 | P14: 0
B15: 吉井 | C15: 62166 | D15: 51810 | E15: 34438 | F15: 27728 | G15: 62166 | H15: 656 | I15: 0 | J15: 0 | K15: 0 | L15: 0 | M15: 0 | N15: 0 | O15: 0 | P15: 0
A16: 桐生市 | C16: =SUM(C17:C18) -> 374624 | D16: =SUM(D17:D18) -> 189227 | E16: =SUM(E17:E18) -> 202897 | F16: =SUM(F17:F18) -> 81675 | G16: =SUM(G17:G18) -> 284572 | H16: =SUM(H17:H18) -> 2305 | I16: =SUM(I17:I18) -> 0 | J16: =SUM(J17:J18) -> 0 | ... P16: =SUM(P17:P18) -> 0 | Q16: =(C16/貸出サービス概況!C16)*100 -> 388.70282
B17: 桐生 | C17: 301816 | D17: 141654 | E17: 158547 | F17: 53217 | G17: 211764 | H17: 1285 | I17: 0 | J17: 0 | K17: 0 | L17: 50231 | M17: 39821 | N17: 90052 | O17: 0 | P17: 0
B18: 新里 | C18: 72808 | D18: 47573 | E18: 44350 | F18: 28458 | G18: 72808 | H18: 1020 | I18: 0 | J18: 0 | K18: 0 | L18: 0 | M18: 0 | N18: 0 | O18: 0 | P18: 0
A19: 伊勢崎市 | C19: =SUM(C20:C23) -> 656680 | D19: =SUM(D20:D23) -> 369626 | E19: =SUM(E20:E23) -> 434711 | F19: =SUM(F20:F23) -> 180856 | G19: =SUM(G20:G23) -> 615567 | H19: =SUM(H20:H23) -> 4738 | I19: =SUM(I20:I23) -> 0 | J19: =SUM(J20:J23) -> 0 | ... P19: =SUM(P20:P23) -> 0 | Q19: =(C19/貸出サービス概況!C19)*100 -> 313.21784
B20: 伊勢崎 | C20: 325768 | D20: 148345 | E20: 202927 | F20: 81728 | G20: 284655 | H20: 1823 | I20: 0 | J20: 0 | K20: 0 | L20: 23140 | M20: 17973 | N20: 41113 | O20: 0 | P20: 0 | S20: 0
B21: 赤堀 | C21: 58798 | D21: 46765 | E21: 40037 | F21: 18761 | G21: 58798 | H21: 604 | I21: 0 | J21: 0 | K21: 0 | L21: 0 | M21: 0 | N21: 0 | O21: 0 | P21: 0
B22: あずま | C22: 134675 | D22: 80449 | E22: 89572 | F22: 45103 | G22: 134675 | H22: 1353 | I22: 0 | J22: 0 | K22: 0 | L22: 0 | M22: 0 | N22: 0 | O22: 0 | P22: 0
B23: 境 | C23: 137439 | D23: 94067 | E23: 102175 | F23: 35264 | G23: 137439 | H23: 958 | I23: 0 | J23: 0 | K23: 0 | L23: 0 | M23: 0 | N23: 0 | O23: 0 | P23: 0
A24: 太田市 | C24: =SUM(C25:C29) -> 716207 | D24: =SUM(D25:D29) -> 441117 | E24: =SUM(E25:E29) -> 543673 | F24: =SUM(F25:F29) -> 172534 | G24: =SUM(G25:G29) -> 716207 | H24: =SUM(H25:H29) -> 3498 | I24: =SUM(I25:I29) -> 0 | J24: =SUM(J25:J29) -> 0 | ... P24: =SUM(P25:P29) -> 0 | Q24: =(C24/貸出サービス概況!C24)*100 -> 323.93632
B25: 太田 | C25: 335432 | D25: 167634 | E25: 272691 | F25: 62741 | G25: 335432 | H25: 1376 | I25: 0 | J25: 0 | K25: 0 | L25: 0 | M25: 0 | N25: 0 | O25: 0 | P25: 0
B26: 尾島 | C26: 76526 | D26: 58297 | E26: 56308 | F26: 20218 | G26: 76526 | H26: 531 | I26: 0 | J26: 0 | K26: 0 | L26: 0 | M26: 0 | N26: 0 | O26: 0 | P26: 0
B27: 新田 | C27: 170017 | D27: 102580 | E27: 133774 | F27: 36243 | G27: 170017 | H27: 941 | I27: 0 | J27: 0 | K27: 0 | L27: 0 | M27: 0 | N27: 0 | O27: 0 | P27: 0
B28: 藪塚 | C28: 81399 | D28: 61072 | E28: 50063 | F28: 31336 | G28: 81399 | H28: 650 | I28: 0 | J28: 0 | K28: 0 | L28: 0 | M28: 0 | N28: 0 | O28: 0 | P28: 0
B29: 太田美 | C29: 52833 | D29: 51534 | E29: 30837 | F29: 21996 | G29: 52833 | H29: 0 | I29: 0 | J29: 0 | K29: 0 | L29: 0 | M29: 0 | N29: 0 | O29: 0 | P29: 0
A30: 沼田 | C30: 452615 | D30: 100000 | E30: 324310 | F30: 128305 | G30: 452615 | H30: 3329 | I30: - | J30: - | K30: 2500 | L30: - | M30: - | N30: 3500 | O30: 0 | P30: 0 | Q30: =(C30/貸出サービス概況!C30)*100 -> 1107.8571
A31: 館林 | C31: 336751 | D31: 165860 | E31: 226570 | F31: 68911 | G31: 295481 | H31: 1866 | I31: 0 | J31: 0 | K31: 0 | L31: 0 | M31: 0 | N31: 0 | O31: 41270 | P31: 28653 | Q31: =(C31/貸出サービス概況!C31)*100 -> 463.43581
A32: 渋川市 | C32: =SUM(C33:C34) -> 438628 | D32: =SUM(D33:D34) -> 254011 | E32: =SUM(E33:E34) -> 226317 | F32: =SUM(F33:F34) -> 81680 | G32: =SUM(G33:G34) -> 307997 | H32: =SUM(H33:H34) -> 1985 | I32: =SUM(I33:I34) -> 0 | J32: =SUM(J33:J34) -> 0 | ... P32: =SUM(P33:P34) -> 0 | Q32: =(C32/貸出サービス概況!C32)*100 -> 630.72012
B33: 渋川 | C33: 393444 | D33: 208827 | E33: 202584 | F33: 60229 | G33: 262813 | H33: 1647 | I33: 0 | J33: 0 | K33: 0 | L33: 88977 | M33: 41654 | N33: 130631 | O33: 1270 | P33: 0
B34: 北橘 | C34: 45184 | D34: 45184 | E34: 23733 | F34: 21451 | G34: 45184 | H34: 338 | I34: 0 | J34: 0 | K34: 0 | L34: 0 | M34: 0 | N34: 0 | O34: 0 | P34: 0
A35: 藤岡 | C35: 248097 | D35: 117381 | E35: 178751 | F35: 69346 | G35: 248097 | H35: 1868 | I35: 0 | J35: 0 | K35: 0 | L35: 0 | M35: 0 | N35: 0 | O35: 0 | P35: 0 | Q35: =(C35/貸出サービス概況!C35)*100 -> 417.39065
A36: 富岡 | C36: 175289 | D36: 97443 | E36: 126994 | F36: 48295 | G36: 175289 | H36: 1186 | I36: 0 | J36: 0 | K36: 0 | L36: 0 | M36: 0 | N36: 0 | O36: 0 | P36: 0 | Q36: =(C36/貸出サービス概況!C36)*100 -> 399.17337
A37: 安中市 | C37: =SUM(C38:C39) -> 180799 | D37: =SUM(D38:D39) -> 112791 | E37: =SUM(E38:E39) -> 126957 | F37: =SUM(F38:F39) -> 53842 | G37: =SUM(G38:G39) -> 180799 | H37: =SUM(H38:H39) -> 2128 | I37: =SUM(I38:I39) -> 0 | J37: =SUM(J38:J39) -> 0 | ... P37: =SUM(P38:P39) -> 0 | Q37: =(C37/貸出サービス概況!C37)*100 -> 357.0774
B38: 安中 | C38: 87818 | D38: 64076 | E38: 67771 | F38: 20047 | G38: 87818 | H38: 542 | I38: 0 | J38: 0 | K38: 0 | L38: 0 | M38: 0 | N38: 0 | O38: 0 | P38: 0
B39: 松井田 | C39: 92981 | D39: 48715 | E39: 59186 | F39: 33795 | G39: 92981 | H39: 1586 | I39: 0 | J39: 0 | K39: 0 | L39: 0 | M39: 0 | N39: 0 | O39: 0 | P39: 0
A40: みどり市 | C40: =SUM(C41:C42) -> 331421 | D40: =SUM(D41:D42) -> 158538 | E40: =SUM(E41:E42) -> 251079 | F40: =SUM(F41:F42) -> 80342 | G40: =SUM(G41:G42) -> 331421 | H40: =SUM(H41:H42) -> 2298 | I40: =SUM(I41:I42) -> 0 | J40: =SUM(J41:J42) -> 0 | ... P40: =SUM(P41:P42) -> 0 | Q40: =(C40/貸出サービス概況!C40)*100 -> 698.25763
B41: 笠懸 | C41: 168385 | D41: 80921 | E41: 124536 | F41: 43849 | G41: 168385 | H41: 1388 | I41: 0 | J41: 0 | K41: 0 | L41: 0 | M41: 0 | N41: 0 | O41: 0 | P41: 0
B42: 大間々 | C42: 163036 | D42: 77617 | E42: 126543 | F42: 36493 | G42: 163036 | H42: 910 | I42: 0 | J42: 0 | K42: 0 | L42: 0 | M42: 0 | N42: 0 | O42: 0 | P42: 0
A43: 吉岡 | C43: 84327 | D43: 48347 | E43: 49363 | F43: 34964 | G43: 84327 | H43: 1494 | I43: 0 | J43: 0 | K43: 0 | L43: 0 | M43: 0 | N43: 0 | O43: 0 | P43: 0 | Q43: =(C43/貸出サービス概況!C43)*100 -> 369.6121
A44: 上野 | C44: 27530 | D44: 24530 | E44: 27530 | F44: - | G44: 27530 | H44: 190 | I44: 0 | J44: 0 | K44: 0 | N44: 0 | O44: 0 | P44: 0 | Q44: =(C44/貸出サービス概況!C44)*100 -> 2885.7442
A45: 神流 | C45: 21815 | D45: 15760 | E45: 12338 | F45: 9477 | G45: 21815 | H45: 66 | I45: 0 | J45: 0 | K45: 0 | N45: 0 | O45: 0 | P45: 0 | Q45: =(C45/貸出サービス概況!C45)*100 -> 1651.4005
A46: 甘楽 | C46: 64138 | D46: 50275 | E46: 39430 | F46: 24708 | G46: 64138 | H46: 361 | I46: 0 | J46: 0 | K46: 0 | L46: 0 | M46: 0 | N46: 0 | O46: 0 | P46: 0 | Q46: =(C46/貸出サービス概況!C46)*100 -> 543.6806
A47: 中之条 | C47: 135484 | D47: 104771 | E47: 91661 | F47: 43823 | G47: 135484 | H47: 771 | I47: 0 | J47: 0 | K47: 0 | L47: 0 | M47: 0 | N47: 0 | O47: 0 | P47: 0 | Q47: =(C47/貸出サービス概況!C47)*100 -> 290.93798
A48: 草津 | C48: 53796 | D48: 45456 | E48: 42443 | F48: 11353 | G48: 53796 | H48: 191 | I48: 0 | J48: 0 | K48: 0 | L48: 0 | M48: 0 | N48: 0 | O48: 0 | P48: 0 | Q48: =(C48/貸出サービス概況!C48)*100 -> 930.56565
A49: 玉村 | C49: 184948 | D49: 95515 | E49: 130703 | F49: 54245 | G49: 184948 | H49: 1083 | I49: 0 | J49: 0 | K49: 0 | L49: 0 | M49: 0 | N49: 0 | O49: 0 | P49: 0 | Q49: =(C49/貸出サービス概況!C49)*100 -> 530.07366
A50: 明和 | C50: 86068 | D50: 69994 | E50: 50331 | F50: 26945 | G50: 77276 | H50: 611 | I50: 0 | J50: 0 | K50: 0 | L50: 0 | M50: 0 | N50: 0 | O50: 8792 | P50: - | Q50: =(C50/貸出サービス概況!C50)*100 -> 834.23476
A51: 千代田 | C51: 52013 | D51: 52013 | E51: 36623 | F51: 15390 | G51: 52013 | H51: 644 | I51: 0 | J51: 0 | K51: 0 | L51: 0 | M51: 0 | N51: 0 | O51: 0 | P51: 0 | Q51: =(C51/貸出サービス概況!C51)*100 -> 506.15998
A52: 大泉 | C52: 143958 | D52: 90710 | E52: 105743 | F52: 38215 | G52: 143958 | H52: 1049 | I52: 0 | J52: 0 | K52: 0 | L52: 0 | M52: 0 | N52: 0 | O52: 0 | P52: 0 | Q52: =(C52/貸出サービス概況!C52)*100 -> 347.76664
A53: 邑楽 | C53: 168572 | D53: 96439 | E53: 117159 | F53: 42056 | G53: 159215 | H53: 1670 | I53: 1657 | J53: 7700 | K53: 9357 | L53: 0 | M53: 0 | N53: 0 | O53: 0 | P53: 0 | Q53: =(C53/貸出サービス概況!C53)*100 -> 685.47495
A54: 計 | C54: =SUM(C5,C9,C16,C19,C24,C30:C31,C32,C35:C36,C37,C40,C43:C53) -> 7027958 | D54: =SUM(D5,D9,D16,D19,D24,D30:D31,D32,D35:D36,D37,D40,D43:D53) -> 4160615 | E54: =SUM(E5,E9,E16,E19,E24,E30:E31,E32,E35:E36,E37,E40,E43:E53) -> 4768537 | F54: =SUM(F5,F9,F16,F19,F24,F30:F31,F32,F35:F36,F37,F40,F43:F53) -> 1886514 | G54: =SUM(G5,G9,G16,G19,G24,G30:G31,G32,G35:G36,G37,G40,G43:G53) -> 6655051 | H54: =SUM(H5,H9,H16,H19,H24,H30:H31,H32,H35:H36,H37,H40,H43:H53) -> 47458 | I54: =SUM(I5,I9,I16,I19,I24,I30:I31,I32,I35:I36,I37,I40,I43:I53) -> 1672 | J54: =SUM(J5,J9,J16,J19,J24,J30:J31,J32,J35:J36,J37,J40,J43:J53) -> 7737 | ... P54: =SUM(P5,P9,P16,P19,P24,P30:P31,P32,P35:P36,P37,P40,P43:P53) -> 28653 | Q54: =(C54/貸出サービス概況!C54)*100 -> 389.57207
A55: 県議会 | C55: 16850 | D55: 0 | E55: 16850 | F55: 0 | G55: 16850 | H55: 0 | I55: 0 | J55: 0 | K55: 0 | L55: 0 | M55: 0 | N55: 0 | O55: 0 | P55: 0
A56: 点字 | C56: 30132 | E56: 30132 | G56: 30132 | K56: 0 | N56: 0
A57: 県立 | C57: 897049 | D57: 195025 | E57: 776877 | F57: 91872 | G57: 868749 | H57: - | I57: 0 | J57: 0 | K57: 0 | L57: 0 | M57: 0 | N57: 0 | O57: 28300 | P57: 23129
A58: 小計 | C58: =SUM(C55:C57) -> 944031 | D58: =SUM(D55:D57) -> 195025 | E58: =SUM(E55:E57) -> 823859 | F58: =SUM(F55:F57) -> 91872 | G58: =SUM(G55:G57) -> 915731 | H58: =SUM(H55:H57) -> 0 | I58: =SUM(I55:I57) -> 0 | J58: =SUM(J55:J57) -> 0 | ... P58: =SUM(P55:P57) -> 23129 | Q58: -
A59: 合計 | C59: =C54+C58 -> 7971989 | D59: =D54+D58 -> 4355640 | E59: =E54+E58 -> 5592396 | F59: =F54+F58 -> 1978386 | G59: =G54+G58 -> 7570782 | H59: =H54+H58 -> 47458 | I59: =I54+I58 -> 1672 | J59: =J54+J58 -> 7737 | ... P59: =P54+P58 -> 51782 | Q59: -

Sheet 蔵書Ⅱ
A1: 蔵 書 Ⅱ | P1: =蔵書Ⅰ!R1 -> 令和8年3月31日現在
A2: 館 名 | B2: 本 館 用 一 般 図 書 | O2: （冊） | P2: 備 考
B3: 総 記 | C3: 宗教哲学 | D3: 歴史地理 | E3: 社会科学 | F3: 自然科学 | G3: 技術工学 | H3: 産 業 | I3: 芸術ｽﾎﾟｰﾂ | J3: 言 語 | K3: 文 学 | L3: 郷土資料 | M3: 洋 書 | N3: そ の 他 | O3: 合 計
B4: 0 | C4: 1 | D4: 2 | E4: 3 | F4: 4 | G4: 5 | H4: 6 | I4: 7 | J4: 8 | K4: 9
A5: 前橋 | B5: 8198 | C5: 10165 | D5: 23251 | E5: 24486 | F5: 10651 | G5: 10204 | H5: 4977 | I5: 22682 | J5: 2892 | K5: 76557 | L5: 87559 | M5: 1164 | N5: 6911 | O5: 289697
A6: 前橋こ | B6: 1079 | C6: 181 | D6: 314 | E6: 3388 | F6: 1017 | G6: 1951 | H6: 115 | I6: 2489 | J6: 85 | K6: 936 | L6: 437 | M6: 1743 | N6: 0 | O6: 13735
A7: 前橋分 | B7: 4426 | C7: 8121 | D7: 17925 | E7: 23355 | F7: 19725 | G7: 31583 | H7: 8644 | I7: 32425 | J7: 3544 | K7: 134724 | L7: 6617 | M7: 46 | N7: 0 | O7: 291135
A8: 高崎 | B8: 17277 | C8: 25384 | D8: 45497 | E8: 95272 | F8: 38223 | G8: 43468 | H8: 18861 | I8: 52130 | J8: 8602 | K8: 149374 | L8: 46555 | M8: 1191 | N8: 0 | O8: 541834
A9: 箕郷 | B9: 648 | C9: 1094 | D9: 2659 | E9: 3143 | F9: 2455 | G9: 2777 | H9: 1055 | I9: 2916 | J9: 636 | K9: 11307 | L9: 3639 | M9: 19 | N9: 0 | O9: 32348
A10: 群馬 | B10: 2842 | C10: 3863 | D10: 9197 | E10: 11764 | F10: 7509 | G10: 7975 | H10: 3042 | I10: 8046 | J10: 1455 | K10: 40040 | L10: 4821 | M10: 173 | N10: 0 | O10: 100727
A11: 新町 | B11: 2555 | C11: 2464 | D11: 7899 | E11: 7565 | F11: 4611 | G11: 5094 | H11: 2083 | I11: 6294 | J11: 1553 | K11: 26197 | L11: 4798 | M11: 32 | N11: 0 | O11: 71145
A12: 榛名 | B12: 771 | C12: 866 | D12: 2626 | E12: 3924 | F12: 3276 | G12: 4674 | H12: 1598 | I12: 3944 | J12: 586 | K12: 20791 | L12: 4839 | M12: 0 | N12: 0 | O12: 47895
A13: 吉井 | B13: 945 | C13: 1225 | D13: 4206 | E13: 3708 | F13: 1931 | G13: 2505 | H13: 988 | I13: 3106 | J13: 673 | K13: 12171 | L13: 2980 | M13: 0 | N13: 0 | O13: 34438
A14: 桐生 | B14: 4875 | C14: 5630 | D14: 12881 | E14: 15320 | F14: 7028 | G14: 7865 | H14: 3685 | I14: 14134 | J14: 1599 | K14: 37527 | L14: 26850 | M14: 8772 | N14: 12381 | O14: 158547
A15: 新里 | B15: 808 | C15: 1304 | D15: 2608 | E15: 3498 | F15: 2934 | G15: 3039 | H15: 1236 | I15: 4723 | J15: 404 | K15: 19067 | L15: 3998 | M15: 67 | N15: 664 | O15: 44350
A16: 伊勢崎 | B16: 7741 | C16: 6739 | D16: 16614 | E16: 21092 | F16: 9337 | G16: 9002 | H16: 4404 | I16: 16405 | J16: 2606 | K16: 67385 | L16: 37881 | M16: 2482 | N16: 1239 | O16: 202927
... A24: 太田美 | B24: 903 | C24: 784 | D24: 1268 | E24: 2518 | F24: 2066 | G24: 4448 | H24: 1193 | I24: 15671 | J24: 247 | K24: 841 | L24: 898 | M24: 0 | N24: 0 | O24: 30837
A25: 沼田 | B25: 8360 | C25: 11656 | D25: 27015 | E25: 40018 | F25: 22525 | G25: 26696 | H25: 10891 | I25: 31875 | J25: 4463 | K25: 106027 | L25: 25536 | M25: - | N25: 9248 | O25: 324310
A26: 館林 | B26: 8005 | C26: 7241 | D26: 19675 | E26: 32034 | F26: 13742 | G26: 12919 | H26: 6180 | I26: 18182 | J26: 3626 | K26: 59399 | L26: 27394 | M26: 1121 | N26: 17052 | O26: 226570
A27: 渋川 | B27: 4956 | C27: 8594 | D27: 13899 | E27: 23466 | F27: 12041 | G27: 12234 | H27: 5988 | I27: 14090 | J27: 3187 | K27: 90106 | L27: 14023 | M27: 0 | N27: 0 | O27: 202584
A28: 北橘 | B28: 512 | C28: 618 | D28: 1390 | E28: 2060 | F28: 1197 | G28: 1832 | H28: 768 | I28: 2127 | J28: 301 | K28: 10194 | L28: 2734 | M28: 0 | N28: 0 | O28: 23733
A29: 藤岡 | B29: 5316 | C29: 6694 | D29: 14943 | E29: 19767 | F29: 10256 | G29: 10137 | H29: 4741 | I29: 14375 | J29: 2152 | K29: 73340 | L29: 16928 | M29: 102 | N29: 0 | O29: 178751
A30: 富岡 | B30: 3959 | C30: 4000 | D30: 11219 | E30: 12452 | F30: 5498 | G30: 7157 | H30: 2729 | I30: 10228 | J30: 1742 | K30: 39527 | L30: 18421 | M30: 492 | N30: 9570 | O30: 126994
A31: 安中 | B31: 2168 | C31: 2251 | D31: 5823 | E31: 7720 | F31: 4614 | G31: 5620 | H31: 2525 | I31: 5594 | J31: 1075 | K31: 22047 | L31: 7796 | M31: 0 | N31: 538 | O31: 67771
A32: 松井田 | B32: 1571 | C32: 1918 | D32: 4566 | E32: 7439 | F32: 4157 | G32: 5225 | H32: 1975 | I32: 5328 | J32: 1025 | K32: 22833 | L32: 3099 | M32: 0 | N32: 50 | O32: 59186
A33: 笠懸 | B33: 3790 | C33: 3261 | D33: 8374 | E33: 11438 | F33: 7093 | G33: 9001 | H33: 3275 | I33: 18545 | J33: 1469 | K33: 46477 | L33: 10359 | M33: 461 | N33: 993 | O33: 124536
A34: 大間々 | B34: 3518 | C34: 4606 | D34: 9834 | E34: 16093 | F34: 9054 | G34: 12323 | H34: 4547 | I34: 14900 | J34: 1841 | K34: 45632 | L34: 3980 | M34: 16 | N34: 199 | O34: 126543
A35: 吉岡 | B35: 973 | C35: 1493 | D35: 3257 | E35: 5620 | F35: 3631 | G35: 4258 | H35: 1574 | I35: 5017 | J35: 763 | K35: 20841 | L35: 1936 | M35: 0 | N35: 0 | O35: 49363
A36: 上野 | B36: 537 | C36: 416 | D36: 1149 | E36: 1889 | F36: 2800 | G36: 3405 | H36: 1668 | I36: 3401 | J36: 283 | K36: 8107 | L36: 0 | M36: 0 | N36: 3875 | O36: 27530
A37: 神流 | B37: 233 | C37: 443 | D37: 732 | E37: 803 | F37: 874 | G37: 992 | H37: 309 | I37: 1005 | J37: 221 | K37: 6726 | L37: 0 | M37: 0 | N37: 0 | O37: 12338
... A39: 中之条 | B39: 2933 | C39: 3259 | D39: 7218 | E39: 10968 | F39: 6879 | G39: 6545 | H39: 2969 | I39: 10053 | J39: 1282 | K39: 39529 | L39: 0 | M39: 0 | N39: 26 | O39: 91661
A40: 草津 | B40: 2130 | C40: 1305 | D40: 3373 | E40: 3875 | F40: 2421 | G40: 2366 | H40: 698 | I40: 4500 | J40: 762 | K40: 16423 | L40: 2082 | M40: 368 | N40: 2140 | O40: 42443 | P40: その他＝YA
A41: 玉村 | B41: 4355 | C41: 4391 | D41: 9345 | E41: 15745 | F41: 7659 | G41: 9585 | H41: 3140 | I41: 12559 | J41: 1994 | K41: 54013 | L41: 6194 | M41: 196 | N41: 1527 | O41: 130703
A42: 明和 | B42: 1417 | C42: 2186 | D42: 4134 | E42: 7102 | F42: 2994 | G42: 4652 | H42: 1890 | I42: 5020 | J42: 865 | K42: 20070 | L42: 1 | M42: 0 | N42: 0 | O42: 50331
A43: 千代田 | B43: 1688 | C43: 1224 | D43: 3656 | E43: 3963 | F43: 2493 | G43: 2792 | H43: 1004 | I43: 3228 | J43: 854 | K43: 14583 | L43: 1138 | M43: 0 | N43: 0 | O43: 36623
A44: 大泉 | B44: 3271 | C44: 3195 | D44: 8425 | E44: 13871 | F44: 7069 | G44: 7364 | H44: 3046 | I44: 8761 | J44: 1857 | K44: 30333 | L44: 10948 | M44: 3092 | N44: 4511 | O44: 105743
A45: 邑楽 | B45: 4069 | C45: 5320 | D45: 8551 | E45: 15762 | F45: 9639 | G45: 13012 | H45: 4868 | I45: 10498 | J45: 2300 | K45: 34582 | L45: 5048 | N45: 3510 | O45: 117159
A46: 計 | B46: =SUM(B5:B45) -> 139344 | C46: =SUM(C5:C45) -> 171478 | D46: =SUM(D5:D45) -> 378158 | E46: =SUM(E5:E45) -> 563173 | F46: =SUM(F5:F45) -> 296400 | G46: =SUM(G5:G45) -> 354259 | H46: =SUM(H5:H45) -> 140452 | I46: =SUM(I5:I45) -> 476293 | ... O46: =SUM(O5:O45) -> 4768537
A47: 県議会 | B47: 938 | C47: 170 | D47: 1010 | E47: 4603 | F47: 319 | G47: 394 | H47: 421 | I47: 338 | J47: 78 | K47: 856 | L47: 2967 | M47: 0 | N47: 4756 | O47: 16850
A48: 点字 | B48: 432 | C48: 1472 | D48: 1958 | E48: 2946 | F48: 2436 | G48: 1084 | H48: 406 | I48: 1963 | J48: 401 | K48: 17034 | L48: 0 | M48: 0 | N48: 0 | O48: 30132
A49: 県立 | B49: 23410 | C49: 26468 | D49: 57390 | E49: 135299 | F49: 45822 | G49: 40150 | H49: 28820 | I49: 45639 | J49: 9556 | K49: 100993 | L49: 133837 | M49: 15402 | N49: 114091 | O49: 776877
A50: 小計 | B50: =SUM(B47:B49) -> 24780 | C50: =SUM(C47:C49) -> 28110 | D50: =SUM(D47:D49) -> 60358 | E50: =SUM(E47:E49) -> 142848 | F50: =SUM(F47:F49) -> 48577 | G50: =SUM(G47:G49) -> 41628 | H50: =SUM(H47:H49) -> 29647 | I50: =SUM(I47:I49) -> 47940 | ... O50: =SUM(O47:O49) -> 823859
A51: 合計 | B51: =B46+B50 -> 164124 | C51: =C46+C50 -> 199588 | D51: =D46+D50 -> 438516 | E51: =E46+E50 -> 706021 | F51: =F46+F50 -> 344977 | G51: =G46+G50 -> 395887 | H51: =H46+H50 -> 170099 | I51: =I46+I50 -> 524233 | ... O51: =O46+O50 -> 5592396

Sheet 受入図書冊数
A1: 受 入 図 書 冊 数 | X1: =貸出サービス概況!AA1 -> 令和7年
A2: 館名 | C2: 年間受入冊数 | D2: 受入れ方法による内訳(冊) | G2: 用途別内訳 | P2: (冊) | Q2: 年間除籍冊数（含移管） | R2: 年間受入雑誌種数 | U2: 年間受入新聞種数 | X2: 備 考
D3: 購 入 | E3: 寄 贈 | F3: その他１ | G3: 本館奉仕用 | J3: 自動車図書館 | M3: 分室・サービスポイント | P3: その他２ | R3: 購入 | S3: 寄贈 | T3: 合計 | U3: 購入 | V3: 寄贈 | W3: 合計
G4: 一 般 | H4: 児 童 | I4: 合 計 | J4: 一 般 | K4: 児 童 | L4: 合 計 | M4: 一 般 | N4: 児 童 | O4: 合 計 | T4: (種) | W4: (種)
A5: 前橋市 | C5: =SUM(C6:C8) -> 26234 | D5: =SUM(D6:D8) -> 23859 | E5: =SUM(E6:E8) -> 1126 | F5: =SUM(F6:F8) -> 1249 | G5: =SUM(G6:G8) -> 17077 | H5: =SUM(H6:H8) -> 8679 | I5: =SUM(I6:I8) -> 25756 | J5: =SUM(J6:J8) -> 0 | ... W5: =SUM(W6:W8) -> 108
B6: 前橋 | C6: 8295 | D6: 6969 | E6: 307 | F6: 1019 | G6: 7453 | H6: 364 | I6: 7817 | J6: 0 | K6: 0 | L6: 0 | M6: 128 | N6: 350 | O6: 478 | P6: 0 | Q6: 14693 | R6: 95 | S6: 50 | T6: 145 | U6: 16 | V6: 17 | W6: 33
B7: 前橋こ | C7: 2782 | D7: 2596 | E7: 150 | F7: 36 | G7: 192 | H7: 2590 | I7: 2782 | J7: 0 | K7: 0 | L7: 0 | M7: 0 | N7: 0 | O7: 0 | P7: 0 | Q7: 4495 | R7: 14 | S7: 1 | T7: 15 | U7: 2 | V7: 0 | W7: 2
B8: 前橋分 | C8: 15157 | D8: 14294 | E8: 669 | F8: 194 | G8: 9432 | H8: 5725 | I8: 15157 | J8: 0 | K8: 0 | L8: 0 | M8: 0 | N8: 0 | O8: 0 | P8: 0 | Q8: 31793 | R8: 324 | S8: 30 | T8: 354 | U8: 73 | V8: 0 | W8: 73
A9: 高崎市 | C9: =SUM(C10:C15) -> 27144 | D9: =SUM(D10:D15) -> 24727 | E9: =SUM(E10:E15) -> 2075 | F9: =SUM(F10:F15) -> 342 | G9: =SUM(G10:G15) -> 18056 | H9: =SUM(H10:H15) -> 7927 | I9: =SUM(I10:I15) -> 25983 | J9: =SUM(J10:J15) -> 0 | ... W9: =SUM(W10:W15) -> 65
B10: 高崎 | C10: 17326 | D10: 15999 | E10: 1182 | F10: 145 | G10: 11886 | H10: 4279 | I10: 16165 | J10: 0 | K10: 0 | L10: 0 | M10: 904 | N10: 257 | O10: 1161 | P10: 0 | Q10: 12643 | R10: 175 | S10: 98 | T10: 273 | U10: 20 | V10: 10 | W10: 30
B11: 箕郷 | C11: 1725 | D11: 1597 | E11: 122 | F11: 6 | G11: 1098 | H11: 627 | I11: 1725 | J11: 0 | K11: 0 | L11: 0 | M11: 0 | N11: 0 | O11: 0 | P11: 0 | Q11: 741 | R11: 39 | S11: 2 | T11: 41 | U11: 7 | V11: 0 | W11: 7
B12: 群馬 | C12: 3078 | D12: 2677 | E12: 234 | F12: 167 | G12: 2209 | H12: 869 | I12: 3078 | J12: 0 | K12: 0 | L12: 0 | M12: 0 | N12: 0 | O12: 0 | P12: 0 | Q12: 6900 | R12: 62 | S12: 3 | T12: 65 | U12: 7 | V12: 0 | W12: 7
B13: 新町 | C13: 1692 | D13: 1524 | E13: 152 | F13: 16 | G13: 1042 | H13: 650 | I13: 1692 | J13: 0 | K13: 0 | L13: 0 | M13: 0 | N13: 0 | O13: 0 | P13: 0 | Q13: 1520 | R13: 47 | S13: 5 | T13: 52 | U13: 7 | V13: 0 | W13: 7
B14: 榛名 | C14: 1776 | D14: 1498 | E14: 272 | F14: 6 | G14: 964 | H14: 812 | I14: 1776 | J14: 0 | K14: 0 | L14: 0 | M14: 0 | N14: 0 | O14: 0 | P14: 0 | Q14: 1571 | R14: 36 | S14: 1 | T14: 37 | U14: 7 | V14: 0 | W14: 7
B15: 吉井 | C15: 1547 | D15: 1432 | E15: 113 | F15: 2 | G15: 857 | H15: 690 | I15: 1547 | J15: 0 | K15: 0 | L15: 0 | M15: 0 | N15: 0 | O15: 0 | P15: 0 | Q15: 1321 | R15: 33 | S15: 4 | T15: 37 | U15: 7 | V15: 0 | W15: 7
A16: 桐生市 | C16: =SUM(C17:C18) -> 12334 | D16: =SUM(D17:D18) -> 10453 | E16: =SUM(E17:E18) -> 1790 | F16: =SUM(F17:F18) -> 91 | G16: =SUM(G17:G18) -> 6794 | H16: =SUM(H17:H18) -> 3414 | I16: =SUM(I17:I18) -> 10208 | J16: =SUM(J17:J18) -> 0 | ... W16: =SUM(W17:W18) -> 24
B17: 桐生 | C17: 10013 | D17: 8520 | E17: 1405 | F17: 88 | G17: 5505 | H17: 2382 | I17: 7887 | J17: 0 | K17: 0 | L17: 0 | M17: 1233 | N17: 893 | O17: 2126 | P17: 0 | Q17: 7346 | R17: 96 | S17: 5 | T17: 101 | U17: 14 | V17: 3 | W17: 17
B18: 新里 | C18: 2321 | D18: 1933 | E18: 385 | F18: 3 | G18: 1289 | H18: 1032 | I18: 2321 | J18: 0 | K18: 0 | L18: 0 | M18: 0 | N18: 0 | O18: 0 | P18: 0 | Q18: 2546 | R18: 60 | S18: 2 | T18: 62 | U18: 7 | V18: 0 | W18: 7
A19: 伊勢崎市 | C19: =SUM(C20:C23) -> 19554 | D19: =SUM(D20:D23) -> 16607 | E19: =SUM(E20:E23) -> 1276 | F19: =SUM(F20:F23) -> 1671 | G19: =SUM(G20:G23) -> 11186 | H19: =SUM(H20:H23) -> 6065 | I19: =SUM(I20:I23) -> 17251 | J19: =SUM(J20:J23) -> 0 | ... W19: =SUM(W20:W23) -> 43
B20: 伊勢崎 | C20: 10094 | D20: 7661 | E20: 838 | F20: 1595 | G20: 5163 | H20: 2628 | I20: 7791 | J20: 0 | K20: 0 | L20: 0 | M20: 1141 | N20: 1162 | O20: 2303 | P20: 0 | Q20: 6648 | R20: 109 | S20: 26 | T20: 135 | U20: 16 | V20: 2 | W20: 18
B21: 赤堀 | C21: 3181 | D21: 3038 | E21: 124 | F21: 19 | G21: 1963 | H21: 1218 | I21: 3181 | J21: 0 | K21: 0 | L21: 0 | M21: 0 | N21: 0 | O21: 0 | P21: 0 | Q21: 3052 | R21: 46 | S21: 6 | T21: 52 | U21: 7 | V21: 0 | W21: 7
B22: あずま | C22: 3049 | D22: 2840 | E22: 166 | F22: 43 | G22: 1922 | H22: 1127 | I22: 3049 | J22: 0 | K22: 0 | L22: 0 | M22: 0 | N22: 0 | O22: 0 | P22: 0 | Q22: 2203 | R22: 90 | S22: 4 | T22: 94 | U22: 9 | V22: 0 | W22: 9
B23: 境 | C23: 3230 | D23: 3068 | E23: 148 | F23: 14 | G23: 2138 | H23: 1092 | I23: 3230 | J23: 0 | K23: 0 | L23: 0 | M23: 0 | N23: 0 | O23: 0 | P23: 0 | Q23: 2178 | R23: 86 | S23: 3 | T23: 89 | U23: 9 | V23: 0 | W23: 9
A24: 太田市 | C24: =SUM(C25:C29) -> 23019 | D24: =SUM(D25:D29) -> 21640 | E24: =SUM(E25:E29) -> 1045 | F24: =SUM(F25:F29) -> 334 | G24: =SUM(G25:G29) -> 15855 | H24: =SUM(H25:H29) -> 7164 | I24: =SUM(I25:I29) -> 23019 | J24: =SUM(J25:J29) -> 0 | ... W24: =SUM(W25:W29) -> 48
B25: 太田 | C25: 8600 | D25: 8279 | E25: 213 | F25: 108 | G25: 6091 | H25: 2509 | I25: 8600 | J25: 0 | K25: 0 | L25: 0 | M25: 0 | N25: 0 | O25: 0 | P25: 0 | Q25: 10597 | R25: 95 | S25: 29 | T25: 124 | U25: 11 | V25: 7 | W25: 18
B26: 尾島 | C26: 2954 | D26: 2840 | E26: 88 | F26: 26 | G26: 2025 | H26: 929 | I26: 2954 | J26: 0 | K26: 0 | L26: 0 | M26: 0 | N26: 0 | O26: 0 | P26: 0 | Q26: 3013 | R26: 82 | S26: 2 | T26: 84 | U26: 7 | V26: 0 | W26: 7
B27: 新田 | C27: 6166 | D27: 6019 | E27: 109 | F27: 38 | G27: 4465 | H27: 1701 | I27: 6166 | J27: 0 | K27: 0 | L27: 0 | M27: 0 | N27: 0 | O27: 0 | P27: 0 | Q27: 264 | R27: 89 | S27: 2 | T27: 91 | U27: 8 | V27: 0 | W27: 8
B28: 藪塚 | C28: 3274 | D28: 2855 | E28: 407 | F28: 12 | G28: 2236 | H28: 1038 | I28: 3274 | J28: 0 | K28: 0 | L28: 0 | M28: 0 | N28: 0 | O28: 0 | P28: 0 | Q28: 2428 | R28: 90 | S28: 1 | T28: 91 | U28: 7 | V28: 0 | W28: 7
B29: 太田美 | C29: 2025 | D29: 1647 | E29: 228 | F29: 150 | G29: 1038 | H29: 987 | I29: 2025 | J29: 0 | K29: 0 | L29: 0 | M29: 0 | N29: 0 | O29: 0 | P29: 0 | Q29: 1487 | R29: 266 | S29: 41 | T29: 307 | U29: 8 | V29: 0 | W29: 8
A30: 沼田 | C30: 6490 | D30: 6225 | E30: 265 | F30: 0 | G30: 4467 | H30: 2023 | I30: 6490 | J30: 0 | K30: 0 | L30: 0 | M30: 0 | N30: 0 | O30: 0 | P30: 0 | Q30: 1353 | R30: 140 | S30: 14 | T30: 154 | U30: 12 | V30: 2 | W30: 14
A31: 館林 | C31: 5883 | D31: 5363 | E31: 442 | F31: 78 | G31: 3790 | H31: 1024 | I31: 4814 | J31: 0 | K31: 0 | L31: 0 | M31: 0 | N31: 0 | O31: 0 | P31: 1069 | Q31: 7945 | R31: 73 | S31: 80 | T31: 153 | U31: 12 | V31: 8 | W31: 20
A32: 渋川市 | C32: =SUM(C33:C34) -> 8297 | D32: =SUM(D33:D34) -> 7429 | E32: =SUM(E33:E34) -> 868 | F32: =SUM(F33:F34) -> 0 | G32: =SUM(G33:G34) -> 3445 | H32: =SUM(H33:H34) -> 2055 | I32: =SUM(I33:I34) -> 5500 | J32: =SUM(J33:J34) -> 0 | ... L32: =SUM(L33:L34) -> 0 | M32: - | N32: - | O32: =SUM(O33:O34) -> 2797 | P32: =SUM(P33:P34) -> 0 | Q32: =SUM(Q33:Q34) -> 4968 | R32: =SUM(R33:R34) -> 100 | S32: =SUM(S33:S34) -> 4 | T32: =SUM(T33:T34) -> 104 | U32: =SUM(U33:U34) -> 11 | V32: =SUM(V33:V34) -> 1 | W32: =SUM(W33:W34) -> 12
B33: 渋川 | C33: 7479 | D33: 6726 | E33: 753 | F33: 0 | G33: 3012 | H33: 1670 | I33: 4682 | J33: 0 | K33: 0 | L33: 0 | M33: 1712 | N33: 1085 | O33: 2797 | P33: 0 | Q33: 4488 | R33: 83 | S33: 3 | T33: 86 | U33: 9 | V33: 1 | W33: 10
B34: 北橘 | C34: 818 | D34: 703 | E34: 115 | F34: 0 | G34: 433 | H34: 385 | I34: 818 | J34: 0 | K34: 0 | L34: 0 | M34: 0 | N34: 0 | O34: 0 | P34: 0 | Q34: 480 | R34: 17 | S34: 1 | T34: 18 | U34: 2 | V34: 0 | W34: 2
A35: 藤岡 | C35: 6522 | D35: 6088 | E35: 416 | F35: 18 | G35: 4854 | H35: 1668 | I35: 6522 | J35: 0 | K35: 0 | L35: 0 | M35: 0 | N35: 0 | O35: 0 | P35: 0 | Q35: 5067 | R35: 86 | S35: 40 | T35: 126 | U35: 10 | V35: 5 | W35: 15
A36: 富岡 | C36: 4738 | D36: 4158 | E36: 513 | F36: 67 | G36: 3148 | H36: 1590 | I36: 4738 | J36: 0 | K36: 0 | L36: 0 | M36: 0 | N36: 0 | O36: 0 | P36: 0 | Q36: 13987 | R36: 67 | S36: 0 | T36: 67 | U36: 10 | V36: 4 | W36: 14
A37: 安中市 | C37: =SUM(C38:C39) -> 4638 | D37: =SUM(D38:D39) -> 4352 | E37: =SUM(E38:E39) -> 276 | F37: =SUM(F38:F39) -> 10 | G37: =SUM(G38:G39) -> 3373 | H37: =SUM(H38:H39) -> 1265 | I37: =SUM(I38:I39) -> 4638 | J37: =SUM(J38:J39) -> 0 | ... W37: =SUM(W38:W39) -> 15
B38: 安中 | C38: 2346 | D38: 2158 | E38: 181 | F38: 7 | G38: 1868 | H38: 478 | I38: 2346 | J38: 0 | K38: 0 | L38: 0 | M38: 0 | N38: 0 | O38: 0 | P38: 0 | Q38: 1346 | R38: 60 | S38: 1 | T38: 61 | U38: 10 | V38: 0 | W38: 10
B39: 松井田 | C39: 2292 | D39: 2194 | E39: 95 | F39: 3 | G39: 1505 | H39: 787 | I39: 2292 | J39: 0 | K39: 0 | L39: 0 | M39: 0 | N39: 0 | O39: 0 | P39: 0 | Q39: 1983 | R39: 61 | S39: 5 | T39: 66 | U39: 5 | V39: 0 | W39: 5
A40: みどり市 | C40: =SUM(C41:C42) -> 5899 | D40: =SUM(D41:D42) -> 5091 | E40: =SUM(E41:E42) -> 808 | F40: =SUM(F41:F42) -> 0 | G40: =SUM(G41:G42) -> 4225 | H40: =SUM(H41:H42) -> 1674 | I40: =SUM(I41:I42) -> 5899 | J40: =SUM(J41:J42) -> 0 | ... W40: =SUM(W41:W42) -> 13
B41: 笠懸 | C41: 3587 | D41: 2971 | E41: 616 | F41: 0 | G41: 2583 | H41: 1004 | I41: 3587 | J41: 0 | K41: 0 | L41: 0 | M41: 0 | N41: 0 | O41: 0 | P41: 0 | Q41: 0 | R41: 65 | S41: 9 | T41: 74 | U41: 7 | V41: 0 | W41: 7
B42: 大間々 | C42: 2312 | D42: 2120 | E42: 192 | F42: 0 | G42: 1642 | H42: 670 | I42: 2312 | J42: 0 | K42: 0 | L42: 0 | M42: 0 | N42: 0 | O42: 0 | P42: 0 | Q42: 36 | R42: 53 | S42: 6 | T42: 59 | U42: 6 | V42: 0 | W42: 6
A43: 吉岡 | C43: 3654 | D43: 3580 | E43: 63 | F43: 11 | G43: 2549 | H43: 1105 | I43: 3654 | J43: 0 | K43: 0 | L43: 0 | M43: 0 | N43: 0 | O43: 0 | P43: 0 | Q43: 2818 | R43: 85 | S43: 10 | T43: 95 | U43: 5 | V43: 0 | W43: 5
A44: 上野 | C44: 1127 | D44: 1127 | E44: 0 | F44: 0 | G44: 887 | H44: 240 | I44: 1127 | J44: 0 | K44: 0 | L44: 0 | M44: 0 | N44: 0 | O44: 0 | P44: 0 | Q44: 0 | R44: 23 | S44: 1 | T44: 24 | U44: 2 | V44: 0 | W44: 2
A45: 神流 | C45: 322 | D45: 254 | E45: 68 | F45: 0 | G45: 189 | H45: 133 | I45: 322 | J45: 0 | K45: 0 | L45: 0 | M45: 0 | N45: 0 | O45: 0 | P45: 0 | Q45: 0 | R45: 3 | S45: 0 | T45: 3 | U45: 3 | V45: 0 | W45: 3
A46: 甘楽 | C46: 1826 | D46: 1293 | E46: 533 | F46: 0 | G46: 1258 | H46: 568 | I46: 1826 | J46: 0 | K46: 0 | L46: 0 | M46: 0 | N46: 0 | O46: 0 | P46: 0 | Q46: 1323 | R46: 39 | S46: 1 | T46: 40 | U46: 5 | V46: 0 | W46: 5
A47: 中之条 | C47: 3161 | D47: 2629 | E47: 532 | F47: 0 | G47: 2205 | H47: 956 | I47: 3161 | J47: 0 | K47: 0 | L47: 0 | M47: 0 | N47: 0 | O47: 0 | P47: 0 | Q47: 3711 | R47: 97 | S47: 0 | T47: 97 | U47: 9 | V47: 0 | W47: 9
A48: 草津 | C48: 1729 | D48: 1211 | E48: 518 | F48: 0 | G48: 1449 | H48: 280 | I48: 1729 | J48: 0 | K48: 0 | L48: 0 | M48: 0 | N48: 0 | O48: 0 | P48: 0 | Q48: 1450 | R48: 28 | S48: 12 | T48: 40 | U48: 7 | V48: 3 | W48: 10
A49: 玉村 | C49: 4291 | D49: 3818 | E49: 445 | F49: 28 | G49: 3205 | H49: 1086 | I49: 4291 | J49: 0 | K49: 0 | L49: 0 | M49: 0 | N49: 0 | O49: 0 | P49: 0 | Q49: 3932 | R49: 99 | S49: 9 | T49: 108 | U49: 9 | V49: 0 | W49: 9
A50: 明和 | C50: 1849 | D50: 1597 | E50: 252 | F50: 0 | G50: 880 | H50: 761 | I50: 1641 | J50: 0 | K50: 0 | L50: 0 | M50: 0 | N50: 0 | O50: 0 | P50: 208 | Q50: 13 | R50: 13 | S50: 0 | T50: 13 | U50: 6 | V50: 0 | W50: 6
A51: 千代田 | C51: 1809 | D51: 1800 | E51: 8 | F51: 1 | G51: 1451 | H51: 358 | I51: 1809 | J51: 0 | K51: 0 | L51: 0 | M51: 0 | N51: 0 | O51: 0 | P51: 0 | Q51: 663 | R51: 37 | S51: 0 | T51: 37 | U51: 7 | V51: 0 | W51: 7
A52: 大泉 | C52: 3791 | D52: 3378 | E52: 413 | F52: 0 | G52: 2662 | H52: 1129 | I52: 3791 | J52: 0 | K52: 0 | L52: 0 | M52: 0 | N52: 0 | O52: 0 | P52: 0 | Q52: 2932 | R52: 69 | S52: 6 | T52: 75 | U52: 7 | V52: 2 | W52: 9
A53: 邑楽 | C53: 5727 | D53: 4949 | E53: 586 | F53: 192 | G53: 4458 | H53: 1237 | I53: 5695 | J53: 8 | K53: 25 | L53: 33 | M53: 0 | N53: 0 | O53: 0 | P53: 0 | Q53: 4955 | R53: 110 | S53: 3 | T53: 113 | U53: 14 | V53: 6 | W53: 20
A54: 計 | C54: =SUM(C5,C9,C16,C19,C24,C30:C32,C35:C37,C40,C43:C53) -> 180038 | D54: =SUM(D5,D9,D16,D19,D24,D30:D32,D35:D37,D40,D43:D53) -> 161628 | E54: =SUM(E5,E9,E16,E19,E24,E30:E32,E35:E37,E40,E43:E53) -> 14318 | F54: =SUM(F5,F9,F16,F19,F24,F30:F32,F35:F37,F40,F43:F53) -> 4092 | G54: =SUM(G5,G9,G16,G19,G24,G30:G32,G35:G37,G40,G43:G53) -> 117463 | H54: =SUM(H5,H9,H16,H19,H24,H30:H32,H35:H37,H40,H43:H53) -> 52401 | I54: =SUM(I5,I9,I16,I19,I24,I30:I32,I35:I37,I40,I43:I53) -> 169864 | J54: =SUM(J5,J9,J16,J19,J24,J30:J32,J35:J37,J40,J43:J53) -> 8 | ... W54: =SUM(W5,W9,W16,W19,W24,W30:W32,W35:W37,W40,W43:W53) -> 476
A55: 県議会 | C55: 246 | D55: 188 | E55: 58 | F55: 0 | G55: 246 | H55: 0 | I55: 246 | J55: 0 | K55: 0 | L55: 0 | M55: 0 | N55: 0 | O55: 0 | P55: 0 | Q55: 143 | R55: 19 | S55: 5 | T55: 24 | U55: 10 | V55: 0 | W55: 10
A56: 点字 | C56: 448 | E56: 18 | F56: 430 | G56: 448 | I56: 448 | L56: 0 | O56: 0 | T56: 0 | W56: 0
A57: 県立 | C57: 12063 | D57: 9335 | E57: 2361 | F57: 367 | G57: 8902 | H57: 1607 | I57: 10509 | J57: 0 | K57: 0 | L57: 0 | M57: 0 | N57: 0 | O57: 0 | P57: 1554 | Q57: 3475 | R57: 164 | S57: 508 | T57: 672 | U57: 16 | V57: 52 | W57: 68
A58: 小計 | C58: =SUM(C55:C57) -> 12757 | D58: =SUM(D55:D57) -> 9523 | E58: =SUM(E55:E57) -> 2437 | F58: =SUM(F55:F57) -> 797 | G58: =SUM(G55:G57) -> 9596 | H58: =SUM(H55:H57) -> 1607 | I58: =SUM(I55:I57) -> 11203 | J58: =SUM(J55:J57) -> 0 | ... W58: =SUM(W55:W57) -> 78
A59: 合計 | C59: =C54+C58 -> 192795 | D59: =D54+D58 -> 171151 | E59: =E54+E58 -> 16755 | F59: =F54+F58 -> 4889 | G59: =G54+G58 -> 127059 | H59: =H54+H58 -> 54008 | I59: =I54+I58 -> 181067 | J59: =J54+J58 -> 8 | ... W59: =W54+W58 -> 554

Sheet 視聴覚資料
A1: 視聴覚資料等所蔵・受入状況
A2: 館 名 | B2: 所蔵数 | G2: (点) | I2: =蔵書Ⅱ!P1 -> 令和8年3月31日現在 | L2: 年 間 受 入 点 数 | S2: (点) | T2: =(貸出サービス概況!AA1) -> 令和7年 | V2: 備 考
B3: 視聴覚資料 | J3: ＣＤーＲＯＭ | K3: ﾏｲｸﾛﾌｨﾙﾑ、 | L3: 視聴覚資料 | T3: ＣＤーＲＯＭ | U3: ﾏｲｸﾛﾌｨﾙﾑ
B4: Ｃ Ｄ | C4: レコード | D4: カセット | E4: ﾋﾞﾃﾞｵ | F4: Ｌ Ｄ | G4: DVD | H4: その他 | I4: 合 計 | J4: ＤＶＤ－ＲＯＭ | K4: ﾌｨｯｼｭ | L4: Ｃ Ｄ | M4: レコード | N4: カセット | O4: ﾋﾞﾃﾞｵ | P4: Ｌ Ｄ | Q4: DVD | R4: その他 | S4: 合 計 | T4: ＤＶＤ－ＲＯＭ | U4: ､ﾌｨｯｼｭ
A5: 前橋 | B5: 11803 | C5: 42 | D5: 42 | E5: 125 | F5: 0 | G5: 2651 | H5: 1021 | I5: 15684 | J5: 93 | K5: 731 | L5: 79 | M5: 0 | N5: 0 | O5: 0 | P5: 0 | Q5: 51 | R5: 0 | S5: 130 | T5: 12 | U5: 0
A6: 前橋こ | B6: 2466 | C6: 0 | D6: 0 | E6: 14 | F6: 0 | G6: 1861 | H6: 0 | I6: 4341 | J6: 0 | K6: 0 | L6: 28 | M6: 0 | N6: 0 | O6: 0 | P6: 0 | Q6: 50 | R6: 0 | S6: 78 | T6: 0 | U6: 0
A7: 前橋分 | B7: 18965 | C7: 0 | D7: 0 | E7: 53 | F7: 0 | G7: 5797 | H7: 0 | I7: 24815 | J7: 0 | K7: 0 | L7: 188 | M7: 0 | N7: 0 | O7: 0 | P7: 0 | Q7: 87 | R7: 0 | S7: 275 | T7: 0 | U7: 0
A8: 高崎 | B8: 57335 | C8: 0 | D8: 1 | E8: 3746 | F8: 0 | G8: 21786 | H8: 0 | I8: 82868 | J8: 25 | K8: 0 | L8: 1247 | M8: 0 | N8: 0 | O8: 0 | P8: 0 | Q8: 653 | R8: 0 | S8: 1900 | T8: 0 | U8: 0
A9: 箕郷 | B9: 2043 | C9: 0 | D9: 7 | E9: 66 | F9: 0 | G9: 1546 | H9: 0 | I9: 3662 | J9: 0 | K9: 0 | L9: 43 | M9: 0 | N9: 0 | O9: 0 | P9: 0 | Q9: 41 | R9: 0 | S9: 84 | T9: 0 | U9: 0
A10: 群馬 | B10: 5463 | C10: 0 | D10: 2 | E10: 947 | F10: 0 | G10: 1902 | H10: 0 | I10: 8314 | J10: 0 | K10: 0 | L10: 84 | M10: 0 | N10: 0 | O10: 0 | P10: 0 | Q10: 72 | R10: 0 | S10: 156 | T10: 0 | U10: 0
A11: 新町 | B11: 4445 | C11: 0 | D11: 0 | E11: 45 | F11: 0 | G11: 2199 | H11: 0 | I11: 6689 | J11: 0 | K11: 0 | L11: 92 | M11: 0 | N11: 0 | O11: 0 | P11: 0 | Q11: 41 | R11: 0 | S11: 133 | T11: 0 | U11: 0
A12: 榛名 | B12: 1565 | C12: 0 | D12: 0 | E12: 101 | F12: 0 | G12: 1297 | H12: 0 | I12: 2963 | J12: 0 | K12: 0 | L12: 30 | M12: 0 | N12: 0 | O12: 0 | P12: 0 | Q12: 42 | R12: 0 | S12: 72 | T12: 0 | U12: 0
A13: 吉井 | B13: 1878 | C13: 0 | D13: 0 | E13: 3 | F13: 0 | G13: 1765 | H13: 0 | I13: 3646 | J13: 0 | K13: 0 | L13: 36 | M13: 0 | N13: 0 | O13: 0 | P13: 0 | Q13: 64 | R13: 0 | S13: 100 | T13: 0 | U13: 0
A14: 桐生 | B14: 2775 | C14: 6646 | D14: 1 | E14: 50 | F14: 0 | G14: 1516 | H14: 0 | I14: 10988 | J14: 263 | K14: 369 | L14: 134 | M14: 0 | N14: 0 | O14: 0 | P14: 0 | Q14: 31 | R14: 0 | S14: 165 | T14: 0 | U14: 0
A15: 新里 | B15: 2321 | C15: 0 | D15: 0 | E15: 17 | F15: 0 | G15: 903 | H15: 0 | I15: 3241 | J15: 19 | K15: 0 | L15: 70 | M15: 0 | N15: 0 | O15: 0 | P15: 0 | Q15: 35 | R15: 0 | S15: 105 | T15: 0 | U15: 0
A16: 伊勢崎 | B16: 9909 | C16: 0 | D16: 116 | E16: 930 | F16: 0 | G16: 3914 | H16: 1480 | I16: 16349 | J16: 197 | K16: 0 | L16: 261 | M16: 0 | N16: 0 | O16: 0 | P16: 0 | Q16: 122 | R16: 19 | S16: 402 | T16: 18 | U16: 0
A17: 赤堀 | B17: 3604 | C17: 0 | D17: 1 | E17: 85 | F17: 0 | G17: 2035 | H17: 0 | I17: 5725 | J17: 12 | K17: - | L17: 81 | M17: 0 | N17: 0 | O17: 0 | P17: 0 | Q17: 75 | R17: 0 | S17: 156 | T17: 0 | U17: -
A18: あずま | B18: 5363 | C18: 0 | D18: 65 | E18: 293 | F18: 0 | G18: 2101 | H18: 0 | I18: 7822 | J18: 13 | K18: 0 | L18: 101 | M18: 0 | N18: 0 | O18: 0 | P18: 0 | Q18: 77 | R18: 0 | S18: 178 | T18: 0 | U18: 0
A19: 境 | B19: 4260 | C19: 0 | D19: 4 | E19: 498 | F19: 0 | G19: 2302 | H19: 0 | I19: 7064 | J19: 18 | K19: 0 | L19: 105 | M19: 0 | N19: 0 | O19: 0 | P19: 0 | Q19: 95 | R19: 0 | S19: 200 | T19: 0 | U19: 0
A20: 太田 | B20: 10010 | C20: 0 | D20: 8 | E20: 247 | F20: 495 | G20: 4441 | H20: 0 | I20: 15201 | J20: 25 | K20: 685 | L20: 154 | M20: 0 | N20: 0 | O20: 0 | P20: 0 | Q20: 186 | R20: 0 | S20: 340 | T20: 0 | U20: 0
A21: 尾島 | B21: 2853 | C21: 0 | D21: 0 | E21: 123 | F21: 0 | G21: 1704 | H21: 0 | I21: 4680 | J21: 0 | K21: 0 | L21: 47 | M21: 0 | N21: 0 | O21: 0 | P21: 0 | Q21: 72 | R21: 0 | S21: 119 | T21: 0 | U21: 0
A22: 新田 | B22: 8925 | C22: 0 | D22: 2 | E22: 40 | F22: 0 | G22: 3277 | H22: 0 | I22: 12244 | J22: 0 | K22: 0 | L22: 149 | M22: 0 | N22: 0 | O22: 0 | P22: 0 | Q22: 174 | R22: 0 | S22: 323 | T22: 0 | U22: 0
A23: 藪塚 | B23: 2258 | C23: 0 | D23: 0 | E23: 388 | F23: 0 | G23: 1371 | H23: 0 | I23: 4017 | J23: 0 | K23: 0 | L23: 77 | M23: 0 | N23: 0 | O23: 0 | P23: 0 | Q23: 74 | R23: 0 | S23: 151 | T23: 0 | U23: 0
A24: 太田美 | B24: 0 | C24: 0 | D24: 0 | E24: 0 | F24: 0 | G24: 236 | H24: 0 | I24: 236 | J24: 0 | K24: 0 | L24: 0 | M24: 0 | N24: 0 | O24: 0 | P24: 0 | Q24: 13 | R24: 0 | S24: 13 | T24: 0 | U24: 0
A25: 沼田 | B25: 12864 | C25: 0 | D25: 719 | E25: 4311 | F25: 420 | G25: 2366 | H25: 0 | I25: 20680 | J25: 25 | K25: 528 | L25: 86 | M25: 0 | N25: 0 | O25: 0 | P25: 0 | Q25: 56 | R25: 0 | S25: 142 | T25: 0 | U25: 0
A26: 館林 | B26: 7417 | C26: 0 | D26: 510 | E26: 3018 | F26: 560 | G26: 2223 | H26: 1630 | I26: 15358 | J26: 110 | K26: 0 | L26: 117 | M26: 0 | N26: 0 | O26: 0 | P26: 0 | Q26: 97 | R26: 0 | S26: 214 | T26: 0 | U26: 0
A27: 渋川 | B27: 8125 | C27: 1195 | D27: 59 | E27: 0 | F27: 0 | G27: 3815 | H27: 0 | I27: 13194 | J27: 0 | K27: 0 | L27: 80 | M27: 0 | N27: 0 | O27: 0 | P27: 0 | Q27: 140 | R27: 0 | S27: 220 | T27: 0 | U27: 0
A28: 北橘 | B28: 54 | C28: 0 | D28: 0 | E28: 3 | F28: 0 | G28: 690 | H28: 0 | I28: 747 | J28: 0 | K28: 0 | L28: 0 | M28: 0 | N28: 0 | O28: 0 | P28: 0 | Q28: 34 | R28: 0 | S28: 34 | T28: 0 | U28: 0
A29: 藤岡 | B29: 7731 | C29: 0 | D29: 240 | E29: 0 | F29: 0 | G29: 3719 | H29: 0 | I29: 11690 | J29: 57 | K29: 0 | L29: 117 | M29: 0 | N29: 0 | O29: 0 | P29: 0 | Q29: 154 | R29: 0 | S29: 271 | T29: 4 | U29: 0
... A45: 邑楽 | B45: 8363 | C45: 0 | D45: 472 | E45: 1915 | F45: 464 | G45: 2020 | H45: 0 | I45: 13234 | J45: 0 | K45: 0 | L45: 147 | M45: 0 | N45: 0 | O45: 0 | P45: 0 | Q45: 99 | R45: 0 | S45: 246 | T45: 0 | U45: 0
A46: 計 | B46: =SUM(B5:B45) -> 253023 | C46: =SUM(C5:C45) -> 7883 | D46: =SUM(D5:D45) -> 2665 | E46: =SUM(E5:E45) -> 26693 | F46: =SUM(F5:F45) -> 2270 | G46: =SUM(G5:G45) -> 104660 | H46: =SUM(H5:H45) -> 4142 | I46: =SUM(I5:I45) -> 401336 | ... U46: =SUM(U5:U45) -> 0
A47: 県議会 | B47: 7 | C47: 0 | D47: 3 | E47: 632 | F47: 0 | G47: 1025 | H47: 0 | I47: 1667 | J47: 18 | K47: 0 | L47: 0 | M47: 0 | N47: 0 | O47: 0 | P47: 0 | Q47: 40 | R47: 0 | S47: 40 | T47: 0 | U47: 0
A48: 点字 | B48: 0 | C48: 0 | D48: 0 | E48: 0 | F48: 0 | G48: 0 | H48: 0 | I48: 0 | J48: 0 | K48: 0 | L48: 0 | M48: 0 | N48: 0 | O48: 0 | P48: 0 | Q48: 0 | R48: 0 | S48: 0 | T48: 0 | U48: 0
A49: 県立 | B49: 27543 | C49: 13913 | D49: 96 | E49: 5393 | F49: 182 | G49: 2570 | I49: 49697 | J49: 1629 | K49: 8092 | L49: 143 | M49: 0 | N49: 0 | O49: 0 | P49: 0 | Q49: 14 | R49: 0 | S49: 157 | T49: 25 | U49: 6
A50: 小計 | B50: =SUM(B47:B49) -> 27550 | C50: =SUM(C47:C49) -> 13913 | D50: =SUM(D47:D49) -> 99 | E50: =SUM(E47:E49) -> 6025 | F50: =SUM(F47:F49) -> 182 | G50: =SUM(G47:G49) -> 3595 | H50: =SUM(H47:H49) -> 0 | I50: =SUM(I47:I49) -> 51364 | ... U50: =SUM(U47:U49) -> 6
A51: 合計 | B51: =B46+B50 -> 280573 | C51: =C46+C50 -> 21796 | D51: =D46+D50 -> 2764 | E51: =E46+E50 -> 32718 | F51: =F46+F50 -> 2452 | G51: =G46+G50 -> 108255 | H51: =H46+H50 -> 4142 | I51: =I46+I50 -> 452700 | ... U51: =U46+U50 -> 6

Sheet 個人登録・個人貸出Ⅰ
A1: 本館個人利用登録 | H1: =貸出サービス概況!AA1 -> 令和7年 | J1: 本館個人貸出Ⅰ | O1: =貸出サービス概況!AA1 -> 令和7年
A2: 館 名 | B2: 登録者数 | E2: (人) | F2: 登録開始年齢 | G2: 利用有効期間 | H2: 備 考 | J2: 館 名 | K2: 貸出冊数 | N2: (冊) | O2: 備 考
B3: 一般 | C3: 学生 | D3: 児童 | E3: 総 計 | H3: （学生の区分） | K3: 一 般 | L3: 学 生 | M3: 児 童 | N3: 総 計
A4: 前橋 | B4: 148174 | C4: 15565 | D4: 10414 | E4: 174153 | F4: 0 | G4: 3 | H4: 13歳〜18歳 | J4: 前橋 | K4: 230343 | L4: 6387 | M4: 14897 | N4: 251627
A5: 前橋こ | B5: − | C5: − | D5: − | E5: 0 | F5: 0 | G5: 3 | H5: 中央館で一括計上 | J5: 前橋こ | K5: 111606 | L5: 6434 | M5: 68795 | N5: 186835
A6: 前橋分 | B6: − | C6: − | D6: − | E6: 0 | F6: 0 | G6: 3 | H6: 中央館で一括計上 | J6: 前橋分 | K6: 774015 | L6: 33426 | M6: 217424 | N6: 1024865
A7: 高崎 | B7: 81208 | C7: 4705 | D7: 4626 | E7: 90539 | F7: 0 | G7: 3 | H7: 13～18歳 | J7: 高崎 | K7: 805254 | L7: 29908 | M7: 120940 | N7: 956102
A8: 箕郷 | B8: 3654 | C8: 390 | D8: 378 | E8: 4422 | F8: 0 | G8: 3 | H8: 13～18歳 | J8: 箕郷 | K8: 57185 | L8: 1602 | M8: 11381 | N8: 70168
A9: 群馬 | B9: 9983 | C9: 1048 | D9: 995 | E9: 12026 | F9: 0 | G9: 3 | H9: 13～18歳 | J9: 群馬 | K9: 145463 | L9: 3295 | M9: 26152 | N9: 174910
A10: 新町 | B10: 5793 | C10: 537 | D10: 428 | E10: 6758 | F10: 0 | G10: 3 | H10: 13～18歳 | J10: 新町 | K10: 73843 | L10: 1812 | M10: 9043 | N10: 84698
A11: 榛名 | B11: 3510 | C11: 487 | D11: 252 | E11: 4249 | F11: 0 | G11: 3 | H11: 13～18歳 | J11: 榛名 | K11: 37000 | L11: 651 | M11: 6275 | N11: 43926
A12: 吉井 | B12: 3357 | C12: 725 | D12: 522 | E12: 4604 | F12: 0 | G12: 3 | H12: 13～18歳 | J12: 吉井 | K12: 51783 | L12: 1090 | M12: 11833 | N12: 64706
A13: 桐生 | B13: 52888 | C13: 4712 | D13: 3657 | E13: 61257 | F13: 0 | G13: 7 | H13: 13-18歳 | J13: 桐生 | K13: 165032 | L13: 4098 | M13: 20452 | N13: 189582
A14: 新里 | B14: 5913 | C14: 354 | D14: 424 | E14: 6691 | F14: 0 | G14: 7 | H14: 13-18歳 | J14: 新里 | K14: 37774 | L14: 1756 | M14: 8213 | N14: 47743
A15: 伊勢崎 | B15: 41775 | C15: 2895 | D15: 2428 | E15: 47098 | F15: 0 | G15: 3 | H15: 13～18歳 | J15: 伊勢崎 | K15: 269837 | L15: 10604 | M15: 71355 | N15: 351796
A16: 赤堀 | B16: 8864 | C16: 1052 | D16: 829 | E16: 10745 | F16: 0 | G16: 3 | H16: 13～18歳 | J16: 赤堀 | K16: 64752 | L16: 3401 | M16: 26318 | N16: 94471
A17: あずま | B17: 18789 | C17: 2203 | D17: 1548 | E17: 22540 | F17: 0 | G17: 3 | H17: 13～18歳 | J17: あずま | K17: 105315 | L17: 3455 | M17: 29574 | N17: 138344
A18: 境 | B18: 12206 | C18: 1056 | D18: 767 | E18: 14029 | F18: 0 | G18: 3 | H18: 13～18歳 | J18: 境 | K18: 90046 | L18: 3830 | M18: 20312 | N18: 114188
... A23: 太田美 | B23: 12712 | C23: 2641 | D23: 1736 | E23: 17089 | F23: 0 | G23: 5 | H23: 13～22歳 | J23: 太田美 | K23: 31127 | L23: 2148 | M23: 16682 | N23: 49957
A24: 沼田 | B24: 46180 | C24: 2492 | D24: 2228 | E24: 50900 | F24: 0 | G24: 永 | H24: 12～17を学生とする | J24: 沼田 | K24: 157098 | L24: 5915 | M24: 67405 | N24: 230418
A25: 館林 | B25: 61842 | C25: 2394 | D25: 1486 | E25: 65722 | F25: 0 | G25: 2 | J25: 館林 | K25: 143786 | L25: 3037 | M25: 33011 | N25: 179834
A26: 渋川 | B26: 32127 | C26: 1682 | D26: 1679 | E26: 35488 | F26: 0 | G26: 3 | H26: 13～18歳 | J26: 渋川 | K26: 146956 | L26: 6007 | M26: 42218 | N26: 195181
A27: 北橘 | B27: 4039 | C27: 346 | D27: 337 | E27: 4722 | F27: 0 | G27: 2 | J27: 北橘 | K27: 9815 | L27: 491 | M27: 7062 | N27: 17368
A28: 藤岡 | B28: 10827 | C28: 2336 | D28: 2379 | E28: 15542 | F28: 0 | G28: 5 | H28: 13～18歳 | J28: 藤岡 | K28: 196016 | L28: 5984 | M28: 36500 | N28: 238500
A29: 富岡 | B29: 36383 | C29: 4018 | D29: 1901 | E29: 42302 | F29: 0 | G29: 5 | H29: 13～22歳 | J29: 富岡 | K29: 127237 | L29: 6699 | M29: 40514 | N29: 174450
A30: 安中 | B30: 14145 | C30: 1022 | D30: 755 | E30: 15922 | F30: 0 | G30: 5 | H30: 13～22才 | J30: 安中 | K30: 70543 | L30: 2051 | M30: 14706 | N30: 87300
A31: 松井田 | B31: 9912 | C31: 532 | D31: 400 | E31: 10844 | F31: 0 | G31: 永 | H31: 13～22才 | J31: 松井田 | K31: 40513 | L31: 1315 | M31: 11169 | N31: 52997
A32: 笠懸 | B32: 5401 | C32: 1119 | D32: 1604 | E32: 8124 | F32: 0 | G32: 3 | H32: 12～19歳 | J32: 笠懸 | K32: 114209 | L32: 8511 | M32: 42266 | N32: 164986
A33: 大間々 | B33: 4112 | C33: 775 | D33: 534 | E33: 5421 | F33: 0 | G33: 3 | H33: 12～19歳 | J33: 大間々 | K33: 75773 | L33: 7951 | M33: 23096 | N33: 106820
A34: 吉岡 | B34: 4426 | C34: 712 | D34: 1870 | E34: 7008 | F34: 0 | G34: 5 | H34: 13～22歳 | J34: 吉岡 | K34: 112039 | L34: 5007 | M34: 62869 | N34: 179915
A35: 上野 | B35: 860 | E35: 860 | F35: 0 | G35: 永 | J35: 上野 | K35: 3288 | M35: 2564 | N35: 5852
A36: 神流 | B36: 1328 | C36: 14 | D36: 35 | E36: 1377 | F36: 6 | G36: 永 | J36: 神流 | K36: 1238 | L36: 11 | M36: 149 | N36: 1398
A37: 甘楽 | B37: 9579 | C37: 844 | D37: 796 | E37: 11219 | F37: 0 | G37: 5 | H37: 13～18歳 | J37: 甘楽 | K37: 22488 | L37: 4066 | M37: 57067 | N37: 83621
A38: 中之条 | B38: 22973 | C38: 1574 | D38: 812 | E38: 25359 | F38: 0 | G38: 永 | H38: 12～19歳 | J38: 中之条 | K38: 76681 | L38: 4691 | M38: 28501 | N38: 109873
A39: 草津 | B39: 14139 | C39: 198 | D39: 77 | E39: 14414 | F39: 0 | G39: 永 | H39: 13-18歳 | J39: 草津 | K39: 18482 | L39: 113 | M39: 971 | N39: 19566
A40: 玉村 | B40: 41980 | C40: 3220 | D40: 1629 | E40: 46829 | F40: 0 | G40: 3 | H40: 13～22歳 | J40: 玉村 | K40: 186943 | L40: 6741 | M40: 37796 | N40: 231480
A41: 明和 | B41: 10930 | C41: 1042 | D41: 426 | E41: 12398 | F41: 0 | G41: 永 | H41: １３歳～２２歳 | J41: 明和 | K41: 26459 | L41: 1295 | M41: 9090 | N41: 36844
A42: 千代田 | B42: 5409 | C42: 494 | D42: 138 | E42: 6041 | F42: 13 | G42: 永 | H42: 13～18歳 | J42: 千代田 | K42: 14099 | L42: 195 | M42: 1989 | N42: 16283
A43: 大泉 | B43: 53209 | C43: 1625 | D43: 3473 | E43: 58307 | F43: 0 | G43: 5 | H43: 13～18歳 | J43: 大泉 | K43: 90842 | L43: 879 | M43: 28973 | N43: 120694
A44: 邑楽 | B44: 60789 | C44: 2173 | D44: 1390 | E44: 64352 | F44: 0 | G44: 5 | J44: 邑楽 | K44: 176457 | L44: 5637 | M44: 38399 | N44: 220493
A45: 計 | B45: =SUM(B4:B44) -> 945612 | C45: =SUM(C4:C44) -> 80061 | D45: =SUM(D4:D44) -> 58793 | E45: =SUM(E4:E44) -> 1084466 | J45: 計 | K45: =SUM(K4:K44) -> 5362694 | L45: =SUM(L4:L44) -> 224556 | M45: =SUM(M4:M44) -> 1393768 | N45: =SUM(N4:N44) -> 6981018
A46: 県議会 | B46: 0 | C46: 0 | D46: 0 | E46: 0 | F46: 0 | G46: 永 | J46: 県議会 | K46: 369 | L46: 0 | M46: 0 | N46: 369
A47: 点字 | B47: 600 | C47: 0 | D47: 0 | E47: 600 | F47: 0 | J47: 点字 | K47: 36550 | L47: 0 | M47: 0 | N47: 36550
A48: 県立 | B48: 146707 | C48: 2683 | D48: 773 | E48: 150163 | F48: 0 | G48: 5 | H48: 13～18歳 | J48: 県立 | K48: 166785 | L48: 2597 | M48: 11911 | N48: 181293
A49: 小計 | B49: =SUM(B46:B48) -> 147307 | C49: =SUM(C46:C48) -> 2683 | D49: =SUM(D46:D48) -> 773 | E49: =SUM(E46:E48) -> 150763 | J49: 小計 | K49: =SUM(K46:K48) -> 203704 | L49: =SUM(L46:L48) -> 2597 | M49: =SUM(M46:M48) -> 11911 | N49: =SUM(N46:N48) -> 218212
A50: 合計 | B50: =B45+B49 -> 1092919 | C50: =C45+C49 -> 82744 | D50: =D45+D49 -> 59566 | E50: =E45+E49 -> 1235229 | J50: 合計 | K50: =K45+K49 -> 5566398 | L50: =L45+L49 -> 227153 | M50: =M45+M49 -> 1405679 | N50: =N45+N49 -> 7199230

Sheet 個人貸出Ⅱ
A1: 本館個人貸出Ⅱ | S1: =貸出サービス概況!AA1 -> 令和7年
A2: 館 名 | B2: 分 類 別 貸 出 冊 数 | Q2: (冊)
B3: 総 記 | C3: 宗教哲学 | D3: 歴史地理 | E3: 社会科学 | F3: 自然科学 | G3: 技術工学 | H3: 産 業 | I3: 芸術ｽﾎﾟｰﾂ | J3: 言 語 | K3: 文 学 | L3: 郷土資料 | M3: 児 童 | N3: 紙芝居 | O3: 洋 書 | P3: 雑誌等 | Q3: その他 | R3: 合 計 | S3: 備 考
B4: 0 | C4: 1 | D4: 2 | E4: 3 | F4: 4 | G4: 5 | H4: 6 | I4: 7 | J4: 8 | K4: 9
A5: 前橋 | B5: 3606 | C5: 6703 | D5: 21195 | E5: 15731 | F5: 10486 | G5: 20217 | H5: 5496 | I5: 12910 | J5: 2184 | K5: 88419 | L5: 569 | M5: 28664 | N5: 250 | O5: 628 | P5: 13893 | Q5: 20676 | R5: 251627
A6: 前橋こ | B6: 290 | C6: 412 | D6: 1443 | E6: 2761 | F6: 652 | G6: 3217 | H6: 253 | I6: 1142 | J6: 82 | K6: 1605 | L6: 100 | M6: 165466 | N6: 2352 | O6: 1206 | P6: 902 | Q6: 4952 | R6: 186835
A7: 前橋分 | B7: 7651 | C7: 16368 | D7: 45376 | E7: 33685 | F7: 29807 | G7: 60803 | H7: 12979 | I7: 26251 | J7: 5068 | K7: 223988 | L7: 1934 | M7: 427198 | N7: 5850 | O7: 508 | P7: 48728 | Q7: 78671 | R7: 1024865
A8: 高崎 | B8: 13054 | C8: 34548 | D8: 49690 | E8: 59210 | F8: 41118 | G8: 76540 | H8: 21121 | I8: 45109 | J8: 10752 | K8: 247754 | L8: 6097 | M8: 305046 | N8: 3337 | O8: 1006 | P8: 41608 | Q8: 112 | R8: 956102
A9: 箕郷 | B9: 527 | C9: 1594 | D9: 2842 | E9: 2942 | F9: 2857 | G9: 4411 | H9: 1038 | I9: 3997 | J9: 417 | K9: 18482 | L9: 806 | M9: 26159 | N9: 426 | O9: 14 | P9: 3656 | Q9: 0 | R9: 70168
A10: 群馬 | B10: 1486 | C10: 3892 | D10: 7048 | E10: 8076 | F10: 6173 | G10: 12201 | H10: 2810 | I10: 5614 | J10: 822 | K10: 42825 | L10: 879 | M10: 68899 | N10: 1493 | O10: 33 | P10: 12652 | Q10: 7 | R10: 174910
A11: 新町 | B11: 689 | C11: 2175 | D11: 4714 | E11: 3058 | F11: 3147 | G11: 4499 | H11: 1357 | I11: 3191 | J11: 518 | K11: 24949 | L11: 639 | M11: 29215 | N11: 414 | O11: 5 | P11: 6126 | Q11: 2 | R11: 84698
A12: 榛名 | B12: 328 | C12: 778 | D12: 1903 | E12: 1574 | F12: 1222 | G12: 2113 | H12: 703 | I12: 1297 | J12: 335 | K12: 14271 | L12: 314 | M12: 16426 | N12: 270 | O12: 6 | P12: 2382 | Q12: 4 | R12: 43926
A13: 吉井 | B13: 459 | C13: 1243 | D13: 2801 | E13: 2410 | F13: 2063 | G13: 3464 | H13: 838 | I13: 1911 | J13: 303 | K13: 15854 | L13: 658 | M13: 27970 | N13: 407 | O13: 1 | P13: 4323 | Q13: 1 | R13: 64706
A14: 桐生 | B14: 2450 | C14: 4811 | D14: 10107 | E14: 8699 | F14: 8915 | G14: 14110 | H14: 3342 | I14: 17942 | J14: 1317 | K14: 52025 | L14: 1322 | M14: 51458 | N14: 1345 | O14: 363 | P14: 11361 | Q14: 15 | R14: 189582
A15: 新里 | B15: 371 | C15: 855 | D15: 2182 | E15: 1242 | F15: 1142 | G15: 2441 | H15: 521 | I15: 4657 | J15: 125 | K15: 9717 | L15: 130 | M15: 20310 | N15: 371 | O15: 8 | P15: 3622 | Q15: 49 | R15: 47743
A16: 伊勢崎 | B16: 2995 | C16: 7602 | D16: 14061 | E16: 17543 | F16: 12751 | G16: 20990 | H16: 5438 | I16: 28972 | J16: 2430 | K16: 91195 | L16: 4285 | M16: 131095 | N16: 2321 | O16: 971 | P16: 9146 | Q16: 1 | R16: 351796
... A24: 太田美 | B24: 450 | C24: 521 | D24: 1087 | E24: 1559 | F24: 818 | G24: 2587 | H24: 437 | I24: 3081 | J24: 179 | K24: 366 | L24: 84 | M24: 38788 | N24: 0 | O24: 0 | P24: 0 | Q24: 0 | R24: 49957
A25: 沼田 | B25: 1885 | C25: 3871 | D25: 10158 | E25: 8092 | F25: 8447 | G25: 14895 | H25: 4593 | I25: 20035 | J25: 1370 | K25: 56293 | L25: - | M25: 87587 | N25: 1764 | O25: - | P25: 11428 | Q25: - | R25: 230418
A26: 館林 | B26: 1670 | C26: 3721 | D26: 10439 | E26: 6905 | F26: 6146 | G26: 8393 | H26: 2254 | I26: 7327 | J26: 973 | K26: 51643 | L26: 60 | M26: 73472 | N26: 1191 | O26: 85 | P26: 5389 | Q26: 166 | R26: 179834
A27: 渋川 | B27: 1065 | C27: 3488 | D27: 7178 | E27: 6035 | F27: 5976 | G27: 9420 | H27: 2629 | I27: 6987 | J27: 895 | K27: 67729 | L27: 928 | M27: 75329 | N27: 1213 | O27: - | P27: 6309 | Q27: 0 | R27: 195181
A28: 北橘 | B28: 47 | C28: 221 | D28: 319 | E28: 198 | F28: 322 | G28: 685 | H28: 175 | I28: 409 | J28: 18 | K28: 3908 | L28: 76 | M28: 10099 | N28: 30 | O28: 0 | P28: 860 | Q28: 0 | R28: 17367
A29: 藤岡 | B29: 1654 | C29: 5444 | D29: 10785 | E29: 11469 | F29: 9600 | G29: 16919 | H29: 4200 | I29: 16305 | J29: 1133 | K29: 58577 | L29: 426 | M29: 86648 | N29: 2077 | O29: - | P29: 13263 | Q29: - | R29: 238500
A30: 富岡 | B30: 819 | C30: 2152 | D30: 9068 | E30: 5136 | F30: 5291 | G30: 11086 | H30: 3498 | I30: 5130 | J30: 751 | K30: 38225 | L30: 901 | M30: 69924 | N30: 1297 | O30: 160 | P30: 5578 | Q30: 15434 | R30: 174450
A31: 安中 | B31: 799 | C31: 1912 | D31: 5361 | E31: 3828 | F31: 3345 | G31: 6433 | H31: 1860 | I31: 5345 | J31: 486 | K31: 28672 | L31: 179 | M31: 23195 | N31: 421 | O31: 0 | P31: 5457 | Q31: 7 | R31: 87300
A32: 松井田 | B32: 442 | C32: 861 | D32: 2429 | E32: 1646 | F32: 1427 | G32: 3576 | H32: 1022 | I32: 2420 | J32: 169 | K32: 16853 | L32: 146 | M32: 17800 | N32: 254 | O32: 0 | P32: 3864 | Q32: 88 | R32: 52997
A33: 笠懸 | B33: 944 | C33: 2837 | D33: 9028 | E33: 3817 | F33: 39264 | G33: 11016 | H33: 2576 | I33: 4648 | J33: 425 | K33: 34857 | L33: 89 | M33: 49558 | N33: 659 | O33: 24 | P33: 5181 | Q33: 63 | R33: 164986
A34: 大間々 | B34: 478 | C34: 1481 | D34: 4433 | E34: 2754 | F34: 29180 | G34: 5492 | H34: 1198 | I34: 2078 | J34: 247 | K34: 25243 | L34: 28 | M34: 28145 | N34: 574 | O34: 1 | P34: 5462 | Q34: 26 | R34: 106820
A35: 吉岡 | B35: 1240 | C35: 3634 | D35: 7115 | E35: 5658 | F35: 6615 | G35: 11965 | H35: 3251 | I35: 18280 | J35: 788 | K35: 28842 | L35: 105 | M35: 82532 | N35: 1664 | O35: 0 | P35: 7908 | Q35: 318 | R35: 179915
A36: 上野 | B36: 17 | C36: 19 | D36: 126 | E36: 110 | F36: 174 | G36: 295 | H36: 133 | I36: 1362 | J36: 13 | K36: 916 | L36: 0 | M36: 50 | N36: 0 | O36: 0 | P36: 200 | Q36: 2437 | R36: 5852
A37: 神流 | B37: 57 | C37: 7 | D37: 10 | E37: 17 | F37: 70 | G37: 116 | H37: 25 | I37: 71 | J37: 2 | K37: 1023 | L37: 0 | M37: 0 | N37: 0 | O37: 0 | P37: 0 | Q37: 0 | R37: 1398
A38: 甘楽 | B38: 285 | C38: 886 | D38: 2323 | E38: 1481 | F38: 1489 | G38: 2622 | H38: 788 | I38: 13700 | J38: 253 | K38: 20440 | L38: 310 | M38: 34057 | N38: 433 | O38: 0 | P38: 3995 | Q38: 559 | R38: 83621
A39: 中之条 | B39: 570 | C39: 1477 | D39: 4653 | E39: 3273 | F39: 3718 | G39: 6828 | H39: 1974 | I39: 5734 | J39: 452 | K39: 30618 | L39: 0 | M39: 46592 | N39: 0 | O39: 0 | P39: 3984 | Q39: 0 | R39: 109873
A40: 草津 | B40: 891 | C40: 417 | D40: 812 | E40: 478 | F40: 416 | G40: 638 | H40: 62 | I40: 1271 | J40: 122 | K40: 11729 | L40: 162 | M40: 2102 | N40: 11 | O40: 30 | P40: 160 | Q40: 265 | R40: 19566 | S40: その他＝YA
A41: 玉村 | B41: 2156 | C41: 4707 | D41: 8914 | E41: 8750 | F41: 7905 | G41: 14710 | H41: 3227 | I41: 6629 | J41: 1191 | K41: 57320 | L41: 1149 | M41: 92523 | N41: 1455 | O41: 16 | P41: 13825 | Q41: 7003 | R41: 231480
A42: 明和 | B42: 211 | C42: 595 | D42: 1134 | E42: 836 | F42: 691 | G42: 1911 | H42: 439 | I42: 965 | J42: 108 | K42: 11211 | L42: 22 | M42: 13621 | N42: 191 | O42: 0 | P42: 1530 | Q42: 3379 | R42: 36844
A43: 千代田 | B43: 798 | C43: 285 | D43: 842 | E43: 354 | F43: 353 | G43: 562 | H43: 169 | I43: 1287 | J43: 17 | K43: 4782 | L43: 25 | M43: 5794 | N43: 112 | O43: 0 | P43: 761 | Q43: 142 | R43: 16283
A44: 大泉 | B44: 1015 | C44: 2245 | D44: 6138 | E44: 5422 | F44: 4299 | G44: 6299 | H44: 2070 | I44: 4561 | J44: 986 | K44: 29664 | L44: 280 | M44: 46802 | N44: 953 | O44: 465 | P44: 4769 | Q44: 4726 | R44: 120694
A45: 邑楽 | B45: 2208 | C45: 5746 | D45: 11302 | E45: 8821 | F45: 10528 | G45: 18117 | H45: 4990 | I45: 30829 | J45: 1088 | K45: 49607 | L45: 47 | M45: 65998 | N45: 1333 | O45: 0 | P45: 9785 | Q45: 94 | R45: 220493
A46: 計 | B46: =SUM(B5:B45) -> 63783 | C46: =SUM(C5:C45) -> 149769 | D46: =SUM(D5:D45) -> 336239 | E46: =SUM(E5:E45) -> 286279 | F46: =SUM(F5:F45) -> 301372 | G46: =SUM(G5:G45) -> 449483 | H46: =SUM(H5:H45) -> 115647 | I46: =SUM(I5:I45) -> 387503 | ... R46: =SUM(R5:R45) -> 6981017
A47: 県議会 | B47: 8 | C47: 31 | D47: 22 | E47: 151 | F47: 15 | G47: 7 | H47: 16 | I47: 15 | J47: 1 | K47: 19 | L47: 26 | M47: 0 | N47: 0 | O47: 0 | P47: 52 | Q47: 6 | R47: 369
A48: 点字 | B48: 124 | C48: 412 | D48: 655 | E48: 592 | F48: 513 | G48: 197 | H48: 142 | I48: 2705 | J48: 34 | K48: 26095 | L48: 0 | M48: 0 | N48: 0 | O48: 0 | P48: 5081 | Q48: 0 | R48: 36550
A49: 県立 | B49: 5575 | C49: 7993 | D49: 13663 | E49: 21404 | F49: 12580 | G49: 11493 | H49: 5885 | I49: 12488 | J49: 2764 | K49: 30219 | L49: 5637 | M49: 45587 | O49: 288 | Q49: 5717 | R49: 181293
A50: 小計 | B50: =SUM(B47:B49) -> 5707 | C50: =SUM(C47:C49) -> 8436 | D50: =SUM(D47:D49) -> 14340 | E50: =SUM(E47:E49) -> 22147 | F50: =SUM(F47:F49) -> 13108 | G50: =SUM(G47:G49) -> 11697 | H50: =SUM(H47:H49) -> 6043 | I50: =SUM(I47:I49) -> 15208 | ... R50: =SUM(R47:R49) -> 218212
A51: 合計 | B51: =B46+B50 -> 69490 | C51: =C46+C50 -> 158205 | D51: =D46+D50 -> 350579 | E51: =E46+E50 -> 308426 | F51: =F46+F50 -> 314480 | G51: =G46+G50 -> 461180 | H51: =H46+H50 -> 121690 | I51: =I46+I50 -> 402711 | ... R51: =R46+R50 -> 7199229

Sheet 自動車図書館等
A1: 自動車図書館・分室・サービスポイント・団体貸出 | N1: =貸出サービス概況!AA1 -> 令和7年
A2: 館 名 | B2: 自 動 車 図 書 館 | J2: 分室、ＳＰ | K2: 団体貸出
B3: 自動車図書館車名 | C3: 台数 | D3: 乗務員 | E3: 積載図書冊数 | F3: 巡回間隔 | G3: 巡回駐車場数 | H3: 巡回対象地域 | I3: 貸出冊数 | J3: 貸出冊数 | K3: 団体数 | L3: 貸出回数 | M3: 貸出数 | N3: 備 考
C4: (台) | D4: (人) | E4: (冊) | F4: （ｎ日に一度） | I4: (冊) | J4: 合計（冊） | K4: (団体) | L4: (回) | M4: (点)
A5: 前橋 | C5: 0 | D5: 0 | E5: 0 | F5: 0 | G5: 0 | I5: 0 | J5: 0 | K5: 12 | L5: 42 | M5: 795 | N5: 7カ所：第五コミュニティーセンター、児童文化センター、朝倉児童館、日吉児童館、大友児童館、下小出児童館、粕川児童館
A6: 前橋こ | C6: 0 | D6: 0 | E6: 0 | F6: 0 | G6: 0 | I6: 0 | J6: 0 | K6: 34 | L6: 175 | M6: 18329
A7: 前橋分 | C7: 0 | D7: 0 | E7: 0 | F7: 0 | G7: 0 | I7: 0 | J7: 0 | K7: 46 | L7: 201 | M7: 2624
A8: 高崎 | C8: 0 | D8: 0 | E8: 0 | F8: 0 | G8: 0 | I8: 0 | J8: 102038 | K8: 82 | L8: - | M8: 4360 | P8: （分室、SP）２カ所：高崎駅サービスセンター・倉賀野公民館
A9: 箕郷 | C9: 0 | D9: 0 | E9: 0 | F9: 0 | G9: 0 | I9: 0 | J9: 0 | K9: 10 | L9: - | M9: 1541
A10: 群馬 | C10: 0 | D10: 0 | E10: 0 | F10: 0 | G10: 0 | I10: 0 | J10: 0 | K10: 23 | L10: - | M10: 3702
A11: 新町 | C11: 0 | D11: 0 | E11: 0 | F11: 0 | G11: 0 | I11: 0 | J11: 0 | K11: 5 | L11: - | M11: 601
A12: 榛名 | C12: 0 | D12: 0 | E12: 0 | F12: 0 | G12: 0 | I12: 0 | J12: 0 | K12: 16 | L12: - | M12: 800
A13: 吉井 | C13: 0 | D13: 0 | E13: 0 | F13: 0 | G13: 0 | I13: 0 | J13: 0 | K13: 12 | L13: - | M13: 1389
A14: 桐生 | C14: 0 | D14: 0 | E14: 0 | F14: 0 | G14: 0 | I14: 0 | J14: 7804 | K14: 118 | L14: － | M14: 17242 | P14: (分室､SP)14カ所：市内の公民館14館
A15: 新里 | C15: 0 | D15: 0 | E15: 0 | F15: 0 | G15: 0 | I15: 0 | J15: 0 | K15: 49 | L15: － | M15: 1388
A16: 伊勢崎 | C16: 0 | D16: 0 | E16: 0 | F16: 0 | G16: 0 | I16: 0 | J16: 105400 | K16: 77 | L16: 806 | M16: 63555
A17: 赤堀 | C17: 0 | D17: 0 | E17: 0 | F17: 0 | G17: 0 | I17: 0 | J17: 0 | K17: 20 | L17: 261 | M17: 2629
A18: あずま | C18: 0 | D18: 0 | E18: 0 | F18: 0 | G18: 0 | I18: 0 | J18: 0 | K18: 34 | L18: 300 | M18: 4023
A19: 境 | C19: 0 | D19: 0 | E19: 0 | F19: 0 | G19: 0 | I19: 0 | J19: 0 | K19: 18 | L19: 180 | M19: 3041
A20: 太田 | C20: 0 | D20: 0 | E20: 0 | F20: 0 | G20: 0 | I20: 0 | J20: 0 | K20: 47 | L20: 1082 | M20: 9919
A21: 尾島 | C21: 0 | D21: 0 | E21: 0 | F21: 0 | G21: 0 | I21: 0 | J21: 0 | K21: 8 | L21: 35 | M21: 678
A22: 新田 | C22: 0 | D22: 0 | E22: 0 | F22: 0 | G22: 0 | I22: 0 | J22: 0 | K22: 44 | L22: 518 | M22: 3263
A23: 藪塚 | C23: 0 | D23: 0 | E23: 0 | F23: 0 | G23: 0 | I23: 0 | J23: 0 | K23: 18 | L23: 268 | M23: 2307
A24: 太田美 | C24: 0 | D24: 0 | E24: 0 | F24: 0 | G24: 0 | I24: 0 | J24: 0 | K24: 0 | L24: 0 | M24: 0
A25: 沼田 | B25: あかつき号 | C25: 1 | D25: 3 | E25: 2500 | F25: 30 | G25: 44 | H25: 市内 | I25: 9415 | J25: 884 | K25: 83 | L25: 601 | M25: 11251
A26: 館林 | C26: 0 | D26: 0 | E26: 0 | F26: 0 | G26: 0 | I26: 0 | J26: 0 | K26: 51 | L26: 278 | M26: 19387
A27: 渋川 | C27: 0 | D27: 0 | E27: 0 | F27: 0 | G27: 0 | I27: 0 | J27: 35489 | K27: 88 | L27: 820 | M27: 5465
A28: 北橘 | C28: 0 | D28: 0 | E28: 0 | F28: 0 | G28: 0 | I28: 0 | J28: 0 | K28: 83 | L28: 49 | M28: 847
A29: 藤岡 | C29: 0 | D29: 0 | E29: 0 | F29: 0 | G29: 0 | I29: 0 | J29: 0 | K29: 58 | L29: 1099 | M29: 5744
A30: 富岡 | C30: 0 | D30: 0 | E30: 0 | F30: 0 | G30: 0 | I30: 0 | J30: 0 | K30: 35 | L30: 254 | M30: 2474
A31: 安中 | C31: 0 | D31: 0 | E31: 0 | F31: 0 | G31: 0 | I31: 0 | J31: 0 | K31: 56 | L31: 96 | M31: 890
A32: 松井田 | C32: 0 | D32: 0 | E32: 0 | F32: 0 | G32: 0 | I32: 0 | J32: 0 | K32: 52 | L32: 134 | M32: 1550
A33: 笠懸 | C33: 0 | D33: 0 | E33: 0 | F33: 0 | G33: 0 | I33: 0 | J33: 0 | K33: 179 | L33: 539 | M33: 10462
A34: 大間々 | C34: 0 | D34: 0 | E34: 0 | F34: 0 | G34: 0 | I34: 0 | J34: 0 | K34: 107 | L34: 438 | M34: 5779
A35: 吉岡 | C35: 0 | D35: 0 | E35: 0 | F35: 0 | G35: 0 | I35: 0 | J35: 0 | K35: 24 | L35: 2143 | M35: 10178
A36: 上野 | K36: 10 | M36: 99
A37: 神流 | C37: 0 | D37: 0 | E37: 0 | F37: 0 | G37: 0 | I37: 0 | J37: 0 | K37: 0 | L37: 0 | M37: 0
A38: 甘楽 | C38: 0 | D38: 0 | E38: 0 | F38: 0 | G38: 0 | I38: 0 | J38: 0 | K38: 30 | L38: 865 | M38: 5842
A39: 中之条 | C39: 0 | D39: 0 | E39: 0 | F39: 0 | G39: 0 | I39: 0 | J39: 0 | K39: 35 | L39: 522 | M39: 2839
A40: 草津 | C40: 0 | D40: 0 | E40: 0 | F40: 0 | G40: 0 | I40: 0 | J40: 0 | K40: 6 | M40: 322
A41: 玉村 | C41: 0 | D41: 0 | E41: 0 | F41: 0 | G41: 0 | I41: 0 | J41: 0 | K41: 36 | L41: 607 | M41: 4081
A42: 明和 | C42: 0 | D42: 0 | E42: 0 | F42: 0 | G42: 0 | I42: 0 | J42: 0 | K42: 5 | L42: 25 | M42: 530
A43: 千代田 | C43: 0 | D43: 0 | E43: 0 | F43: 0 | G43: 0 | I43: 0 | J43: 0 | K43: 68 | L43: - | M43: 9794
A44: 大泉 | C44: 0 | D44: 0 | E44: 0 | F44: 0 | G44: 0 | I44: 0 | J44: 0 | K44: 65 | L44: 489 | M44: 1559
A45: 邑楽 | B45: はくちょう号 | C45: 1 | D45: 2 | E45: 1300 | F45: 月2回(施設） | G45: 11 | H45: 町内福祉施設 | I45: 43 | J45: 0 | K45: 130 | L45: - | M45: 29783
A46: 計 | C46: =SUM(C5:C45) -> 2 | D46: =SUM(D5:D45) -> 5 | E46: =SUM(E5:E45) -> 3800 | G46: =SUM(G5:G45) -> 55 | I46: =SUM(I5:I45) -> 9458 | J46: =SUM(J5:J45) -> 251615 | K46: =SUM(K5:K45) -> 1874 | L46: =SUM(L5:L45) -> 12827 | M46: =SUM(M5:M45) -> 271062
A47: 県議会 | C47: 0 | D47: 0 | E47: 0 | F47: 0 | G47: 0 | I47: 0 | J47: 0 | K47: 0 | L47: 0 | M47: 0
A48: 点字
A49: 県立 | C49: 0 | D49: 0 | E49: 0 | F49: 0 | G49: 0 | I49: 0 | J49: 0 | K49: 71 | L49: 259 | M49: 22395
A50: 小計 | C50: =SUM(C47:C49) -> 0 | D50: =SUM(D47:D49) -> 0 | E50: =SUM(E47:E49) -> 0 | G50: =SUM(G47:G49) -> 0 | I50: =SUM(I47:I49) -> 0 | J50: =SUM(J47:J49) -> 0 | K50: =SUM(K47:K49) -> 71 | L50: =SUM(L47:L49) -> 259 | M50: =SUM(M47:M49) -> 22395
A51: 合計 | C51: =C46+C50 -> 2 | D51: =D46+D50 -> 5 | E51: =E46+E50 -> 3800 | G51: =G46+G50 -> 55 | I51: =I46+I50 -> 9458 | J51: =J46+J50 -> 251615 | K51: =K46+K50 -> 1945 | L51: =L46+L50 -> 13086 | M51: =M46+M50 -> 293457

Sheet レファレンス
A1: レファレンス等 | Z1: =貸出サービス概況!AA1 -> 令和7年
A2: 館 名 | B2: レ フ ァ レ ン ス | K2: 文 献 複 写 | O2: マイクロフィルム・フィッシュ複写 | Q2: CD-ROM等電子出版物複写 | S2: オンラインデータベース複写 | U2: リ ク エ ス ト | X2: (点) | Y2: 相互貸借 | Z2: 備 考
B3: 受付件数 | C3: 受付区分 | F3: (件) | G3: 内容区分 (件) | I3: 担当者数 (人) | K3: 複写件数 | L3: 複写枚数 | M3: 複写料金（白黒） | N3: カラー複写料金 | O3: コピー枚数 | P3: コピー料金 | Q3: コピー枚数 | R3: コピー料金 | S3: コピー枚数 | T3: コピー料金 | U3: 返却待ち | V3: 購 入 | W3: 相互貸借 | X3: 合 計 | Y3: 貸出数
C4: 口 頭 | D4: 電 話 | E4: 文 書 | F4: e－メール | G4: 利用案内 | H4: 調査相談 | I4: 専 任 | J4: 兼 任 | K4: (冊・点) | L4: (枚) | M4: (円/1枚) | N4: (円/1枚) | O4: (枚) | P4: (円/1枚) | Q4: (枚) | R4: (円/1枚) | S4: (枚) | T4: (円/1枚) | U4: 予約 | V4: 希 望 | W4: 借受数 | Y4: (点)
A5: 前橋 | B5: 1224 | C5: 968 | D5: 240 | E5: 1 | F5: 15 | G5: 426 | H5: 798 | I5: 0 | J5: 0 | K5: 1384 | L5: 68240 | M5: 10 | N5: なし | O5: 209 | P5: 30 | Q5: 140 | R5: 10 | S5: 11 | T5: 10 | U5: 232681 | V5: − | W5: 1457 | X5: 234138 | Y5: 1053 | Z5: リクエストは件数ではなく点数
A6: 前橋こ | B6: 4250 | C6: 3896 | D6: 354 | E6: 0 | F6: 0 | G6: 2680 | H6: 1570 | I6: 0 | J6: 0 | K6: 4 | L6: 10 | M6: 10 | N6: なし | O6: 未実施 | P6: なし | Q6: 未実施 | R6: なし | S6: 未実施 | T6: なし | U6: 1018 | V6: - | W6: 35 | X6: 1053 | Y6: 0 | Z6: リクエストは件数ではなく点数
A7: 前橋分 | B7: 0 | C7: 0 | D7: 0 | E7: 0 | F7: 0 | G7: 0 | H7: 0 | I7: 0 | J7: 0 | K7: 未実施 | L7: なし | M7: なし | N7: なし | O7: 未実施 | P7: なし | Q7: 未実施 | R7: なし | S7: 未実施 | T7: なし | U7: 27320 | V7: − | W7: − | X7: 27320 | Y7: − | Z7: リクエストは件数ではなく点数
A8: 高崎 | B8: 5412 | C8: 4821 | D8: 581 | E8: 0 | F8: 10 | G8: - | H8: 5412 | I8: 0 | J8: 22 | K8: 12901 | L8: 12901 | M8: 10 | N8: 100 | O8: 未実施 | P8: 0 | Q8: 未実施 | R8: 0 | S8: 162 | T8: 10 | U8: 290044 | V8: 2110 | W8: 1093 | X8: 293247 | Y8: 1450
A9: 箕郷 | B9: 627 | C9: 578 | D9: 49 | E9: 0 | F9: 0 | G9: - | H9: 627 | I9: 0 | J9: 9 | K9: 111 | L9: 392 | M9: 10 | N9: 100 | O9: 未実施 | P9: 0 | Q9: 未実施 | R9: 0 | S9: 未実施 | T9: 0 | U9: 2423 | V9: 25 | W9: 53 | X9: 2501 | Y9: 21
A10: 群馬 | B10: 483 | C10: 435 | D10: 48 | E10: 0 | F10: 0 | G10: - | H10: 483 | I10: 0 | J10: 11 | K10: 182 | L10: 514 | M10: 10 | N10: 100 | O10: 未実施 | P10: 0 | Q10: 未実施 | R10: 0 | S10: 未実施 | T10: 0 | U10: 3963 | V10: 51 | W10: 66 | X10: 4080 | Y10: 95
A11: 新町 | B11: 712 | C11: 628 | D11: 84 | E11: 0 | F11: 0 | G11: - | H11: 712 | I11: 0 | J11: 8 | K11: 114 | L11: 633 | M11: 10 | N11: 100 | O11: 未実施 | P11: 0 | Q11: 未実施 | R11: 0 | S11: 未実施 | T11: 0 | U11: 2697 | V11: 1 | W11: 80 | X11: 2778 | Y11: 62
A12: 榛名 | B12: 563 | C12: 551 | D12: 12 | E12: 0 | F12: 0 | G12: - | H12: 563 | I12: 0 | J12: 3 | K12: 108 | L12: 395 | M12: 10 | N12: 100 | O12: 未実施 | P12: 0 | Q12: 未実施 | R12: 0 | S12: 未実施 | T12: 0 | U12: 1047 | V12: 5 | W12: 13 | X12: 1065 | Y12: 22
A13: 吉井 | B13: 445 | C13: 394 | D13: 50 | E13: 0 | F13: 1 | G13: - | H13: 445 | I13: 0 | J13: 9 | K13: 59 | L13: 130 | M13: 10 | N13: 100 | O13: 未実施 | P13: 0 | Q13: 未実施 | R13: 0 | S13: 未実施 | T13: 0 | U13: 1590 | V13: 10 | W13: 9 | X13: 1609 | Y13: 37
A14: 桐生 | B14: 5036 | C14: 4264 | D14: 764 | E14: 8 | F14: 0 | G14: 2679 | H14: 2357 | I14: 0 | J14: 19 | K14: 577 | L14: 4014 | M14: 10 | N14: 50 | O14: 未実施 | P14: 未実施 | Q14: 未実施 | R14: 未実施 | S14: － | T14: 10・50 | U14: 7776 | V14: 44 | W14: 492 | X14: 8312 | Y14: 476
A15: 新里 | B15: 1861 | C15: 1452 | D15: 408 | E15: 1 | F15: 0 | G15: 1326 | H15: 535 | I15: 0 | J15: 6 | K15: 47 | L15: 124 | M15: 10 | N15: 50 | O15: 未実施 | P15: 未実施 | Q15: 未実施 | R15: 未実施 | S15: 未実施 | T15: 未実施 | U15: 735 | V15: 6 | W15: 44 | X15: 785 | Y15: 70
A16: 伊勢崎 | B16: 4050 | C16: 4048 | D16: 0 | E16: 0 | F16: 2 | G16: 942 | H16: 3108 | I16: 0 | J16: 25 | K16: 347 | L16: 3183 | M16: 10 | N16: - | O16: - | P16: 10 | Q16: - | R16: 10 | S16: - | T16: 10 | U16: 67459 | V16: 346 | W16: 408 | X16: 68213 | Y16: 3298
A17: 赤堀 | B17: 153 | C17: 135 | D17: 18 | E17: 0 | F17: 0 | G17: 118 | H17: 35 | I17: 0 | J17: 9 | K17: 61 | L17: 167 | M17: 10 | N17: - | O17: 未実施 | P17: - | Q17: 未実施 | R17: - | S17: 未実施 | T17: - | U17: 4191 | V17: 23 | W17: 66 | X17: 4280 | Y17: 82
A18: あずま | B18: 840 | C18: 779 | D18: 60 | E18: 1 | F18: 0 | G18: 818 | H18: 22 | I18: 0 | J18: 8 | K18: 57 | L18: 144 | M18: 10 | N18: - | O18: 未実施 | P18: - | Q18: 未実施 | R18: - | S18: 未実施 | T18: - | U18: 5169 | V18: 60 | W18: 40 | X18: 5269 | Y18: 157
A19: 境 | B19: 1289 | C19: 1235 | D19: 54 | E19: 0 | F19: 0 | G19: 1277 | H19: 12 | I19: 0 | J19: 8 | K19: 233 | L19: 727 | M19: 10 | N19: - | O19: 未実施 | P19: - | Q19: 未実施 | R19: - | S19: 未実施 | T19: - | U19: 5664 | V19: 106 | W19: 187 | X19: 5957 | Y19: 110
A20: 太田 | B20: 9566 | C20: 8568 | D20: 990 | E20: 4 | F20: 4 | G20: 6471 | H20: 3095 | J20: 22 | K20: 1460 | L20: 5504 | M20: 10 | N20: 0 | O20: 未実施 | Q20: 未実施 | S20: 未実施 | U20: 33458 | V20: 323 | W20: 158 | X20: 33939 | Y20: 1167
A21: 尾島 | B21: 1282 | C21: 548 | D21: 732 | E21: 0 | F21: 2 | G21: 966 | H21: 316 | I21: 0 | J21: 8 | K21: 33 | L21: 134 | M21: 10 | N21: 未実施 | O21: 未実施 | P21: 未実施 | Q21: 未実施 | R21: 未実施 | S21: 未実施 | T21: 未実施 | U21: 7231 | V21: 42 | W21: 21 | X21: 7294 | Y21: 140
A22: 新田 | B22: 4712 | C22: 4545 | D22: 167 | E22: 0 | F22: 0 | G22: 951 | H22: 3761 | I22: 0 | J22: 15 | K22: 106 | L22: 461 | M22: 10 | N22: 未実施 | O22: 未実施 | P22: 未実施 | Q22: 未実施 | R22: 未実施 | S22: 未実施 | T22: 未実施 | U22: 13771 | V22: 47 | W22: 21 | X22: 13839 | Y22: 347
A23: 藪塚 | B23: 2501 | C23: 1960 | D23: 541 | E23: 0 | F23: 0 | G23: 941 | H23: 1560 | I23: 0 | J23: 8 | K23: 39 | L23: 114 | M23: 10 | N23: 未実施 | O23: 未実施 | P23: 未実施 | Q23: 未実施 | R23: 未実施 | S23: 未実施 | T23: 未実施 | U23: 8145 | V23: 29 | W23: 22 | X23: 8196 | Y23: 122
A24: 太田美 | B24: 1739 | C24: 1736 | D24: 3 | E24: 0 | F24: 0 | G24: 1734 | H24: 2 | I24: 0 | J24: 0 | K24: 83 | L24: 383 | M24: 10 | N24: 未実施 | O24: 未実施 | P24: 未実施 | Q24: 未実施 | R24: 未実施 | S24: 未実施 | T24: 未実施 | U24: 129 | V24: 11 | W24: 0 | X24: 140 | Y24: 0
A25: 沼田 | B25: 7181 | C25: - | D25: - | E25: - | F25: - | G25: 7137 | H25: 44 | I25: 0 | J25: 22 | K25: 296 | L25: 1175 | M25: 10 | N25: 50 | O25: 0 | P25: 10 | Q25: 0 | R25: 10 | S25: 0 | T25: 10 | U25: 14163 | V25: 209 | W25: 320 | X25: 14692 | Y25: 1291
A26: 館林 | B26: 2371 | C26: 2104 | D26: 249 | E26: 1 | F26: 17 | G26: 1829 | H26: 542 | I26: 0 | J26: 13 | K26: 516 | L26: 2623 | M26: 10 | N26: 50 | O26: 未実施 | P26: 未実施 | Q26: 未実施 | R26: 未実施 | S26: 未実施 | T26: 未実施 | U26: 6958 | V26: 86 | W26: 834 | X26: 7878 | Y26: 428
A27: 渋川 | B27: 1801 | C27: 1786 | D27: 14 | E27: 1 | F27: 0 | G27: 1769 | H27: 32 | I27: 0 | J27: 20 | K27: 355 | L27: 1780 | M27: 10 | N27: 50 | O27: 未実施 | P27: 未実施 | Q27: 未実施 | R27: 未実施 | S27: 未実施 | T27: 未実施 | U27: 5861 | V27: 761 | W27: 470 | X27: 7092 | Y27: 616
A28: 北橘 | B28: 42 | C28: 40 | D28: 2 | E28: 0 | F28: 0 | G28: 0 | H28: 1 | I28: 3 | J28: 0 | K28: 5 | L28: 91 | M28: 10 | N28: 50 | O28: 未実施 | P28: 未実施 | Q28: 未実施 | R28: 未実施 | S28: 未実施 | T28: 未実施 | U28: - | V28: 9 | W28: 84 | X28: 93 | Y28: 22
A29: 藤岡 | B29: 5293 | C29: 4993 | D29: 300 | E29: 0 | F29: 0 | G29: 5170 | H29: 123 | I29: 0 | J29: 7 | K29: 252 | L29: 1630 | M29: 10 | N29: 50 | O29: 未実施 | Q29: 未実施 | S29: 3 | T29: 10 | U29: 16309 | V29: 464 | W29: 338 | X29: 17111 | Y29: 435
A30: 富岡 | B30: 4237 | C30: 2434 | D30: 1802 | E30: 0 | F30: 1 | G30: 4049 | H30: 188 | I30: 0 | J30: 16 | K30: 128 | L30: 560 | M30: 10 | N30: 0 | O30: 0 | P30: 0 | Q30: 0 | R30: 0 | S30: 0 | T30: 0 | U30: 8402 | V30: 161 | W30: 270 | X30: 8833 | Y30: 284
A31: 安中 | B31: 769 | C31: 769 | D31: 0 | E31: 0 | F31: 0 | G31: 738 | H31: 31 | I31: 0 | J31: 6 | K31: 496 | L31: 1277 | M31: 10 | N31: 50 | O31: 未実施 | P31: 未実施 | Q31: 未実施 | R31: 未実施 | S31: 未実施 | T31: 未実施 | U31: 6826 | V31: 116 | W31: 448 | X31: 7390 | Y31: 194
A32: 松井田 | B32: 523 | C32: 437 | D32: 85 | E32: 1 | F32: 0 | G32: 208 | H32: 315 | I32: 0 | J32: 5 | K32: 123 | L32: 287 | M32: 10 | N32: 50 | O32: 未実施 | P32: 未実施 | Q32: 未実施 | R32: 未実施 | S32: 未実施 | T32: 未実施 | U32: 2397 | V32: 16 | W32: 664 | X32: 3077 | Y32: 151
A33: 笠懸 | B33: 150 | C33: 101 | D33: 48 | E33: 0 | F33: 1 | G33: 48 | H33: 102 | I33: 0 | J33: 3 | K33: 93 | L33: 240 | M33: 10 | N33: 50 | O33: 0 | P33: 0 | Q33: 0 | R33: 0 | S33: 0 | T33: 0 | U33: 14705 | V33: 95 | W33: 103 | X33: 14903 | Y33: 231
A34: 大間々 | B34: 589 | C34: 463 | D34: 126 | E34: 0 | F34: 0 | G34: 261 | H34: 328 | I34: 0 | J34: 3 | K34: 81 | L34: 288 | M34: 10 | N34: 50 | O34: 0 | P34: 0 | Q34: 0 | R34: 0 | S34: 0 | T34: 0 | U34: 1465 | V34: 26 | W34: 63 | X34: 1554 | Y34: 225
A35: 吉岡 | B35: 5301 | C35: 3827 | D35: 1474 | E35: 0 | F35: 0 | G35: 2879 | H35: 2422 | I35: 0 | J35: 11 | K35: 146 | L35: 564 | M35: 10 | N35: 50 | O35: 未実施 | Q35: 未実施 | S35: 未実施 | U35: 9625 | V35: 572 | W35: 292 | X35: 10489 | Y35: 236
A36: 上野 | B36: 5 | C36: 5 | D36: 0 | E36: 0 | F36: 0 | G36: 0 | H36: 0 | I36: 0 | J36: 1 | K36: 10 | L36: 40 | M36: 10 | N36: 40 | U36: 10 | V36: 20 | W36: 30 | X36: 60 | Y36: 2
A37: 神流 | B37: 0 | C37: 0 | D37: 0 | E37: 0 | F37: 0 | G37: 0 | H37: 0 | I37: 0 | J37: 0 | K37: 0 | L37: 0 | M37: 0 | N37: 0 | O37: 0 | P37: 0 | Q37: 0 | R37: 0 | S37: 0 | T37: 0 | U37: 0 | V37: 0 | W37: 0 | X37: 0 | Y37: 0
A38: 甘楽 | B38: 453 | C38: 435 | D38: 18 | E38: 0 | F38: 0 | G38: 0 | H38: 0 | I38: 0 | J38: 0 | K38: 121 | L38: 562 | M38: 5620 | N38: 0 | O38: 未実施 | Q38: 未実施 | S38: 未実施 | U38: 3987 | V38: 321 | W38: 472 | X38: 4780 | Y38: 432
A39: 中之条 | B39: 1125 | C39: 1013 | D39: 112 | E39: 0 | F39: 0 | G39: 167 | H39: 958 | I39: 0 | J39: 9 | K39: 117 | L39: 737 | M39: 10 | N39: 40 | O39: 未実施 | Q39: 未実施 | S39: 未実施 | U39: 2091 | V39: 50 | W39: 280 | X39: 2421 | Y39: 276
A40: 草津 | B40: 156 | C40: 125 | D40: 31 | E40: 0 | F40: 0 | G40: 38 | H40: 118 | I40: 0 | J40: 4 | K40: 136 | L40: 922 | M40: 20 | N40: 未実施 | O40: 未実施 | Q40: 未実施 | S40: 未実施 | U40: 771 | V40: 397 | W40: 316 | X40: 1484 | Y40: 0
A41: 玉村 | B41: 712 | C41: 682 | D41: 30 | E41: 0 | F41: 0 | G41: 703 | H41: 9 | I41: 0 | J41: 16 | K41: 119 | L41: 605 | M41: 10 | N41: 未実施 | O41: 未実施 | P41: 0 | Q41: 未実施 | R41: 0 | S41: 未実施 | T41: 0 | U41: 17522 | V41: 143 | W41: 562 | X41: 18227 | Y41: 404
A42: 明和 | B42: 257 | C42: 247 | D42: 10 | E42: 0 | F42: 0 | G42: 256 | H42: 1 | I42: 0 | J42: 6 | K42: 179 | L42: 430 | M42: 10 | N42: 0 | O42: 未実施 | P42: 未実施 | Q42: 未実施 | R42: 未実施 | S42: 未実施 | T42: 未実施 | U42: 734 | V42: 16 | W42: 192 | X42: 942 | Y42: 76
A43: 千代田 | B43: 179 | C43: 125 | D43: 46 | E43: 2 | F43: 6 | G43: 176 | H43: 3 | I43: 0 | J43: 2 | K43: 13 | L43: 27 | M43: 10 | N43: 50 | O43: 未実施 | P43: 未実施 | Q43: 未実施 | R43: 未実施 | S43: 未実施 | T43: 未実施 | U43: 0 | V43: 26 | W43: 231 | X43: 257 | Y43: 28
A44: 大泉 | B44: 3726 | C44: 3304 | D44: 417 | E44: 0 | F44: 5 | G44: 1270 | H44: 2456 | I44: 0 | J44: 14 | K44: 94 | L44: 273 | M44: 10 | N44: 50 | O44: 未実施 | Q44: 未実施 | S44: 未実施 | U44: 3518 | V44: 280 | W44: 434 | X44: 4232 | Y44: 242
A45: 邑楽 | B45: 5344 | C45: 5111 | D45: 233 | E45: 0 | F45: 0 | G45: 513 | H45: 4831 | I45: 0 | J45: 16 | K45: 234 | L45: 622 | M45: 10 | N45: 50 | O45: 未実施 | Q45: 未実施 | S45: 未実施 | U45: 3250 | V45: 63 | W45: 581 | X45: 3894 | Y45: 338
A46: 計 | B46: =SUM(B5:B45) -> 86959 | C46: =SUM(C5:C45) -> 69542 | D46: =SUM(D5:D45) -> 10152 | E46: =SUM(E5:E45) -> 20 | F46: =SUM(F5:F45) -> 64 | G46: =SUM(G5:G45) -> 48540 | H46: =SUM(H5:H45) -> 37917 | I46: =SUM(I5:I45) -> 3 | ... L46: =SUM(L5:L45) -> 112903 | M46: - | N46: - | O46: =SUM(O5:O45) -> 209 | P46: - | Q46: =SUM(Q5:Q45) -> 140 | R46: - | S46: =SUM(S5:S45) -> 176 | T46: - | U46: =SUM(U5:U45) -> 835105 | V46: =SUM(V5:V45) -> 7070 | W46: =SUM(W5:W45) -> 11249 | X46: =SUM(X5:X45) -> 853424 | Y46: =SUM(Y5:Y45) -> 14620
A47: 県議会 | B47: 82 | C47: 41 | D47: 25 | E47: 0 | F47: 16 | G47: 30 | H47: 36 | I47: 1 | J47: 3 | K47: 未実施 | L47: 0 | M47: 0 | N47: 0 | O47: 未実施 | P47: 0 | Q47: 0 | R47: 0 | S47: 0 | T47: 0 | U47: 0 | V47: 20 | W47: 0 | X47: 20 | Y47: 0
A48: 点字 | B48: 3184 | D48: 3184 | J48: 8 | K48: ↑ | X48: 0 | Y48: 9577
A49: 県立 | B49: 14353 | C49: 10950 | D49: 1759 | E49: 143 | F49: 1501 | G49: 9931 | H49: 4422 | I49: 8 | J49: 0 | K49: 5920 | L49: 31569 | M49: 10 | N49: 80 | O49: 16 | P49: 20 | Q49: 3323 | R49: 10 | S49: 2803 | T49: 10 | U49: 20710 | W49: 1462 | X49: 22172 | Y49: 11523
A50: 小計 | B50: =SUM(B47:B49) -> 17619 | C50: =SUM(C47:C49) -> 10991 | D50: =SUM(D47:D49) -> 4968 | E50: =SUM(E47:E49) -> 143 | F50: =SUM(F47:F49) -> 1517 | G50: =SUM(G47:G49) -> 9961 | H50: =SUM(H47:H49) -> 4458 | I50: =SUM(I47:I49) -> 9 | ... L50: =SUM(L47:L49) -> 31569 | M50: - | N50: - | O50: =SUM(O47:O49) -> 16 | P50: - | Q50: =SUM(Q47:Q49) -> 3323 | R50: - | S50: =SUM(S47:S49) -> 2803 | T50: - | U50: =SUM(U47:U49) -> 20710 | V50: =SUM(V47:V49) -> 20 | W50: =SUM(W47:W49) -> 1462 | X50: =SUM(X47:X49) -> 22192 | Y50: =SUM(Y47:Y49) -> 21100
A51: 合計 | B51: =B46+B50 -> 104578 | C51: =C46+C50 -> 80533 | D51: =D46+D50 -> 15120 | E51: =E46+E50 -> 163 | F51: =F46+F50 -> 1581 | G51: =G46+G50 -> 58501 | H51: =H46+H50 -> 42375 | I51: =I46+I50 -> 12 | ... L51: =L46+L50 -> 144472 | M51: - | N51: - | O51: =O46+O50 -> 225 | P51: - | Q51: =Q46+Q50 -> 3463 | R51: - | S51: =S46+S50 -> 2979 | T51: - | U51: =U46+U50 -> 855815 | V51: =V46+V50 -> 7090 | W51: =W46+W50 -> 12711 | X51: =X46+X50 -> 875616 | Y51: =Y46+Y50 -> 35720

Sheet 視聴覚利用
A1: 視聴覚資料利用 | N1: =貸出サービス概況!AA1 -> 令和7年
A2: 館 名 | B2: 資 料 種 別 利 用 数 | I2: (点) | J2: 利 用 点 数 | K2: 貸 出 別 利 用 数
B3: Ｃ Ｄ | C3: レコード | D3: カセット | E3: ﾋﾞﾃﾞｵ | F3: ＬＤ | G3: DVD | H3: CD-ROM, DVD-ROM | I3: その他 | J3: 合 計 | K3: 本館 | L3: 自動車 | M3: 分室・ｻｰﾋﾞｽ･ﾎﾟｲﾝﾄ | N3: 備 考
A5: 前橋 | B5: 26257 | C5: 0 | D5: 2 | E5: 0 | F5: 0 | G5: 11520 | H5: 0 | I5: 0 | J5: 37779 | K5: 37715 | L5: 0 | M5: 64
A6: 前橋こ | B6: 3261 | C6: 0 | D6: 0 | E6: 0 | F6: 0 | G6: 13191 | H6: 0 | I6: 0 | J6: 16452 | K6: 16452 | L6: 0 | M6: 0
A7: 前橋分 | B7: 32583 | C7: 0 | D7: 0 | E7: 0 | F7: 0 | G7: 25959 | H7: 0 | I7: 0 | J7: 58542 | K7: 58542 | L7: 0 | M7: 0
A8: 高崎 | B8: 112958 | C8: 0 | D8: 0 | E8: 656 | F8: 0 | G8: 133609 | H8: 1 | I8: 0 | J8: 247224 | K8: 238096 | L8: 0 | M8: 9128
A9: 箕郷 | B9: 4750 | C9: 0 | D9: 0 | E9: 16 | F9: 0 | G9: 5711 | H9: 0 | I9: 0 | J9: 10477 | K9: 10477 | L9: 0 | M9: 0
A10: 群馬 | B10: 11264 | C10: 0 | D10: 0 | E10: 41 | F10: 0 | G10: 13470 | H10: 0 | I10: 0 | J10: 24775 | K10: 24775 | L10: 0 | M10: 0
A11: 新町 | B11: 6139 | C11: 0 | D11: 0 | E11: 13 | F11: 0 | G11: 8695 | H11: 0 | I11: 0 | J11: 14847 | K11: 14847 | L11: 0 | M11: 0
A12: 榛名 | B12: 2204 | C12: 0 | D12: 0 | E12: 114 | F12: 0 | G12: 3769 | H12: 0 | I12: 0 | J12: 6087 | K12: 6087 | L12: 0 | M12: 0
A13: 吉井 | B13: 2866 | C13: 0 | D13: 0 | E13: 42 | F13: 0 | G13: 6133 | H13: 0 | I13: 0 | J13: 9041 | K13: 9041 | L13: 0 | M13: 0
A14: 桐生 | B14: 5324 | C14: 0 | D14: 0 | E14: 0 | F14: 0 | G14: 5610 | H14: 225 | I14: 0 | J14: 11159 | K14: 11159 | L14: 0 | M14: 0
A15: 新里 | B15: 1906 | C15: 0 | D15: 0 | E15: 0 | F15: 0 | G15: 2594 | H15: 0 | I15: 13 | J15: 4513 | K15: 4513 | L15: 0 | M15: 0
A16: 伊勢崎 | B16: - | C16: - | D16: - | E16: - | F16: - | G16: - | H16: - | I16: - | J16: 37876 | K16: 28773 | L16: 0 | M16: 9103 | N16: 図書館システムリプレイスの影響で資料種別内訳は抽出不可
A17: 赤堀 | B17: - | C17: - | D17: - | E17: - | F17: - | G17: - | H17: - | I17: - | J17: 13665 | K17: 13665 | L17: 0 | M17: 0 | N17: 図書館システムリプレイスの影響で資料種別内訳は抽出不可
A18: あずま | B18: - | C18: - | D18: - | E18: - | F18: - | G18: - | H18: - | I18: - | J18: 18509 | K18: 18509 | L18: 0 | M18: 0 | N18: 図書館システムリプレイスの影響で資料種別内訳は抽出不可
A19: 境 | B19: - | C19: - | D19: - | E19: - | F19: - | G19: - | H19: - | I19: - | J19: 16592 | K19: 16592 | L19: 0 | M19: 0 | N19: 図書館システムリプレイスの影響で資料種別内訳は抽出不可
A20: 太田 | B20: 14571 | C20: 0 | D20: 0 | E20: 7 | F20: 0 | G20: 24425 | H20: 0 | I20: 35 | J20: 39038 | K20: 39038 | L20: 0 | M20: 0
A21: 尾島 | B21: 3577 | C21: 0 | D21: 0 | E21: 4 | F21: 0 | G21: 6229 | H21: 0 | I21: 0 | J21: 9810 | K21: 9810 | L21: 0 | M21: 0
A22: 新田 | B22: 15235 | C22: 0 | D22: 0 | E22: 2 | F22: 0 | G22: 24495 | H22: 0 | I22: 0 | J22: 39732 | K22: 39732 | L22: 0 | M22: 0
A23: 藪塚 | B23: 3390 | C23: 0 | D23: 0 | E23: 199 | F23: 0 | G23: 5174 | H23: 0 | I23: 0 | J23: 8763 | K23: 8763 | L23: 0 | M23: 0
A24: 太田美 | B24: 0 | C24: 0 | D24: 0 | E24: 0 | F24: 0 | G24: 0 | H24: 0 | I24: 0 | J24: 0 | K24: 0 | L24: 0 | M24: 0
A25: 沼田 | B25: 5994 | C25: 0 | D25: 23 | E25: 79 | F25: 0 | G25: 4225 | H25: 0 | I25: 0 | J25: 10321 | K25: 10318 | L25: 0 | M25: 3
A26: 館林 | B26: 8102 | C26: 0 | D26: 129 | E26: 79 | F26: 22 | G26: 9070 | H26: 0 | I26: 0 | J26: 17402 | K26: 17402 | L26: 0 | M26: 0
A27: 渋川 | B27: 15247 | C27: 0 | D27: 0 | E27: 0 | F27: 0 | G27: 17890 | H27: 0 | I27: 0 | J27: 33137 | K27: 33137 | L27: 0 | M27: 0
A28: 北橘 | B28: 68 | C28: 0 | D28: 0 | E28: 0 | F28: 0 | G28: 1669 | H28: 0 | I28: 0 | J28: 1737 | K28: 1737 | L28: 0 | M28: 0
A29: 藤岡 | B29: 7916 | C29: 0 | D29: 0 | E29: 0 | F29: 0 | G29: 16700 | H29: 2 | I29: 0 | J29: 24618 | K29: 24618 | L29: 0 | M29: 0
A30: 富岡 | B30: 1087 | C30: 0 | D30: 16 | E30: 11 | F30: 0 | G30: 2079 | H30: 0 | I30: 0 | J30: 3193 | K30: 3193 | L30: 0 | M30: 0
A31: 安中 | B31: 326 | C31: 0 | D31: 0 | E31: 0 | F31: 0 | G31: 1172 | H31: 0 | I31: 0 | J31: 1498 | K31: 1498 | L31: 0 | M31: 0
... A41: 玉村 | B41: 12507 | C41: 0 | D41: 0 | E41: 166 | F41: 0 | G41: 13890 | H41: 0 | I41: 0 | J41: 26563 | K41: 26563 | L41: 0 | M41: 0
A42: 明和 | B42: 0 | C42: 0 | D42: 0 | E42: 7 | F42: 12 | G42: 4812 | H42: 0 | J42: 4831 | K42: 4831 | L42: 0 | M42: 0
A43: 千代田 | B43: 534 | C43: 0 | D43: 0 | E43: 4 | F43: 0 | G43: 1668 | H43: 0 | I43: 0 | J43: 2206 | K43: 2206 | L43: 0 | M43: 0
A44: 大泉 | B44: 5347 | C44: 0 | D44: 0 | E44: 0 | F44: 0 | G44: 9625 | H44: 0 | I44: 0 | J44: 14972 | K44: 14972 | L44: 0 | M44: 0
A45: 邑楽 | B45: 12051 | C45: 0 | D45: 0 | E45: 62 | F45: 282 | G45: 9963 | H45: 0 | I45: 0 | J45: 22358 | K45: 22350 | L45: 8 | M45: 0
A46: 計 | B46: =SUM(B5:B45) -> 342276 | C46: =SUM(C5:C45) -> 0 | D46: =SUM(D5:D45) -> 170 | E46: =SUM(E5:E45) -> 1533 | F46: =SUM(F5:F45) -> 316 | G46: =SUM(G5:G45) -> 429803 | H46: =SUM(H5:H45) -> 228 | I46: =SUM(I5:I45) -> 48 | ... M46: =SUM(M5:M45) -> 18298
A47: 県議会 | B47: 0 | C47: 0 | D47: 0 | E47: 0 | F47: 0 | G47: 0 | H47: 0 | I47: 0 | J47: 0 | K47: 0 | L47: 0 | M47: 0
A48: 点字 | B48: 0 | C48: 0 | D48: 0 | E48: 0 | F48: 0 | G48: 0 | H48: 0 | I48: 0 | J48: 0 | K48: 0 | L48: 0 | M48: 0
A49: 県立 | B49: 38227 | C49: 0 | D49: 0 | E49: 0 | F49: 0 | G49: 3211 | H49: 0 | I49: 0 | J49: 41438 | K49: 41438 | L49: 0 | M49: 0
A50: 小計 | B50: =SUM(B47:B49) -> 38227 | C50: =SUM(C47:C49) -> 0 | D50: =SUM(D47:D49) -> 0 | E50: =SUM(E47:E49) -> 0 | F50: =SUM(F47:F49) -> 0 | G50: =SUM(G47:G49) -> 3211 | H50: =SUM(H47:H49) -> 0 | I50: =SUM(I47:I49) -> 0 | ... M50: =SUM(M47:M49) -> 0
A51: 合計 | B51: =B46+B50 -> 380503 | C51: =C46+C50 -> 0 | D51: =D46+D50 -> 170 | E51: =E46+E50 -> 1533 | F51: =F46+F50 -> 316 | G51: =G46+G50 -> 433014 | H51: =H46+H50 -> 228 | I51: =I46+I50 -> 48 | ... M51: =M46+M50 -> 18298

Sheet コンピュータ
A1: コンピュ－タ・システム | T1: =蔵書Ⅰ!R1 -> 令和8年3月31日現在
A2: 館 名 | B2: 現行システム稼働年月日 | C2: 現行システム稼働年月日 | D2: ハ ー ド | H2: OS | I2: ソフト | J2: マーク | K2: ホームページ | O2: 端末 | Q2: インターネット | R2: 導入経費 | S2: ﾗﾝﾆﾝｸﾞｺｽﾄ
D3: メーカー | E3: 機 種 | F3: ホストコンピュータ | G3: ディスク 記憶容量 | L3: 蔵書検索 | M3: 予約受付 | N3: Ｗｅｂサーバーの所在 | O3: 台数 | P3: うち利用者開放端末 | Q3: 利用者開放 | R3: (千円) | S3: (千円) | T3: 備 考
J4: 図書、ＡＶ | Q4: 端末台数
A5: 前橋 | B5: 2012.1.5 | C5: 43831 | D5: NEC | E5: - | G5: - | H5: - | I5: GPRIMEforSaasLicsWebⅡ | J5: 図書(TRC)、AV(なし) | K5: ○ | L5: ○ | M5: ○ | N5: 外部 | O5: 104 | P5: 24 | Q5: 2 | R5: 3955 | S5: 27940
A6: 前橋こ | T6: 中央館で一括計上
A7: 前橋分 | T7: 中央館で一括計上
A8: 高崎 | B8: 40603 | C8: 44743 | D8: 京セラコミュニケーションシステム株式会社 | E8: ProLiant DL360 Gen10 | F8: ワークステーション | G8: 1.2TB | H8: Windows Server 2019 | I8: ELCIELO | J8: ㈱図書館流通センター | K8: ○ | L8: ○ | M8: ○ | N8: 館内 | O8: 148 | P8: 32 | Q8: 6 | R8: 35856 | S8: 62042
A9: 箕郷 | T9: 中央館で一括計上
A10: 群馬 | T10: 中央館で一括計上
A11: 新町 | T11: 中央館で一括計上
A12: 榛名 | T12: 中央館で一括計上
A13: 吉井 | T13: 中央館で一括計上
A14: 桐生 | B14: 38991 | C14: 44835 | D14: 富士通 | E14: クラウド | I14: Webilis | J14: TRC T | K14: ○ | L14: ○ | M14: ○ | N14: 外部 | O14: 16 | P14: 4 | Q14: 5 | R14: 42 | S14: 13606
A15: 新里 | B15: 40725 | C15: 44835 | D15: 富士通 | E15: クラウド | I15: Webilis | J15: TRC T | K15: ○ | L15: ○ | M15: ○ | N15: 外部 | O15: 5 | P15: 2 | Q15: 1 | T15: 中央館で一括計上
A16: 伊勢崎 | C16: 45996 | D16: NEC | E16: クラウド | I16: LiCS-Re3 | J16: TRC T | K16: ○ | L16: ○ | M16: ○ | N16: 外部 | O16: 20 | P16: 5 | Q16: 2 | R16: 6600 | S16: 6906 | T16: クラウドサービス利用のため、サーバのハード無し
A17: 赤堀 | C17: 45996 | D17: NEC | E17: クラウド | I17: LiCS-Re3 | J17: TRC T | K17: ○ | L17: ○ | M17: ○ | N17: 外部 | O17: 6 | P17: 2 | Q17: 1 | R17: 0 | S17: 0 | T17: クラウドサービス利用のため、サーバのハード無し、経費は中央館（伊勢崎）で一括計上
A18: あずま | C18: 45996 | D18: NEC | E18: クラウド | I18: LiCS-Re3 | J18: TRC T | K18: ○ | L18: ○ | M18: ○ | N18: 外部 | O18: 8 | P18: 2 | Q18: 1 | R18: 0 | S18: 0 | T18: クラウドサービス利用のため、サーバのハード無し、経費は中央館（伊勢崎）で一括計上
A19: 境 | C19: 45996 | D19: NEC | E19: クラウド | I19: LiCS-Re3 | J19: TRC T | K19: ○ | L19: ○ | M19: ○ | N19: 外部 | O19: 8 | P19: 2 | Q19: 1 | R19: 0 | S19: 0 | T19: クラウドサービス利用のため、サーバのハード無し、経費は中央館（伊勢崎）で一括計上
A20: 太田 | B20: 2008.2.1 | C20: 45624 | D20: NEC | E20: Express5800/R120j-1M | F20: パソコン | G20: 7.2TB | H20: Linux | I20: LiCS-Re3 | J20: TRC-T 図書・AV | K20: ○ | L20: ○ | M20: ○ | N20: 館内 | O20: 26 | P20: 6 | Q20: 1 | R20: 13464 | S20: 14323
A21: 尾島 | B21: H20,2,1 | C21: 45624 | D21: NEC | E21: Express5800/R120j-1M | F21: パソコン | G21: 7.2TB | H21: Linux | I21: LiCS-Re3 | J21: TRC-T 図書・AV | K21: ○ | L21: ○ | M21: ○ | N21: 庁内 | O21: 9 | P21: 2 | Q21: 1 | R21: - | S21: -
A22: 新田 | B22: Ｈ20.2 | C22: 45624 | D22: NEC | E22: Express5800/R120j-1M | F22: パソコン | G22: 7.2TB | H22: Linux | I22: Lics-Re3 | J22: TRC-T 図書・AV | K22: ○ | L22: ○ | M22: ○ | N22: 館内 | O22: 12 | P22: 5 | Q22: 1 | R22: - | S22: -
A23: 藪塚 | B23: 2008.7.11 | C23: 45624 | D23: NEC | E23: Express5800/R120j-1M | F23: パソコン | G23: 45624 | H23: NEC | I23: Express5800/R120j-1M | J23: パソコン | K23: ○ | L23: ○ | M23: ○ | N23: 庁内 | O23: 9 | P23: 2 | Q23: 1 | R23: ‐ | S23: ‐
A24: 太田美 | B24: 2008.7.11 | C24: 44531 | D24: NEC | E24: Express5800 | F24: パソコン | G24: 400GB | H24: Linux | I24: LiCS-Re2 | J24: トーハンマーク・TRCマーク | K24: ○ | L24: ○ | M24: ○ | N24: 庁内 | O24: 15 | P24: 6 | Q24: 0 | R24: 0 | S24: 14652
A25: 沼田 | B25: 39995 | C25: 45627 | D25: 富士通 | E25: クラウド | G25: - | H25: なし | I25: webiLis V4 | J25: TRC T | K25: ○ | L25: ○ | M25: ○ | N25: 外部 | O25: 25 | P25: 3 | Q25: 2 | R25: - | S25: 6406
A26: 館林 | B26: 40238 | C26: 44409 | D26: ― | E26: ― | F26: ― | G26: ― | H26: ― | I26: webiｌis | J26: TRC,トッカータ | K26: ○ | L26: ○ | M26: ○ | N26: 外部 | O26: 11 | P26: 4 | Q26: 1 | R26: ― | S26: 3562
A27: 渋川 | B27: 39875 | C27: 令和7.3.1 | D27: 富士通 | E27: - | G27: - | H27: Windows11 | I27: WebiLisV4 | J27: トーハン LCS | K27: ○ | L27: ○ | M27: ○ | N27: 外部 | O27: 13 | P27: 4 | Q27: 1 | R27: 0 | S27: 11565 | T27: ランニングコストはシステムリース料+通信料
A28: 北橘 | B28: H11.7 | C28: 45352 | D28: 富士通 | E28: ESPRIMO | F28: パソコン | G28: 250G | H28: Windows11pro | I28: WebiLisV4 | J28: トーハン | K28: ○ | L28: ○ | M28: ○ | N28: 外部 | O28: 3 | P28: 1 | Q28: 0 | R28: 0 | S28: 0 | T28: 経費は渋川市立図書館が一括計上
A29: 藤岡 | B29: 40452 | C29: 45943 | D29: HP | E29: Pro SFF 400 G9 | F29: パソコン | G29: 256GB | H29: Windows11 | I29: ELCIELO | J29: TRC | K29: ○ | L29: ○ | M29: ○ | N29: 外部 | O29: 20 | P29: 10 | Q29: 2 | R29: 72562 | S29: 24959 | T29: ランニングコストは交付金の関係によりR7.10~R10.3分を令和7年度に一括計上
A30: 富岡 | B30: 40164 | C30: 44903 | D30: NEC | E30: クラウド | I30: Lics-Re3 | J30: TRC | K30: ○ | L30: ○ | M30: ○ | N30: 外部 | O30: 9 | P30: 2 | Q30: 2 | R30: 0 | S30: 6594
A31: 安中 | C31: 43284 | D31: 富士通 | E31: PRIMERGY | F31: パソコン | G31: 600G | H31: Windous Server2016 | I31: iLiswing V3 | K31: ○ | L31: ○ | M31: ○ | N31: 外部 | O31: 7 | P31: 1 | Q31: 1 | S31: 5994
A32: 松井田 | B32: 40627 | C32: 45108 | D32: 富士通 | E32: クラウド | I32: webilisV4 | J32: TRC | K32: ○ | L32: ○ | M32: ○ | N32: 外部 | O32: 5 | P32: 1 | Q32: 1 | R32: 9220 | S32: 2864
A33: 笠懸 | B33: 2007.10.1 | C33: 45200 | D33: 富士通 | E33: クラウド | H33: windowｓ | I33: webiLis | J33: TRC | K33: ○ | L33: ○ | M33: ○ | N33: 外部 | O33: 16 | P33: 3 | Q33: 1 | R33: 0 | S33: 6058 | T33: ンニングコストはシステムリース料＋システム保守＋サーバ借上料、東公民館・岩宿博物館のシステム代金も含む。台数は3館分。
A34: 大間々 | C34: 45200 | D34: 富士通 | E34: クラウド | H34: windowｓ | I34: webiLis | J34: TRC | K34: ○ | L34: ○ | M34: ○ | N34: 外部 | O34: 7 | P34: 1 | Q34: 1 | T34: ランニングコストは、笠懸図書館で回答。台数は自館分。
A35: 吉岡 | B35: 2010.3.31 | C35: 44481 | D35: 富士通 | E35: クラウド | F35: パソコン | I35: webiLisV4 | J35: TRCT | K35: ○ | L35: ○ | M35: ○ | N35: 外部 | O35: 8 | P35: 2 | Q35: 0 | R35: 0 | S35: 0
A36: 上野 | C36: 2026.03.15 | D36: NEC | E36: intelCOREi3 | F36: パソコン | I36: ソフテック | J36: ＴＲＣ | K36: ○ | L36: ○ | M36: × | N36: 館内 | O36: 3 | P36: 1 | Q36: 1 | R36: 603 | S36: 69
A37: 神流 | C37: 44652 | D37: NEC | E37: PC-MKM31BZGB | F37: パソコン | G37: ８GB | H37: Windows11 | I37: ライブマックス | J37: TRC | K37: ○ | L37: ○ | M37: × | N37: 外部 | O37: 6 | P37: 5 | Q37: 5 | R37: 2361 | S37: 614
A38: 甘楽 | B38: 40864 | C38: 44835 | D38: NEC | E38: OptiPlex | F38: パソコン | G38: 8GB.1X8GB | H38: WINDOWS10Professonal | I38: LICS-Re3 | J38: TRC | K38: ○ | L38: ○ | M38: ○ | N38: 外部 | O38: 5 | P38: 2 | Q38: 2 | R38: 18909 | S38: 1967
A39: 中之条 | B39: 39751 | C39: 45566 | D39: NEC | E39: Express5800/R110m-1 | F39: パソコン | G39: 1TB×4(RAID5) | H39: Red Hat Enterprise Linux | I39: LiCS-Re３ | J39: TRC | K39: ○ | L39: ○ | M39: ○ | N39: 館内 | O39: 5 | P39: 3 | Q39: 0 | R39: 22176 | S39: 1452
A40: 草津 | B40: H20.08 | C40: 平成29年 | D40: FUJITSU | F40: パソコン | H40: Windows7 | I40: 名館長 | J40: 未実施 | K40: × | L40: × | M40: × | O40: 0 | P40: 0 | Q40: 0
A41: 玉村 | B41: 39569 | C41: 45231 | D41: 富士通 | E41: クラウド | F41: パソコン | G41: － | H41: － | I41: WebiLis | J41: TRC、MMC、LCS | K41: ○ | L41: ○ | M41: ○ | N41: 外部 | O41: 11 | P41: 3 | Q41: 1 | R41: 50 | S41: 4300 | T41: クラウドのため、ハードとOSは不明。
A42: 明和 | B42: 38899 | C42: 45108 | D42: 富士通 | E42: ー | F42: パソコン | G42: ー | H42: ー | I42: WebiLis V4 | J42: 図書TRC、AV独自 | K42: ○ | L42: ○ | M42: ○ | N42: 外部 | O42: 4 | P42: 1 | Q42: 0 | R42: ー | S42: 2781 | T42: ｸﾗｳﾄﾞ型ｻｰﾋﾞｽｼｽﾃﾑを導入したためﾊｰﾄﾞとOSは不明。
A43: 千代田 | B43: 40822 | C43: 45078 | D43: 富士通 | E43: ESPRIMO D7012 | F43: パソコン | G43: 500GB | H43: Win11Pro | I43: iLiswing V4 | J43: TRC | K43: ○ | L43: ○ | M43: ○ | N43: 外部 | O43: 5 | P43: 0 | Q43: 2 | R43: 2130 | S43: 2394
A44: 大泉 | B44: 40213 | C44: 45689 | D44: 富士通 | E44: ESPRIMO D7014/RX | F44: パソコン | G44: 256GB | H44: Windows11 Pro | I44: Web iLis | J44: TRC | K44: ○ | L44: ○ | M44: ○ | N44: 外部 | O44: 10 | P44: 2 | Q44: 0 | R44: - | S44: 160
A45: 邑楽 | B45: H21.10 | C45: 45627 | D45: 富士通 | E45: クラウド | F45: パソコン | I45: weblis | J45: TRC・日図協・トッカータ・MMC | K45: ○ | L45: ○ | M45: ○ | N45: 外部 | O45: 10 | P45: 2 | Q45: 1 | S45: 3636
A46: 計 | B46: － | C46: － | D46: － | E46: － | F46: － | G46: － | H46: － | I46: － | J46: － | K46: =SUM(K5:K45) -> 0 | L46: =SUM(L5:L45) -> 0 | M46: =SUM(M5:M45) -> 0 | N46: =SUM(N5:N45) -> 0 | O46: =SUM(O5:O45) -> 569 | P46: =SUM(P5:P45) -> 145 | Q46: =SUM(Q5:Q45) -> 47 | R46: =SUM(R5:R45) -> 187928 | S46: =SUM(S5:S45) -> 224844
A47: 県議会 | B47: 38798 | C47: 45698 | D47: Dell | E47: Pro 14 | F47: パソコン | G47: － | H47: Windows 11 | I47: 独自開発 | J47: 図書、ＡＶ | K47: × | L47: × | M47: × | N47: 館内 | O47: 9 | P47: 0 | Q47: 0 | R47: 0 | S47: 0
A48: 点字 | B48: 39173 | C48: 41913 | D48: NEC | E48: VF-M | F48: パソコン | G48: 8GB | H48: 11Pro | I48: Web図書館システム | J48: TRC | K48: ○ | L48: × | M48: × | N48: 外部 | O48: 12 | P48: 1 | Q48: 1 | R48: 40 | S48: 40
A49: 県立 | C49: 44938 | D49: 富士通 | E49: クラウド | F49: ワークステーション | G49: クラウド | H49: Linux | I49: iLisfiera | J49: TRC,_NHK,NPL | K49: ○ | L49: ○ | M49: ○ | N49: 外部 | O49: 61 | P49: 12 | Q49: 3 | R49: 2200 | S49: 31353
A50: 小計 | B50: － | C50: － | D50: － | E50: － | F50: － | G50: － | H50: － | I50: － | J50: － | K50: =COUNTIF(K47:K49,"○") -> 2 | L50: =COUNTIF(L47:L49,"○") -> 1 | M50: =COUNTIF(M47:M49,"○") -> 1 | O50: =SUM(O47:O49) -> 82 | P50: =SUM(P47:P49) -> 13 | Q50: =SUM(Q47:Q49) -> 4 | R50: =SUM(R47:R49) -> 2240 | S50: =SUM(S47:S49) -> 31393
A51: 合計 | B51: － | C51: － | D51: － | E51: － | F51: － | G51: － | H51: － | I51: － | J51: － | K51: =K46+K50 -> 2 | L51: =L46+L50 -> 1 | M51: =M46+M50 -> 1 | O51: =O46+O50 -> 651 | P51: =P46+P50 -> 158 | Q51: =Q46+Q50 -> 51 | R51: =R46+R50 -> 190168 | S51: =S46+S50 -> 256237

Sheet R７年度決算
A1: 令和７年度決算
A2: 館 名 | B2: 総決算額 | O2: （千円）
C3: 経常経費 | N3: 臨時的経費
D4: 人件費 | P4: 備 考
K5: 資料費 | L5: その他の 図書館費 | M5: 図書館費 | O5: (うち資料費）
E6: 図書費 | F6: 雑誌新聞費 | G6: 視聴覚資料費 | H6: 自動車図書館用資料費 | I6: 分室、S・P用資料費 | J6: その他の資料費 | K6: 合 計 | M6: 合 計
A7: 前橋 | B7: 637393 | C7: 637393 | D7: 238935 | E7: 46130 | F7: 11432 | G7: 3000 | H7: 0 | I7: 780 | J7: 0 | K7: 61342 | L7: 337116 | M7: 398458 | N7: 0 | O7: 0
A8: 前橋こ | P8: 中央館で一括計上
A9: 前橋分 | P9: 中央館で一括計上
A10: 高崎 | B10: 357005 | C10: 357005 | D10: 63014 | E10: 52208 | F10: 6858 | G10: 17001 | H10: 0 | I10: 1623 | J10: 3820 | K10: 81510 | L10: 212481 | M10: 293991 | N10: 0 | O10: 0
A11: 箕郷 | P11: 中央館で一括計上 | AR11: ．
A12: 群馬 | P12: 中央館で一括計上
A13: 新町 | P13: 中央館で一括計上
A14: 榛名 | P14: 中央館で一括計上
A15: 吉井 | P15: 中央館で一括計上
A16: 桐生 | B16: 169236 | C16: 169236 | D16: 126598 | E16: 17053 | F16: 2820 | G16: 1700 | H16: 0 | I16: 3120 | J16: 0 | K16: 24693 | L16: 17945 | M16: 42638 | N16: 0 | O16: 0
A17: 新里 | P17: 中央館一括
A18: 伊勢崎 | B18: 184122 | C18: 160967 | D18: 0 | E18: 35014 | F18: 4574 | G18: 6036 | H18: 0 | I18: 0 | J18: 363 | K18: 45987 | L18: 114980 | M18: 160967 | N18: 23155 | O18: 0 | P18: 人件費は他課で計上
A19: 赤堀 | P19: 中央館（伊勢崎）で一括計上
A20: あずま | P20: 中央館（伊勢崎）で一括計上
A21: 境 | P21: 中央館（伊勢崎）で一括計上
A22: 太田 | B22: 285252 | C22: 256209 | D22: 133241 | E22: 19800 | F22: 1717 | G22: 2787 | H22: 0 | I22: 0 | J22: 1180 | K22: 25484 | L22: 97484 | M22: 122968 | N22: 29043 | O22: 0
A23: 尾島 | B23: 45578 | C23: 45578 | D23: 37318 | E23: 4980 | F23: 1355 | G23: 1099 | H23: 0 | I23: 0 | J23: 0 | K23: 7434 | L23: 826 | M23: 8260 | N23: 0 | O23: 0
A24: 新田 | B24: 87229 | C24: 87229 | D24: 71926 | E24: 10999 | F24: 1435 | G24: 2603 | H24: 0 | I24: 0 | J24: 266 | K24: 15303 | L24: 0 | M24: 15303 | N24: 0 | O24: 0 | P24: 部分計上
A25: 藪塚 | B25: 49647 | C25: 49647 | D25: 40139 | E25: 5600 | F25: 1265 | G25: 1100 | H25: 0 | I25: 0 | J25: 0 | K25: 7965 | L25: 1543 | M25: 9508 | N25: 0 | O25: 0 | P25: 部分計上
A26: 太田美 | B26: 204734 | C26: 204734 | D26: 179857 | E26: 4399 | F26: 3365 | G26: 251 | H26: 0 | I26: 0 | J26: 0 | K26: 8015 | L26: 16862 | M26: 24877 | N26: 0 | O26: 0
A27: 沼田 | B27: 159240 | C27: 159240 | D27: 94446 | E27: 12437 | F27: 2792 | G27: 825 | H27: 0 | I27: 17 | J27: 275 | K27: 16346 | L27: 48448 | M27: 64794 | N27: 0 | O27: 0
A28: 館林 | B28: 106325 | C28: 103406 | D28: 65070 | E28: 10195 | F28: 1606 | G28: 1485 | H28: 0 | I28: 0 | J28: 288 | K28: 13574 | L28: 24762 | M28: 38336 | N28: 2919 | O28: 0
A29: 渋川 | B29: 131522 | C29: 131522 | D29: 80960 | E29: 7468 | F29: 1336 | G29: 2012 | H29: 0 | I29: 5230 | J29: 0 | K29: 16046 | L29: 34516 | M29: 50562 | N29: 0 | O29: 0
A30: 北橘 | B30: 7840 | C30: 7840 | D30: 5831 | E30: 1216 | F30: 266 | G30: 346 | H30: 0 | I30: 0 | J30: 0 | K30: 1828 | L30: 181 | M30: 2009 | N30: 0 | O30: 0
A31: 藤岡 | B31: 319618 | C31: 106880 | D31: 45036 | E31: 13161 | F31: 1558 | G31: 2439 | H31: 0 | I31: 0 | J31: 531 | K31: 17689 | L31: 44155 | M31: 61844 | N31: 212738 | O31: 0
A32: 富岡 | B32: 86033 | C32: 86033 | D32: 51107 | E32: 11632 | F32: 2292 | G32: 773 | H32: 0 | I32: 0 | J32: 37 | K32: 14734 | L32: 20192 | M32: 34926 | N32: 0 | O32: 0
A33: 安中 | B33: 30653 | C33: 30653 | D33: 18120 | E33: 4648 | F33: 1012 | G33: 128 | H33: 0 | I33: 0 | J33: 580 | K33: 6368 | L33: 6165 | M33: 12533 | N33: 0 | O33: 0 | P33: 部分計上
A34: 松井田 | B34: 24813 | C34: 24813 | D34: 18076 | E34: 4055 | F34: 837 | G34: 455 | H34: 0 | I34: 0 | J34: 154 | K34: 5501 | L34: 1236 | M34: 6737 | N34: 0 | O34: 0 | P34: 部分計上
A35: 笠懸 | B35: 102956 | C35: 102956 | D35: 64231 | E35: 9392 | F35: 1760 | G35: 550 | H35: 0 | I35: 0 | J35: 2304 | K35: 14006 | L35: 24719 | M35: 38725 | N35: 0 | O35: 0 | P35: 一括計上
A36: 大間々 | P36: 笠懸図書館で一括計上
A37: 吉岡 | B37: 50065 | C37: 50065 | D37: 34086 | E37: 6924 | F37: 1225 | G37: 1567 | H37: 0 | I37: 0 | J37: 0 | K37: 9716 | L37: 6263 | M37: 15979 | N37: 0 | O37: 0
A38: 上野 | B38: 9032 | C38: 9032 | D38: 4148 | E38: 2296 | F38: 290 | G38: 240 | H38: 0 | I38: 0 | J38: 0 | K38: 2826 | L38: 2058 | M38: 4884 | N38: 0 | O38: 0
A39: 神流 | B39: 8923 | C39: 8923 | D39: 6465 | E39: 502 | F39: 166 | G39: 0 | H39: 0 | I39: 0 | J39: 0 | K39: 668 | L39: 1790 | M39: 2458 | N39: 0 | O39: 0
A40: 甘楽 | B40: 45718 | C40: 30965 | D40: 15020 | E40: 2437 | F40: 607 | G40: 0 | H40: 0 | I40: 0 | J40: 853 | K40: 3897 | L40: 12048 | M40: 15945 | N40: 14753 | O40: 0
A41: 中之条 | B41: 41861 | C41: 41861 | D41: 25901 | E41: 4509 | F41: 1603 | G41: 1802 | H41: 0 | I41: 0 | J41: 91 | K41: 8005 | L41: 7955 | M41: 15960 | N41: 0 | O41: 0
A42: 草津 | B42: 22648 | C42: 22439 | D42: 15345 | E42: 2140 | F42: 334 | G42: 165 | H42: 0 | I42: 0 | J42: 88 | K42: 2727 | L42: 4367 | M42: 7094 | N42: 209 | O42: 0
A43: 玉村 | B43: 78839 | C43: 78789 | D43: 62447 | E43: 7167 | F43: 1679 | G43: 1036 | H43: 0 | I43: 0 | J43: 301 | K43: 10183 | L43: 6159 | M43: 16342 | N43: 50 | O43: 0
A44: 明和 | B44: 29158 | C44: 29158 | D44: 17062 | E44: 2893 | F44: 484 | G44: 964 | H44: 0 | I44: 0 | J44: 0 | K44: 4342 | L44: 7752 | M44: 12095 | N44: 0 | O44: 0
A45: 千代田 | B45: 35050 | C45: 35050 | D45: 23618 | E45: 3231 | F45: 798 | G45: 576 | H45: 0 | I45: 0 | J45: 66 | K45: 4671 | L45: 6761 | M45: 11432 | N45: 0 | O45: 0
A46: 大泉 | B46: 82846 | C46: 82846 | D46: 50985 | E46: 7931 | F46: 1108 | G46: 1975 | H46: 0 | I46: 0 | J46: 0 | K46: 11014 | L46: 20847 | M46: 31861 | N46: 0 | O46: 0
A47: 邑楽 | B47: 101421 | C47: 100252 | D47: 65607 | E47: 9022 | F47: 2142 | G47: 1688 | H47: 0 | I47: 0 | J47: 528 | K47: 13380 | L47: 21265 | M47: 34645 | N47: 1169 | O47: 0
A48: 計 | B48: =SUM(B7:B47) -> 3494757 | C48: =SUM(C7:C47) -> 3210721 | D48: =SUM(D7:D47) -> 1654589 | E48: =SUM(E7:E47) -> 319439 | F48: =SUM(F7:F47) -> 58716 | G48: =SUM(G7:G47) -> 54603 | H48: =SUM(H7:H47) -> 0 | I48: =SUM(I7:I47) -> 10770 | ... O48: =SUM(O7:O47) -> 0
A49: 県議会 | B49: 4370 | C49: 4370 | D49: 2969 | E49: 473 | F49: 530 | G49: 0 | H49: 0 | I49: 0 | J49: 398 | K49: 1401 | L49: 0 | M49: 1401 | N49: 0 | O49: 0
A50: 点字 | B50: 45320 | C50: 45320 | D50: 34222 | E50: 314 | F50: 92 | G50: 0 | H50: 0 | I50: 0 | J50: 0 | K50: 406 | L50: 10692 | M50: 11098 | N50: 0 | O50: 0
A51: 県立 | B51: 383241 | C51: 383241 | D51: 239134 | E51: 38597 | F51: 4140 | G51: 352 | J51: 2170 | K51: 45259 | L51: 98848 | M51: 144107 | N51: 0 | O51: 0
A52: 小計 | B52: =SUM(B49:B51) -> 432931 | C52: =SUM(C49:C51) -> 432931 | D52: =SUM(D49:D51) -> 276325 | E52: =SUM(E49:E51) -> 39384 | F52: =SUM(F49:F51) -> 4762 | G52: =SUM(G49:G51) -> 352 | H52: =SUM(H49:H51) -> 0 | I52: =SUM(I49:I51) -> 0 | ... O52: =SUM(O49:O51) -> 0
A53: 合計 | B53: =B48+B52 -> 3927688 | C53: =C48+C52 -> 3643652 | D53: =D48+D52 -> 1930914 | E53: =E48+E52 -> 358823 | F53: =F48+F52 -> 63478 | G53: =G48+G52 -> 54955 | H53: =H48+H52 -> 0 | I53: =I48+I52 -> 10770 | ... O53: =O48+O52 -> 0
B58: =SUM(B7:B47) -> 3494757

Sheet R８年度予算
A1: 令和８年度予算
A2: 館 名 | B2: 予算総額 | N2: （千円） | O2: うち人件費をのぞく図書館費
C3: 経常経費 | N3: 臨時的経費 | O3: =A1 -> 令和８年度予算 | P3: 県市町村費 | Q3: 教育費予算
D4: 人件費 | P4: 予算に占める | Q4: に占める | R4: 備 考
K5: 資料費 | L5: その他の 図書館費 | M5: 図書館費 | P5: 割合 | Q5: 割合
E6: 図書費 | F6: 雑誌新聞費 | G6: 視聴覚資料費 | H6: 自動車図書館用資料費 | I6: 分室、S・P用資料費 | J6: その他の資料費 | K6: 合 計 | M6: 合 計 | O6: （千円） | P6: （％） | Q6: （％）
A7: 前橋 | B7: 788587 | C7: 788587 | D7: 244493 | E7: 46100 | F7: 10448 | G7: 3000 | H7: 0 | I7: 900 | J7: 0 | K7: 60448 | L7: 483646 | M7: 544094 | N7: 0 | O7: 544094
A8: 前橋こ | R8: 中央館で一括計上
A9: 前橋分 | R9: 中央館で一括計上
A10: 高崎 | B10: 454177 | C10: 454177 | D10: 62102 | E10: 49264 | F10: 6686 | G10: 17008 | H10: 0 | I10: 1700 | J10: 4028 | K10: 78686 | L10: 313389 | M10: 392075 | N10: 0 | O10: 392075 | P10: 0.22 | Q10: 2.2
A11: 箕郷 | R11: 中央館で一括計上
A12: 群馬 | R12: 中央館で一括計上
A13: 新町 | R13: 中央館で一括計上
A14: 榛名 | R14: 中央館で一括計上
A15: 吉井 | R15: 中央館で一括計上
A16: 桐生 | B16: 182189 | C16: 182189 | D16: 124877 | E16: 16271 | F16: 2981 | G16: 1700 | H16: 0 | I16: 3900 | J16: 0 | K16: 24852 | L16: 32460 | M16: 57312 | N16: 0 | O16: 57312 | P16: 0.12 | Q16: 0.96
A17: 新里 | R17: 中央館一括
A18: 伊勢崎 | B18: 242692 | C18: 158740 | D18: 0 | E18: 31300 | F18: 4535 | G18: 6555 | H18: 0 | I18: 0 | J18: 2558 | K18: 44948 | L18: 113792 | M18: 158740 | N18: 83952 | O18: 242692 | P18: 0.25 | Q18: 1.97 | R18: 人件費は他課で計上
A19: 赤堀 | R19: 中央館（伊勢崎）で一括計上
A20: あずま | R20: 中央館（伊勢崎）で一括計上
A21: 境 | R21: 中央館（伊勢崎）で一括計上
A22: 太田 | B22: 336790 | C22: 266562 | D22: 144238 | E22: 19100 | F22: 1930 | G22: 2788 | H22: 0 | I22: 0 | J22: 1061 | K22: 24879 | L22: 97445 | M22: 122324 | N22: 70228 | O22: 192552
A23: 尾島 | B23: 52642 | C23: 52642 | D23: 44254 | E23: 4800 | F23: 1380 | G23: 1100 | H23: 0 | I23: 0 | J23: 0 | K23: 7280 | L23: 1108 | M23: 8388 | N23: 0 | O23: 8388
A24: 新田 | B24: 93487 | C24: 93487 | D24: 79094 | E24: 10170 | F24: 1600 | G24: 2350 | H24: 0 | I24: 0 | J24: 0.. | K24: 14120 | L24: 273 | M24: 14393 | N24: 0 | O24: 14393 | R24: 部分計上
A25: 藪塚 | B25: 55930 | C25: 51354 | D25: 42228 | E25: 5400 | F25: 1329 | G25: 1200 | H25: 0 | I25: 0 | J25: 0 | K25: 7929 | L25: 1197 | M25: 9126 | N25: 4576 | O25: 13702 | R25: 部分計上
A26: 太田美 | B26: 217331 | C26: 217331 | D26: 189539 | E26: 4400 | F26: 3000 | G26: 251 | H26: 0 | I26: 0 | J26: 0 | K26: 7651 | L26: 20141 | M26: 27792 | N26: 0 | O26: 27792 | P26: 0.03 | Q26: 0
A27: 沼田 | B27: 348484 | C27: 257283 | D27: 98606 | E27: 12342 | F27: 2409 | G27: 688 | H27: 0 | I27: 17 | J27: 275 | K27: 15731 | L27: 142946 | M27: 158677 | N27: 91201 | O27: 249878 | P27: - | Q27: -
A28: 館林 | B28: 184666 | C28: 107272 | D28: 66582 | E28: 10195 | F28: 1589 | G28: 1485 | H28: 0 | I28: 0 | J28: 341 | K28: 13610 | L28: 27080 | M28: 40690 | N28: 77394 | O28: 118084 | P28: 0.35 | Q28: 2.6
A29: 渋川 | B29: 133262 | C29: 133262 | D29: 83515 | E29: 7149 | F29: 1404 | G29: 2013 | H29: 0 | I29: 5608 | J29: 0 | K29: 16174 | L29: 33573 | M29: 49747 | N29: 0 | O29: 49747 | P29: 0.13 | Q29: 1.19
A30: 北橘 | B30: 8532 | C30: 8532 | D30: 6441 | E30: 1224 | F30: 275 | G30: 347 | H30: 0 | I30: 0 | J30: 0 | K30: 1846 | L30: 245 | M30: 2091 | N30: 0 | O30: 2091 | P30: 0.01 | Q30: 0.05
A31: 藤岡 | B31: 104453 | C31: 104453 | D31: 31086 | E31: 13119 | F31: 1635 | G31: 2481 | H31: 0 | I31: 0 | J31: 280 | K31: 17515 | L31: 55852 | M31: 73367 | N31: 0 | O31: 73367 | P31: 0.24 | Q31: 3.23
A32: 富岡 | B32: 85202 | C32: 85202 | D32: 50695 | E32: 10635 | F32: 2191 | G32: 340 | H32: 0 | I32: 0 | J32: 33 | K32: 13199 | L32: 21308 | M32: 34507 | N32: 0 | O32: 34507 | P32: 0.13 | Q32: 0.64
A33: 安中 | B33: 31876 | C33: 31876 | D33: 18342 | E33: 5250 | F33: 968 | G33: 0 | H33: 0 | I33: 0 | J33: 533 | K33: 6751 | L33: 6783 | M33: 13534 | N33: 0 | O33: 13534 | R33: 部分計上
A34: 松井田 | B34: 38940 | C34: 38940 | D34: 18058 | E34: 4160 | F34: 814 | G34: 400 | H34: 0 | I34: 0 | J34: 153 | K34: 5527 | L34: 15355 | M34: 20882 | N34: 0 | O34: 20882 | P34: 0.0007 | Q34: 0.006 | R34: 部分計上
A35: 笠懸 | B35: 113932 | C35: 113932 | D35: 65504 | E35: 9892 | F35: 2136 | G35: 550 | H35: 0 | I35: 0 | J35: 3239 | K35: 15817 | L35: 32611 | M35: 48428 | N35: 0 | O35: 48428 | P35: 0.15 | Q35: 1.13 | R35: 一括計上
A36: 大間々 | R36: 笠懸図書館で一括計上
A37: 吉岡 | B37: 49884 | C37: 49884 | D37: 35664 | E37: 6411 | F37: 611 | G37: 1567 | H37: 0 | I37: 0 | J37: 0 | K37: 8589 | L37: 5631 | M37: 14220 | N37: 0 | O37: 14220
A38: 上野 | B38: 8990 | C38: 8990 | D38: 4866 | E38: 2000 | F38: 290 | G38: 110 | H38: 0 | I38: 0 | J38: 0.. | K38: 2400 | L38: 1724 | M38: 4124 | N38: 0 | O38: 4124
A39: 神流 | B39: 10430 | C39: 10430 | D39: 7528 | E39: 500 | F39: 170 | G39: 0 | H39: 0 | I39: 0 | J39: 0 | K39: 670 | L39: 2232 | M39: 2902 | N39: 0 | O39: 2902
A40: 甘楽 | B40: 30422 | C40: 30222 | D40: 15375 | E40: 2622 | F40: 632 | G40: 0 | H40: 0 | I40: 0 | J40: 943 | K40: 4197 | L40: 10650 | M40: 14847 | N40: 200 | O40: 15047 | P40: 0.3 | Q40: 3
A41: 中之条 | B41: 46289 | C41: 46289 | D41: 29748 | E41: 4500 | F41: 1554 | G41: 1800 | H41: 0 | I41: 0 | J41: 96 | K41: 7950 | L41: 8591 | M41: 16541 | N41: 0 | O41: 16541 | P41: 0.15 | Q41: 0.94
A42: 草津 | B42: 41135 | C42: 38994 | D42: 15456 | E42: 2000 | F42: 795 | G42: 149 | H42: 0 | I42: 0 | J42: 160 | K42: 3104 | L42: 20434 | M42: 23538 | N42: 2141 | O42: 25679
A43: 玉村 | B43: 80213 | C43: 80184 | D43: 63323 | E43: 7101 | F43: 1718 | G43: 1071 | H43: 0 | I43: 0 | J43: 481 | K43: 10371 | L43: 6490 | M43: 16861 | N43: 29 | O43: 16890 | P43: 0.12 | Q43: 0.61
A44: 明和 | B44: 30723 | C44: 30723 | D44: 17840 | E44: 3104 | F44: 519 | G44: 990 | H44: 0 | I44: 0 | J44: 0 | K44: 4613 | L44: 8270 | M44: 12883 | N44: 0 | O44: 12883 | P44: 0.1 | Q44: 0.4
A45: 千代田 | B45: 36976 | C45: 36976 | D45: 24646 | E45: 3200 | F45: 856 | G45: 700 | H45: 0 | I45: 0 | J45: 66 | K45: 4822 | L45: 7508 | M45: 12330 | N45: 0 | O45: 12330 | P45: 0.14 | Q45: 1.35
A46: 大泉 | B46: 86513 | C46: 86513 | D46: 52259 | E46: 8369 | F46: 1108 | G46: 2097 | H46: 0 | I46: 0 | J46: 0 | K46: 11574 | L46: 22680 | M46: 34254 | N46: 0 | O46: 34254 | P46: 0.21 | Q46: 1.38
A47: 邑楽 | B47: 106390 | C47: 106390 | D47: 70946 | E47: 9000 | F47: 2250 | G47: 1720 | H47: 0 | I47: 0 | J47: 634 | K47: 13604 | L47: 21840 | M47: 35444 | N47: 0 | O47: 35444
A48: 計 | B48: =SUM(B7:B47) -> 4001137 | C48: =SUM(C7:C47) -> 3671416 | D48: =SUM(D7:D47) -> 1707305 | E48: =SUM(E7:E47) -> 309578 | F48: =SUM(F7:F47) -> 57813 | G48: =SUM(G7:G47) -> 54460 | H48: =SUM(H7:H47) -> 0 | I48: =SUM(I7:I47) -> 12125 | ... O48: =SUM(O7:O47) -> 2293832 | P48: － | Q48: －
A49: 県議会 | B49: 5161 | C49: 5161 | D49: 3187 | E49: 500 | F49: 479 | G49: 0 | H49: 0 | I49: 0 | J49: 900 | K49: 1879 | L49: 95 | M49: 1974 | N49: 0 | O49: 1974 | P49: 100 | Q49: 0
A50: 点字 | B50: 41447 | C50: 7017 | D50: 0 | E50: 364 | F50: 93 | G50: 0 | H50: 0 | I50: 0 | J50: 0.. | K50: 457 | L50: 6560 | M50: 7017 | N50: 0 | O50: 41447
A51: 県立 | B51: 397424 | C51: 397424 | D51: 244787 | E51: 38494 | F51: 4000 | G51: 350 | H51: 0 | I51: 0 | J51: 2168 | K51: 45012 | L51: 107625 | M51: 152637 | N51: 0 | O51: 152637
A52: 小計 | B52: =SUM(B49:B51) -> 444032 | C52: =SUM(C49:C51) -> 409602 | D52: =SUM(D49:D51) -> 247974 | E52: =SUM(E49:E51) -> 39358 | F52: =SUM(F49:F51) -> 4572 | G52: =SUM(G49:G51) -> 350 | H52: =SUM(H49:H51) -> 0 | I52: =SUM(I49:I51) -> 0 | ... O52: =SUM(O49:O51) -> 196058 | P52: － | Q52: －
A53: 合計 | B53: =B48+B52 -> 4445169 | C53: =C48+C52 -> 4081018 | D53: =D48+D52 -> 1955279 | E53: =E48+E52 -> 348936 | F53: =F48+F52 -> 62385 | G53: =G48+G52 -> 54810 | H53: =H48+H52 -> 0 | I53: =I48+I52 -> 12125 | ... O53: =O48+O52 -> 2489890 | P53: － | Q53: －

Sheet 〇相互貸借
A1: 県内公共図書館間相互貸借状況 | BA1: 令和7年度
A3: 借受館 | B3: 前橋 | C3: 前橋こ | D3: 前橋分 | E3: 高崎 | F3: 箕郷 | G3: 群馬 | H3: 新町 | I3: 榛名 | J3: 吉井 | K3: 桐生 | L3: 新里 | M3: 伊勢崎 | N3: 赤堀 | O3: あずま | P3: 境 | Q3: 太田 | R3: 尾島 | S3: 新田 | T3: 藪塚 | U3: 太田美 | V3: 沼田 | W3: 館林 | X3: 渋川 | Y3: 北橘 | Z3: 藤岡 | AA3: 富岡 | AB3: 安中 | AC3: 松井田 | AD3: 笠懸 | AE3: 大間々 | AF3: 吉岡 | AG3: 上野 | AH3: 神流 | AI3: 甘楽 | AJ3: 中之条 | AK3: 草津 | AL3: 玉村 | AM3: 明和 | AN3: 千代田 | AO3: 大泉 | AP3: 邑楽 | AQ3: 県立 | AR3: 県内公共 図書館小計 | AS3: 県内公民館 | AT3: 県内大学･高専 | AU3: 県内高校 | AV3: 群馬県立点字 | AW3: 群馬県議会 | AX3: 県内図書館合計 | AY3: 県外 | AZ3: その他 | BA3: 総 計 | BB3: 備 考
A5: 貸出館
A6: 前橋 | E6: 188 | F6: 3 | G6: 6 | H6: 2 | I6: 0 | J6: 0 | K6: 28 | L6: 0 | M6: 18 | N6: 18 | O6: 3 | P6: 9 | Q6: 7 | R6: 2 | S6: 1 | T6: 0 | U6: 0 | V6: 39 | W6: 50 | X6: 33 | Y6: 5 | Z6: 14 | AA6: 29 | AB6: 16 | AC6: 25 | AD6: 9 | AE6: 2 | AF6: 48 | AG6: 2 | AH6: 0 | AI6: 17 | AJ6: 34 | AK6: 14 | AL6: 11 | AM6: 8 | AN6: 11 | AO6: 8 | AP6: 31 | AQ6: 38 | AR6: =SUM(B6:AQ6) -> 729 | AS6: 184 | AT6: 10 | AU6: 83 | AV6: 35 | AW6: 0 | AX6: =AR6+SUM(AS6:AW6) -> 1041 | AY6: 12 | AZ6: 0 | BA6: =AX6+SUM(AY6:AZ6) -> 1053
A7: 前橋こ | E7: - | F7: - | G7: - | H7: - | I7: - | J7: - | K7: - | L7: - | M7: - | N7: - | O7: - | P7: - | Q7: - | R7: - | S7: - | T7: - | U7: - | V7: - | W7: - | X7: - | Y7: - | Z7: - | AA7: - | AB7: - | AC7: - | AD7: - | AE7: - | AF7: - | AG7: - | AH7: - | AI7: - | AJ7: - | AK7: - | AL7: - | AM7: - | AN7: - | AO7: - | AP7: - | AQ7: - | AR7: =SUM(B7:AQ7) -> 0 | AS7: - | AT7: - | AU7: - | AV7: - | AW7: - | AX7: =AR7+SUM(AS7:AW7) -> 0 | AY7: - | AZ7: - | BA7: =AX7+SUM(AY7:AZ7) -> 0
A8: 前橋分 | E8: - | F8: - | G8: - | H8: - | I8: - | J8: - | K8: - | L8: - | M8: - | N8: - | O8: - | P8: - | Q8: - | R8: - | S8: - | T8: - | U8: - | V8: - | W8: - | X8: - | Y8: - | Z8: - | AA8: - | AB8: - | AC8: - | AD8: - | AE8: - | AF8: - | AG8: - | AH8: - | AI8: - | AJ8: - | AK8: - | AL8: - | AM8: - | AN8: - | AO8: - | AP8: - | AQ8: - | AR8: =SUM(B8:AQ8) -> 0 | AS8: - | AT8: - | AU8: - | AV8: - | AW8: - | AX8: =AR8+SUM(AS8:AW8) -> 0 | AY8: - | AZ8: - | BA8: =AX8+SUM(AY8:AZ8) -> 0
A9: 高崎 | B9: 178 | C9: 0 | D9: 0 | K9: 29 | L9: 11 | M9: 37 | N9: 6 | O9: 8 | P9: 16 | Q9: 26 | R9: 1 | S9: 0 | T9: 6 | U9: 0 | V9: 58 | W9: 74 | X9: 58 | Y9: 3 | Z9: 30 | AA9: 39 | AB9: 52 | AC9: 73 | AD9: 9 | AE9: 0 | AF9: 13 | AG9: 0 | AH9: 0 | AI9: 14 | AJ9: 20 | AK9: 16 | AL9: 19 | AM9: 8 | AN9: 22 | AO9: 17 | AP9: 57 | AQ9: 289 | AR9: =SUM(B9:AQ9) -> 1189 | AS9: 124 | AT9: 21 | AU9: 81 | AV9: 0 | AW9: 0 | AX9: =AR9+SUM(AS9:AW9) -> 1415 | AY9: 35 | AZ9: 0 | BA9: =AX9+SUM(AY9:AZ9) -> 1450
A10: 箕郷 | B10: 4 | C10: 0 | D10: 0 | K10: 0 | L10: 0 | M10: 0 | N10: 0 | O10: 0 | P10: 0 | Q10: 0 | R10: 0 | S10: 0 | T10: 0 | U10: 0 | V10: 2 | W10: 1 | X10: 1 | Y10: 0 | Z10: 0 | AA10: 2 | AB10: 4 | AC10: 0 | AD10: 0 | AE10: 0 | AF10: 0 | AG10: 0 | AH10: 0 | AI10: 0 | AJ10: 0 | AK10: 0 | AL10: 1 | AM10: 0 | AN10: 0 | AO10: 0 | AP10: 1 | AQ10: 3 | AR10: =SUM(B10:AQ10) -> 19 | AS10: 0 | AT10: 0 | AU10: 2 | AV10: 0 | AW10: 0 | AX10: =AR10+SUM(AS10:AW10) -> 21 | AY10: 0 | AZ10: 0 | BA10: =AX10+SUM(AY10:AZ10) -> 21
A11: 群馬 | B11: 13 | C11: 0 | D11: 0 | K11: 3 | L11: 0 | M11: 0 | N11: 1 | O11: 0 | P11: 2 | Q11: 2 | R11: 3 | S11: 0 | T11: 0 | U11: 0 | V11: 3 | W11: 3 | X11: 5 | Y11: 0 | Z11: 0 | AA11: 6 | AB11: 7 | AC11: 3 | AD11: 0 | AE11: 0 | AF11: 0 | AG11: 0 | AH11: 0 | AI11: 0 | AJ11: 0 | AK11: 6 | AL11: 3 | AM11: 0 | AN11: 0 | AO11: 0 | AP11: 2 | AQ11: 11 | AR11: =SUM(B11:AQ11) -> 73 | AS11: 7 | AT11: 1 | AU11: 10 | AV11: 0 | AW11: 0 | AX11: =AR11+SUM(AS11:AW11) -> 91 | AY11: 0 | AZ11: 4 | BA11: =AX11+SUM(AY11:AZ11) -> 95
A12: 新町 | B12: 10 | C12: 0 | D12: 0 | K12: 2 | L12: 0 | M12: 0 | N12: 0 | O12: 0 | P12: 1 | Q12: 0 | R12: 0 | S12: 0 | T12: 0 | U12: 0 | V12: 4 | W12: 7 | X12: 7 | Y12: 0 | Z12: 1 | AA12: 3 | AB12: 2 | AC12: 0 | AD12: 0 | AE12: 0 | AF12: 0 | AG12: 0 | AH12: 0 | AI12: 0 | AJ12: 0 | AK12: 0 | AL12: 1 | AM12: 0 | AN12: 0 | AO12: 2 | AP12: 2 | AQ12: 7 | AR12: =SUM(B12:AQ12) -> 49 | AS12: 11 | AT12: 2 | AU12: 0 | AV12: 0 | AW12: 0 | AX12: =AR12+SUM(AS12:AW12) -> 62 | AY12: 0 | AZ12: 0 | BA12: =AX12+SUM(AY12:AZ12) -> 62
A13: 榛名 | B13: 3 | C13: 0 | D13: 0 | K13: 0 | L13: 0 | M13: 0 | N13: 0 | O13: 0 | P13: 0 | Q13: 0 | R13: 0 | S13: 0 | T13: 0 | U13: 0 | V13: 2 | W13: 2 | X13: 5 | Y13: 0 | Z13: 1 | AA13: 0 | AB13: 2 | AC13: 0 | AD13: 0 | AE13: 0 | AF13: 0 | AG13: 0 | AH13: 0 | AI13: 0 | AJ13: 0 | AK13: 0 | AL13: 2 | AM13: 0 | AN13: 2 | AO13: 0 | AP13: 0 | AQ13: 1 | AR13: =SUM(B13:AQ13) -> 20 | AS13: 2 | AT13: 0 | AU13: 0 | AV13: 0 | AW13: 0 | AX13: =AR13+SUM(AS13:AW13) -> 22 | AY13: 0 | AZ13: 0 | BA13: =AX13+SUM(AY13:AZ13) -> 22
A14: 吉井 | B14: 3 | C14: 0 | D14: 0 | K14: 1 | L14: 0 | M14: 1 | N14: 0 | O14: 0 | P14: 0 | Q14: 1 | R14: 0 | S14: 0 | T14: 0 | U14: 0 | V14: 4 | W14: 7 | X14: 2 | Y14: 0 | Z14: 0 | AA14: 0 | AB14: 1 | AC14: 1 | AD14: 0 | AE14: 0 | AF14: 0 | AG14: 0 | AH14: 0 | AI14: 0 | AJ14: 0 | AK14: 0 | AL14: 1 | AM14: 0 | AN14: 3 | AO14: 0 | AP14: 3 | AQ14: 6 | AR14: =SUM(B14:AQ14) -> 34 | AS14: 1 | AT14: 0 | AU14: 2 | AV14: 0 | AW14: 0 | AX14: =AR14+SUM(AS14:AW14) -> 37 | AY14: 0 | AZ14: 0 | BA14: =AX14+SUM(AY14:AZ14) -> 37
A15: 桐生 | B15: 47 | C15: 0 | D15: 0 | E15: 30 | F15: 0 | G15: 3 | H15: 2 | I15: 1 | J15: 0 | M15: 9 | N15: 3 | O15: 0 | P15: 12 | Q15: 10 | R15: 4 | S15: 0 | T15: 0 | U15: 0 | V15: 6 | W15: 28 | X15: 16 | Y15: 5 | Z15: 20 | AA15: 4 | AB15: 16 | AC15: 39 | AD15: 6 | AE15: 1 | AF15: 7 | AG15: 0 | AH15: 0 | AI15: 23 | AJ15: 7 | AK15: 0 | AL15: 18 | AM15: 19 | AN15: 11 | AO15: 25 | AP15: 0 | AQ15: 26 | AR15: =SUM(B15:AQ15) -> 398 | AS15: 13 | AT15: 3 | AU15: 51 | AV15: 0 | AW15: 0 | AX15: =AR15+SUM(AS15:AW15) -> 465 | AY15: 10 | AZ15: 1 | BA15: =AX15+SUM(AY15:AZ15) -> 476
A16: 新里 | B16: 7 | C16: 0 | D16: 0 | E16: 14 | F16: 0 | G16: 0 | H16: 0 | I16: 1 | J16: 0 | M16: 3 | N16: 0 | O16: 0 | P16: 1 | Q16: 1 | R16: 0 | S16: 0 | T16: 0 | U16: 0 | V16: 0 | W16: 0 | X16: 2 | Y16: 0 | Z16: 2 | AA16: 0 | AB16: 5 | AC16: 6 | AD16: 0 | AE16: 0 | AF16: 1 | AG16: 0 | AH16: 0 | AI16: 0 | AJ16: 0 | AK16: 1 | AL16: 3 | AM16: 0 | AN16: 2 | AO16: 1 | AP16: 0 | AQ16: 10 | AR16: =SUM(B16:AQ16) -> 60 | AS16: 2 | AT16: 0 | AU16: 1 | AV16: 1 | AW16: 0 | AX16: =AR16+SUM(AS16:AW16) -> 64 | AY16: 3 | AZ16: 3 | BA16: =AX16+SUM(AY16:AZ16) -> 70
A17: 伊勢崎 | B17: 68 | C17: 0 | D17: 0 | E17: 31 | F17: 0 | G17: 1 | H17: 0 | I17: 1 | J17: 0 | K17: 7 | L17: 0 | Q17: 4 | R17: 0 | S17: 1 | T17: 0 | U17: 0 | V17: 6 | W17: 13 | X17: 17 | Y17: 3 | Z17: 7 | AA17: 10 | AB17: 2 | AC17: 5 | AD17: 2 | AE17: 1 | AF17: 1 | AG17: 0 | AH17: 0 | AI17: 8 | AJ17: 3 | AK17: 1 | AL17: 6 | AM17: 5 | AN17: 1 | AO17: 8 | AP17: 5 | AQ17: 19 | AR17: =SUM(B17:AQ17) -> 236 | AS17: 9 | AT17: 7 | AU17: 19 | AV17: 0 | AW17: 0 | AX17: =AR17+SUM(AS17:AW17) -> 271 | AY17: 3 | AZ17: 3024 | BA17: =AX17+SUM(AY17:AZ17) -> 3298 | BB17: その他に学校連携を計上
A18: 赤堀 | B18: 23 | C18: 0 | D18: 0 | E18: 15 | F18: 1 | G18: 0 | H18: 0 | I18: 0 | J18: 0 | K18: 1 | L18: 0 | Q18: 3 | R18: 0 | S18: 0 | T18: 1 | U18: 0 | V18: 2 | W18: 6 | X18: 2 | Y18: 0 | Z18: 0 | AA18: 0 | AB18: 0 | AC18: 1 | AD18: 1 | AE18: 0 | AF18: 0 | AG18: 0 | AH18: 0 | AI18: 2 | AJ18: 0 | AK18: 0 | AL18: 8 | AM18: 2 | AN18: 0 | AO18: 1 | AP18: 1 | AQ18: 3 | AR18: =SUM(B18:AQ18) -> 73 | AS18: 1 | AT18: 0 | AU18: 4 | AV18: 0 | AW18: 0 | AX18: =AR18+SUM(AS18:AW18) -> 78 | AY18: 0 | AZ18: 4 | BA18: =AX18+SUM(AY18:AZ18) -> 82 | BB18: その他に学校連携を計上
A19: あずま | B19: 45 | C19: 0 | D19: 0 | E19: 14 | F19: 0 | G19: 0 | H19: 1 | I19: 0 | J19: 0 | K19: 8 | L19: 0 | Q19: 5 | R19: 0 | S19: 0 | T19: 0 | U19: 0 | V19: 1 | W19: 11 | X19: 9 | Y19: 0 | Z19: 4 | AA19: 1 | AB19: 2 | AC19: 4 | AD19: 0 | AE19: 0 | AF19: 3 | AG19: 0 | AH19: 0 | AI19: 3 | AJ19: 4 | AK19: 0 | AL19: 9 | AM19: 3 | AN19: 2 | AO19: 2 | AP19: 0 | AQ19: 2 | AR19: =SUM(B19:AQ19) -> 133 | AS19: 12 | AT19: 0 | AU19: 3 | AV19: 0 | AW19: 0 | AX19: =AR19+SUM(AS19:AW19) -> 148 | AY19: 0 | AZ19: 9 | BA19: =AX19+SUM(AY19:AZ19) -> 157 | BB19: その他に学校連携を計上
A20: 境 | B20: 29 | C20: 0 | D20: 0 | E20: 11 | F20: 1 | G20: 0 | H20: 1 | I20: 0 | J20: 0 | K20: 1 | L20: 0 | Q20: 0 | R20: 1 | S20: 1 | T20: 0 | U20: 0 | V20: 0 | W20: 4 | X20: 5 | Y20: 1 | Z20: 2 | AA20: 1 | AB20: 4 | AC20: 3 | AD20: 2 | AE20: 0 | AF20: 3 | AG20: 0 | AH20: 0 | AI20: 2 | AJ20: 0 | AK20: 0 | AL20: 6 | AM20: 1 | AN20: 0 | AO20: 1 | AP20: 0 | AQ20: 8 | AR20: =SUM(B20:AQ20) -> 88 | AS20: 7 | AT20: 2 | AU20: 3 | AV20: 0 | AW20: 0 | AX20: =AR20+SUM(AS20:AW20) -> 100 | AY20: 0 | AZ20: 10 | BA20: =AX20+SUM(AY20:AZ20) -> 110 | BB20: その他に学校連携を計上
A21: 太田 | B21: 89 | C21: 0 | D21: 0 | E21: 62 | F21: 0 | G21: 4 | H21: 7 | I21: 1 | J21: 0 | K21: 31 | L21: 3 | M21: 9 | N21: 7 | O21: 0 | P21: 26 | V21: 13 | W21: 24 | X21: 39 | Y21: 28 | Z21: 36 | AA21: 22 | AB21: 44 | AC21: 47 | AD21: 9 | AE21: 7 | AF21: 22 | AG21: 2 | AH21: 0 | AI21: 25 | AJ21: 16 | AK21: 7 | AL21: 69 | AM21: 14 | AN21: 9 | AO21: 23 | AP21: 38 | AQ21: 93 | AR21: =SUM(B21:AQ21) -> 826 | AS21: 122 | AT21: 9 | AU21: 203 | AV21: 2 | AW21: 0 | AX21: =AR21+SUM(AS21:AW21) -> 1162 | AY21: 1 | AZ21: 4 | BA21: =AX21+SUM(AY21:AZ21) -> 1167
A22: 尾島 | B22: 21 | C22: 0 | D22: 0 | E22: 8 | F22: 0 | G22: 1 | H22: 2 | I22: 0 | J22: 0 | K22: 2 | L22: 0 | M22: 0 | N22: 1 | O22: 0 | P22: 2 | V22: 2 | W22: 1 | X22: 2 | Y22: 3 | Z22: 4 | AA22: 1 | AB22: 7 | AC22: 12 | AD22: 1 | AE22: 5 | AF22: 2 | AG22: 0 | AH22: 0 | AI22: 5 | AJ22: 0 | AK22: 2 | AL22: 12 | AM22: 7 | AN22: 1 | AO22: 4 | AP22: 3 | AQ22: 6 | AR22: =SUM(B22:AQ22) -> 117 | AS22: 13 | AT22: 1 | AU22: 9 | AV22: 0 | AW22: 0 | AX22: =AR22+SUM(AS22:AW22) -> 140 | AY22: 0 | AZ22: 0 | BA22: =AX22+SUM(AY22:AZ22) -> 140
A23: 新田 | B23: 42 | C23: 0 | D23: 0 | E23: 16 | F23: 0 | G23: 1 | H23: 7 | I23: 0 | J23: 0 | K23: 9 | L23: 0 | M23: 1 | N23: 0 | O23: 0 | P23: 4 | V23: 6 | W23: 6 | X23: 11 | Y23: 10 | Z23: 16 | AA23: 11 | AB23: 21 | AC23: 14 | AD23: 2 | AE23: 0 | AF23: 23 | AG23: 0 | AH23: 0 | AI23: 3 | AJ23: 9 | AK23: 8 | AL23: 29 | AM23: 0 | AN23: 1 | AO23: 5 | AP23: 5 | AQ23: 24 | AR23: =SUM(B23:AQ23) -> 284 | AS23: 25 | AT23: 2 | AU23: 32 | AV23: 0 | AW23: 0 | AX23: =AR23+SUM(AS23:AW23) -> 343 | AY23: 2 | AZ23: 2 | BA23: =AX23+SUM(AY23:AZ23) -> 347
A24: 藪塚 | B24: 22 | C24: 0 | D24: 0 | E24: 9 | F24: 1 | G24: 0 | H24: 0 | I24: 1 | J24: 0 | K24: 3 | L24: 0 | M24: 0 | N24: 1 | O24: 0 | P24: 0 | V24: 3 | W24: 3 | X24: 3 | Y24: 0 | Z24: 5 | AA24: 3 | AB24: 3 | AC24: 7 | AD24: 1 | AE24: 1 | AF24: 1 | AG24: 1 | AH24: 0 | AI24: 3 | AJ24: 1 | AK24: 0 | AL24: 7 | AM24: 0 | AN24: 0 | AO24: 3 | AP24: 3 | AQ24: 6 | AR24: =SUM(B24:AQ24) -> 91 | AS24: 17 | AT24: 0 | AU24: 11 | AV24: 0 | AW24: 0 | AX24: =AR24+SUM(AS24:AW24) -> 119 | AY24: 3 | AZ24: 0 | BA24: =AX24+SUM(AY24:AZ24) -> 122
A25: 太田美 | B25: 0 | C25: 0 | D25: 0 | E25: 0 | F25: 0 | G25: 0 | H25: 0 | I25: 0 | J25: 0 | K25: 0 | L25: 0 | M25: 0 | N25: 0 | O25: 0 | P25: 0 | V25: 0 | W25: 0 | X25: 0 | Y25: 0 | Z25: 0 | AA25: 0 | AB25: 0 | AC25: 0 | AD25: 0 | AE25: 0 | AF25: 0 | AG25: 0 | AH25: 0 | AI25: 0 | AJ25: 0 | AK25: 0 | AL25: 0 | AM25: 0 | AN25: 0 | AO25: 0 | AP25: 0 | AQ25: 0 | AR25: =SUM(B25:AQ25) -> 0 | AS25: 0 | AT25: 0 | AU25: 0 | AV25: 0 | AW25: 0 | AX25: =AR25+SUM(AS25:AW25) -> 0 | AY25: 0 | AZ25: 0 | BA25: =AX25+SUM(AY25:AZ25) -> 0
A26: 沼田 | B26: 166 | C26: 0 | D26: 0 | E26: 89 | F26: 5 | G26: 6 | H26: 0 | I26: 1 | J26: 1 | K26: 60 | L26: 2 | M26: 14 | N26: 0 | O26: 6 | P26: 15 | Q26: 5 | R26: 1 | S26: 0 | T26: 2 | U26: 0 | W26: 49 | X26: 19 | Y26: 2 | Z26: 25 | AA26: 1 | AB26: 73 | AC26: 55 | AD26: 24 | AE26: 10 | AF26: 6 | AG26: 0 | AH26: 0 | AI26: 57 | AJ26: 1 | AK26: 21 | AL26: 64 | AM26: 13 | AN26: 10 | AO26: 41 | AP26: 46 | AQ26: 237 | AR26: =SUM(B26:AQ26) -> 1127 | AS26: 55 | AT26: 7 | AU26: 78 | AV26: 0 | AW26: 0 | AX26: =AR26+SUM(AS26:AW26) -> 1267 | AY26: 24 | AZ26: 0 | BA26: =AX26+SUM(AY26:AZ26) -> 1291
A27: 館林 | B27: 67 | C27: 0 | D27: 0 | E27: 29 | F27: 0 | G27: 8 | H27: 0 | I27: 0 | J27: 0 | K27: 28 | L27: 0 | M27: 1 | N27: 0 | O27: 1 | P27: 6 | Q27: 7 | R27: 0 | S27: 0 | T27: 0 | U27: 0 | V27: 3 | X27: 6 | Y27: 3 | Z27: 12 | AA27: 1 | AB27: 9 | AC27: 14 | AD27: 4 | AE27: 2 | AF27: 12 | AG27: 0 | AH27: 0 | AI27: 8 | AJ27: 7 | AK27: 7 | AL27: 21 | AM27: 3 | AN27: 7 | AO27: 23 | AP27: 18 | AQ27: 54 | AR27: =SUM(B27:AQ27) -> 361 | AS27: 35 | AT27: 0 | AU27: 30 | AV27: 0 | AW27: 0 | AX27: =AR27+SUM(AS27:AW27) -> 426 | AY27: 2 | AZ27: 0 | BA27: =AX27+SUM(AY27:AZ27) -> 428
A28: 渋川 | B28: 113 | C28: 0 | D28: 0 | E28: 77 | F28: 1 | G28: 6 | H28: 0 | I28: 0 | J28: 1 | K28: 10 | L28: 1 | M28: 38 | N28: 4 | O28: 5 | P28: 22 | Q28: 5 | R28: 0 | S28: 3 | T28: 0 | U28: 0 | V28: 2 | W28: 9 | Z28: 16 | AA28: 5 | AB28: 9 | AC28: 16 | AD28: 0 | AE28: 1 | AF28: 9 | AG28: 0 | AH28: 0 | AI28: 8 | AJ28: 22 | AK28: 1 | AL28: 11 | AM28: 4 | AN28: 1 | AO28: 30 | AP28: 5 | AQ28: 37 | AR28: =SUM(B28:AQ28) -> 472 | AS28: 50 | AT28: 5 | AU28: 56 | AV28: 0 | AW28: 0 | AX28: =AR28+SUM(AS28:AW28) -> 583 | AY28: 22 | AZ28: 11 | BA28: =AX28+SUM(AY28:AZ28) -> 616
A29: 北橘 | B29: 5 | C29: 0 | D29: 0 | E29: 5 | F29: 0 | G29: 1 | H29: 0 | I29: 0 | J29: 0 | K29: 0 | L29: 0 | M29: 1 | N29: 0 | O29: 0 | P29: 0 | Q29: 1 | R29: 0 | S29: 0 | T29: 0 | U29: 0 | V29: 0 | W29: 0 | Z29: 1 | AA29: 0 | AB29: 0 | AC29: 0 | AD29: 0 | AE29: 0 | AF29: 0 | AG29: 0 | AH29: 0 | AI29: 1 | AJ29: 0 | AK29: 0 | AL29: 1 | AM29: 0 | AN29: 0 | AO29: 0 | AP29: 2 | AQ29: 1 | AR29: =SUM(B29:AQ29) -> 19 | AS29: 1 | AT29: 0 | AU29: 1 | AV29: 0 | AW29: 0 | AX29: =AR29+SUM(AS29:AW29) -> 21 | AY29: 0 | AZ29: 1 | BA29: =AX29+SUM(AY29:AZ29) -> 22
A30: 藤岡 | B30: 44 | C30: 0 | D30: 0 | E30: 34 | F30: 5 | G30: 4 | H30: 2 | I30: 0 | J30: 1 | K30: 6 | L30: 5 | M30: 4 | N30: 0 | O30: 1 | P30: 4 | Q30: 4 | R30: 2 | S30: 2 | T30: 0 | U30: 0 | V30: 5 | W30: 27 | X30: 21 | Y30: 3 | AA30: 9 | AB30: 14 | AC30: 11 | AD30: 5 | AE30: 2 | AF30: 3 | AG30: 0 | AH30: 0 | AI30: 4 | AJ30: 8 | AK30: 1 | AL30: 7 | AM30: 11 | AN30: 4 | AO30: 15 | AP30: 12 | AQ30: 39 | AR30: =SUM(B30:AQ30) -> 319 | AS30: 19 | AT30: 5 | AU30: 91 | AV30: 0 | AW30: 0 | AX30: =AR30+SUM(AS30:AW30) -> 434 | AY30: 1 | AZ30: 0 | BA30: =AX30+SUM(AY30:AZ30) -> 435
A31: 富岡 | B31: 43 | E31: 9 | F31: 2 | H31: 2 | K31: 7 | M31: 2 | P31: 4 | Q31: 2 | V31: 1 | W31: 11 | X31: 4 | Y31: 2 | Z31: 3 | AB31: 5 | AC31: 3 | AE31: 1 | AF31: 3 | AG31: 34 | AI31: 4 | AJ31: 4 | AK31: 2 | AL31: 9 | AM31: 2 | AN31: 3 | AO31: 2 | AP31: 2 | AQ31: 19 | AR31: =SUM(B31:AQ31) -> 185 | AS31: 56 | AT31: 2 | AU31: 39 | AX31: =AR31+SUM(AS31:AW31) -> 282 | AY31: 2 | BA31: =AX31+SUM(AY31:AZ31) -> 284
A32: 安中 | B32: 29 | C32: 0 | D32: 0 | E32: 8 | F32: 2 | G32: 0 | H32: 2 | I32: 0 | J32: 0 | K32: 4 | L32: 1 | M32: 1 | N32: 1 | O32: 1 | P32: 3 | Q32: 5 | R32: 0 | S32: 1 | T32: 0 | U32: 0 | V32: 2 | W32: 11 | X32: 1 | Y32: 0 | Z32: 9 | AA32: 11 | AD32: 1 | AE32: 2 | AF32: 0 | AG32: 0 | AH32: 0 | AI32: 16 | AJ32: 3 | AK32: 2 | AL32: 5 | AM32: 10 | AN32: 5 | AO32: 9 | AP32: 31 | AQ32: 17 | AR32: =SUM(B32:AQ32) -> 193 | AS32: 0 | AT32: 0 | AU32: 0 | AV32: 0 | AW32: 0 | AX32: =AR32+SUM(AS32:AW32) -> 193 | AY32: 1 | AZ32: 0 | BA32: =AX32+SUM(AY32:AZ32) -> 194
A33: 松井田 | B33: 26 | C33: 0 | D33: 0 | E33: 10 | F33: 1 | G33: 0 | H33: 1 | I33: 0 | J33: 0 | K33: 12 | L33: 1 | M33: 1 | N33: 0 | O33: 0 | P33: 1 | Q33: 2 | R33: 0 | S33: 0 | T33: 1 | U33: 0 | V33: 1 | W33: 13 | X33: 3 | Y33: 0 | Z33: 8 | AA33: 15 | AD33: 1 | AE33: 0 | AF33: 0 | AG33: 0 | AH33: 0 | AI33: 15 | AJ33: 0 | AK33: 2 | AL33: 1 | AM33: 6 | AN33: 1 | AO33: 12 | AP33: 6 | AQ33: 10 | AR33: =SUM(B33:AQ33) -> 150 | AS33: 0 | AT33: 0 | AU33: 0 | AV33: 0 | AW33: 0 | AX33: =AR33+SUM(AS33:AW33) -> 150 | AY33: 1 | AZ33: 0 | BA33: =AX33+SUM(AY33:AZ33) -> 151
A34: 笠懸 | B34: 12 | C34: 0 | D34: 0 | E34: 8 | F34: 1 | G34: 0 | H34: 0 | I34: 0 | J34: 0 | K34: 8 | L34: 0 | M34: 10 | N34: 0 | O34: 1 | P34: 1 | Q34: 4 | R34: 0 | S34: 1 | T34: 4 | U34: 0 | V34: 3 | W34: 34 | X34: 4 | Y34: 0 | Z34: 8 | AA34: 0 | AB34: 6 | AC34: 12 | AF34: 0 | AG34: 0 | AH34: 0 | AI34: 5 | AJ34: 2 | AK34: 1 | AL34: 14 | AM34: 4 | AN34: 7 | AO34: 13 | AP34: 4 | AQ34: 22 | AR34: =SUM(B34:AQ34) -> 189 | AS34: 12 | AT34: 2 | AU34: 28 | AV34: 0 | AW34: 0 | AX34: =AR34+SUM(AS34:AW34) -> 231 | AY34: 0 | AZ34: 0 | BA34: =AX34+SUM(AY34:AZ34) -> 231
A35: 大間々 | B35: 28 | C35: 0 | D35: 0 | E35: 12 | F35: 0 | G35: 1 | H35: 0 | I35: 1 | J35: 0 | K35: 3 | L35: 0 | M35: 21 | N35: 0 | O35: 0 | P35: 0 | Q35: 1 | R35: 0 | S35: 0 | T35: 0 | U35: 0 | V35: 2 | W35: 9 | X35: 3 | Y35: 0 | Z35: 3 | AA35: 0 | AB35: 14 | AC35: 10 | AF35: 1 | AG35: 0 | AI35: 4 | AJ35: 5 | AK35: 11 | AL35: 4 | AM35: 6 | AN35: 1 | AO35: 12 | AP35: 23 | AQ35: 7 | AR35: =SUM(B35:AQ35) -> 182 | AS35: 6 | AT35: 1 | AU35: 28 | AV35: 0 | AW35: 0 | AX35: =AR35+SUM(AS35:AW35) -> 217 | AY35: 8 | AZ35: 0 | BA35: =AX35+SUM(AY35:AZ35) -> 225
A36: 吉岡 | B36: 18 | C36: 0 | D36: 0 | E36: 8 | F36: 1 | G36: 3 | H36: 0 | I36: 0 | J36: 0 | K36: 4 | L36: 0 | M36: 3 | N36: 0 | O36: 0 | P36: 3 | Q36: 1 | R36: 0 | S36: 0 | T36: 0 | U36: 0 | V36: 3 | W36: 11 | X36: 7 | Y36: 4 | Z36: 10 | AA36: 0 | AB36: 6 | AC36: 21 | AD36: 0 | AE36: 0 | AG36: 0 | AH36: 0 | AI36: 13 | AJ36: 11 | AK36: 5 | AL36: 17 | AM36: 3 | AN36: 1 | AO36: 9 | AP36: 14 | AQ36: 15 | AR36: =SUM(B36:AQ36) -> 191 | AS36: 22 | AT36: 1 | AU36: 21 | AV36: 1 | AW36: 0 | AX36: =AR36+SUM(AS36:AW36) -> 236 | AY36: 0 | AZ36: 0 | BA36: =AX36+SUM(AY36:AZ36) -> 236
A37: 上野 | B37: 0 | C37: 0 | D37: 0 | E37: 2 | F37: 0 | G37: 0 | H37: 0 | I37: 0 | J37: 0 | K37: 0 | L37: 0 | M37: 0 | N37: 0 | O37: 0 | P37: 0 | Q37: 0 | R37: 0 | S37: 0 | T37: 0 | U37: 0 | V37: 0 | W37: 0 | X37: 0 | Y37: 0 | Z37: 0 | AA37: 0 | AB37: 0 | AC37: 0 | AD37: 0 | AE37: 0 | AF37: 0 | AH37: 0 | AI37: 0 | AJ37: 0 | AK37: 0 | AL37: 0 | AM37: 0 | AN37: 0 | AO37: 0 | AP37: 0 | AQ37: 0 | AR37: =SUM(B37:AQ37) -> 2 | AS37: 0 | AT37: 0 | AU37: 0 | AV37: 0 | AW37: 0 | AX37: =AR37+SUM(AS37:AW37) -> 2 | AY37: 0 | AZ37: 0 | BA37: =AX37+SUM(AY37:AZ37) -> 2
A38: 神流 | B38: 0 | C38: 0 | D38: 0 | E38: 0 | F38: 0 | G38: 0 | H38: 0 | I38: 0 | J38: 0 | K38: 0 | L38: 0 | M38: 0 | N38: 0 | O38: 0 | P38: 0 | Q38: 0 | R38: 0 | S38: 0 | T38: 0 | U38: 0 | V38: 0 | W38: 0 | X38: 0 | Y38: 0 | Z38: 0 | AA38: 0 | AB38: 0 | AC38: 0 | AD38: 0 | AE38: 0 | AF38: 0 | AG38: 0 | AI38: 0 | AJ38: 0 | AK38: 0 | AL38: 0 | AM38: 0 | AN38: 0 | AO38: 0 | AP38: 0 | AQ38: 0 | AR38: =SUM(B38:AQ38) -> 0 | AS38: 0 | AT38: 0 | AU38: 0 | AV38: 0 | AW38: 0 | AX38: =AR38+SUM(AS38:AW38) -> 0 | AY38: 0 | AZ38: 0 | BA38: =AX38+SUM(AY38:AZ38) -> 0
A39: 甘楽 | B39: 5 | C39: 0 | D39: 0 | E39: 1 | F39: 0 | G39: 0 | H39: 1 | I39: 0 | J39: 0 | K39: 9 | L39: 0 | M39: 1 | N39: 0 | O39: 0 | P39: 0 | Q39: 0 | R39: 0 | S39: 0 | T39: 0 | U39: 0 | V39: 0 | W39: 25 | X39: 2 | Y39: 0 | Z39: 15 | AA39: 3 | AB39: 8 | AC39: 29 | AD39: 0 | AE39: 6 | AF39: 2 | AG39: 4 | AH39: 0 | AJ39: 4 | AK39: 6 | AL39: 2 | AM39: 8 | AN39: 16 | AO39: 0 | AP39: 14 | AQ39: 39 | AR39: =SUM(B39:AQ39) -> 200 | AS39: 199 | AT39: 0 | AU39: 33 | AV39: 0 | AW39: 0 | AX39: =AR39+SUM(AS39:AW39) -> 432 | AY39: 0 | AZ39: 0 | BA39: =AX39+SUM(AY39:AZ39) -> 432
A40: 中之条 | B40: 34 | C40: 0 | D40: 0 | E40: 9 | F40: 1 | G40: 0 | H40: 0 | I40: 0 | J40: 0 | K40: 6 | L40: 0 | M40: 1 | N40: 0 | O40: 0 | P40: 2 | Q40: 0 | R40: 1 | S40: 0 | T40: 2 | U40: 0 | V40: 2 | W40: 5 | X40: 0 | Y40: 0 | Z40: 2 | AA40: 0 | AB40: 0 | AC40: 2 | AD40: 1 | AE40: 2 | AF40: 4 | AG40: 0 | AH40: 0 | AI40: 5 | AK40: 7 | AL40: 11 | AM40: 0 | AN40: 0 | AO40: 3 | AP40: 2 | AQ40: 2 | AR40: =SUM(B40:AQ40) -> 104 | AS40: 55 | AT40: 4 | AU40: 103 | AV40: 8 | AW40: 0 | AX40: =AR40+SUM(AS40:AW40) -> 274 | AY40: 2 | AZ40: 0 | BA40: =AX40+SUM(AY40:AZ40) -> 276
A41: 草津 | B41: 0 | C41: 0 | D41: 0 | E41: 0 | F41: 0 | G41: 0 | H41: 0 | I41: 0 | J41: 0 | K41: 0 | L41: 0 | M41: 0 | N41: 0 | O41: 0 | P41: 0 | Q41: 0 | R41: 0 | S41: 0 | T41: 0 | U41: 0 | V41: 0 | W41: 0 | X41: 0 | Y41: 0 | Z41: 0 | AA41: 0 | AB41: 0 | AC41: 0 | AD41: 0 | AE41: 0 | AF41: 0 | AG41: 0 | AH41: 0 | AI41: 0 | AJ41: 0 | AK41: - | AL41: 0 | AM41: 0 | AN41: 0 | AO41: 0 | AP41: 0 | AQ41: 0 | AR41: =SUM(B41:AQ41) -> 0 | AS41: 0 | AT41: 0 | AU41: 0 | AV41: 0 | AW41: 0 | AX41: =AR41+SUM(AS41:AW41) -> 0 | AY41: 0 | AZ41: 0 | BA41: =AX41+SUM(AY41:AZ41) -> 0
A42: 玉村 | B42: 33 | C42: 0 | D42: 0 | E42: 13 | F42: 2 | G42: 2 | H42: 0 | I42: 0 | J42: 0 | K42: 15 | L42: 1 | M42: 3 | N42: 0 | O42: 2 | P42: 5 | Q42: 6 | R42: 0 | S42: 0 | T42: 1 | U42: 0 | V42: 1 | W42: 12 | X42: 2 | Y42: 0 | Z42: 3 | AA42: 3 | AB42: 15 | AC42: 9 | AD42: 1 | AE42: 1 | AF42: 1 | AG42: 1 | AH42: 0 | AI42: 4 | AJ42: 4 | AK42: 4 | AM42: 10 | AN42: 10 | AO42: 18 | AP42: 31 | AQ42: 39 | AR42: =SUM(B42:AQ42) -> 252 | AS42: 24 | AT42: 1 | AU42: 111 | AV42: 0 | AW42: 0 | AX42: =AR42+SUM(AS42:AW42) -> 388 | AY42: 6 | AZ42: 10 | BA42: =AX42+SUM(AY42:AZ42) -> 404
A43: 明和 | B43: 7 | C43: 0 | D43: 0 | E43: 3 | F43: 1 | G43: 0 | H43: 0 | I43: 0 | J43: 0 | K43: 5 | L43: 0 | M43: 0 | N43: 0 | O43: 0 | P43: 0 | Q43: 0 | R43: 0 | S43: 0 | T43: 0 | U43: 0 | V43: 0 | W43: 13 | X43: 0 | Y43: 0 | Z43: 1 | AA43: 0 | AB43: 0 | AC43: 5 | AD43: 0 | AE43: 0 | AF43: 2 | AG43: 0 | AH43: 0 | AI43: 2 | AJ43: 0 | AK43: 0 | AL43: 2 | AN43: 0 | AO43: 5 | AP43: 15 | AQ43: 7 | AR43: =SUM(B43:AQ43) -> 68 | AS43: 5 | AT43: 1 | AU43: 2 | AV43: 0 | AW43: 0 | AX43: =AR43+SUM(AS43:AW43) -> 76 | AY43: 0 | AZ43: 0 | BA43: =AX43+SUM(AY43:AZ43) -> 76
A44: 千代田 | B44: 1 | C44: 0 | D44: 0 | E44: 0 | F44: 1 | G44: 0 | H44: 0 | I44: 0 | J44: 0 | K44: 1 | L44: 0 | M44: 1 | N44: 0 | O44: 0 | P44: 1 | Q44: 2 | R44: 0 | S44: 0 | T44: 0 | U44: 0 | V44: 1 | W44: 3 | X44: 0 | Y44: 0 | Z44: 1 | AA44: 1 | AB44: 3 | AC44: 0 | AD44: 1 | AE44: 0 | AF44: 0 | AG44: 0 | AH44: 0 | AI44: 1 | AJ44: 0 | AK44: 0 | AL44: 1 | AM44: 1 | AO44: 1 | AP44: 0 | AQ44: 4 | AR44: 25 | AS44: 0 | AT44: 1 | AU44: 1 | AV44: 0 | AW44: 0 | AX44: 27 | AY44: 0 | AZ44: 1 | BA44: 28
A45: 大泉 | B45: 18 | C45: 0 | D45: 0 | E45: 24 | F45: 2 | G45: 1 | H45: 0 | I45: 0 | J45: 1 | K45: 7 | L45: 0 | M45: 3 | N45: 1 | O45: 0 | P45: 1 | Q45: 2 | R45: 0 | S45: 0 | T45: 3 | U45: 0 | V45: 3 | W45: 15 | X45: 4 | Y45: 0 | Z45: 3 | AA45: 1 | AB45: 11 | AC45: 17 | AD45: 0 | AE45: 2 | AF45: 5 | AG45: 0 | AH45: 0 | AI45: 1 | AJ45: 4 | AK45: 6 | AL45: 11 | AM45: 2 | AN45: 6 | AP45: 22 | AQ45: 19 | AR45: =SUM(B45:AQ45) -> 195 | AS45: 9 | AT45: 1 | AU45: 35 | AV45: 0 | AW45: 0 | AX45: =AR45+SUM(AS45:AW45) -> 240 | AY45: 2 | AZ45: 0 | BA45: =AX45+SUM(AY45:AZ45) -> 242
A46: 邑楽 | B46: 24 | C46: 0 | D46: 0 | E46: 21 | F46: 2 | G46: 1 | H46: 0 | I46: 1 | J46: 1 | K46: 9 | L46: 0 | M46: 1 | N46: 1 | O46: 2 | P46: 2 | Q46: 2 | R46: 1 | S46: 1 | T46: 0 | U46: 0 | V46: 2 | W46: 6 | X46: 6 | Y46: 1 | Z46: 11 | AA46: 2 | AB46: 12 | AC46: 26 | AD46: 7 | AE46: 7 | AF46: 14 | AG46: 0 | AH46: 0 | AI46: 7 | AJ46: 4 | AK46: 2 | AL46: 41 | AM46: 7 | AN46: 5 | AO46: 8 | AQ46: 46 | AR46: =SUM(B46:AQ46) -> 283 | AS46: 16 | AT46: 3 | AU46: 35 | AV46: 0 | AW46: 0 | AX46: =AR46+SUM(AS46:AW46) -> 337 | AY46: 1 | AZ46: 0 | BA46: =AX46+SUM(AY46:AZ46) -> 338
A47: 県議会 | B47: 0 | C47: 0 | D47: 0 | E47: 0 | F47: 0 | G47: 0 | H47: 0 | I47: 0 | J47: 0 | K47: 0 | L47: 0 | M47: 0 | N47: 0 | O47: 0 | P47: 0 | Q47: 0 | R47: 0 | S47: 0 | T47: 0 | U47: 0 | V47: 0 | W47: 0 | X47: 0 | Y47: 0 | Z47: 0 | AA47: 0 | AB47: 0 | AC47: 0 | AD47: 0 | AE47: 0 | AF47: 0 | AG47: 0 | AH47: 0 | AI47: 0 | AJ47: 0 | AK47: 0 | AL47: 0 | AM47: 0 | AN47: 0 | AO47: 0 | AP47: 0 | AQ47: 0 | AR47: =SUM(B47:AQ47) -> 0 | AS47: 0 | AT47: 0 | AU47: 0 | AV47: 0 | AX47: =AR47+SUM(AS47:AW47) -> 0 | AY47: 0 | AZ47: 0 | BA47: =AX47+SUM(AY47:AZ47) -> 0
A48: 点字 | B48: 0 | C48: 0 | D48: 0 | E48: 0 | F48: 0 | G48: 0 | H48: 0 | I48: 0 | J48: 0 | K48: 0 | L48: 0 | M48: 0 | N48: 0 | O48: 0 | P48: 0 | Q48: 0 | R48: 0 | S48: 0 | T48: 0 | U48: 0 | V48: 0 | W48: 0 | X48: 0 | Y48: 0 | Z48: 0 | AA48: 0 | AB48: 0 | AC48: 0 | AD48: 0 | AE48: 0 | AF48: 0 | AG48: 0 | AH48: 0 | AI48: 0 | AJ48: 0 | AK48: 0 | AL48: 0 | AM48: 0 | AN48: 0 | AO48: 0 | AP48: 0 | AQ48: 0 | AR48: =SUM(B48:AQ48) -> 0 | AS48: 0 | AT48: 0 | AU48: 0 | AW48: 0 | AX48: =AR48+SUM(AS48:AW48) -> 0 | AY48: 9577 | AZ48: 0 | BA48: =AX48+SUM(AY48:AZ48) -> 9577
A49: 県立 | B49: 197 | C49: 0 | D49: 0 | E49: 208 | F49: 11 | G49: 11 | H49: 14 | I49: 5 | J49: 0 | K49: 165 | L49: 20 | M49: 218 | N49: 20 | O49: 6 | P49: 46 | Q49: 31 | R49: 4 | S49: 8 | T49: 3 | U49: 0 | V49: 88 | W49: 353 | X49: 174 | Y49: 8 | Z49: 83 | AA49: 80 | AB49: 81 | AC49: 156 | AD49: 30 | AE49: 10 | AF49: 104 | AG49: 64 | AH49: 16 | AI49: 236 | AJ49: 100 | AK49: 185 | AL49: 129 | AM49: 33 | AN49: 85 | AO49: 131 | AP49: 182 | AQ49: 0 | AR49: 3295 | AS49: 592 | AT49: 149 | AU49: 2587 | AV49: 6 | AW49: 0 | AX49: 6629 | AY49: 272 | AZ49: 4622 | BA49: 11523
A50: 合計 | B50: =SUM(B6:B49) -> 1474 | C50: =SUM(C6:C49) -> 0 | D50: =SUM(D6:D49) -> 0 | E50: =SUM(E6:E49) -> 968 | F50: =SUM(F6:F49) -> 44 | G50: =SUM(G6:G49) -> 60 | H50: =SUM(H6:H49) -> 44 | I50: =SUM(I6:I49) -> 13 | ... BA50: =SUM(BA6:BA49) -> 35720
