Workbook

Sheet 蔵書等
A1: 蔵 書 | R1: 令和8年3月31日現在
A2: 館 名 | B2: 本 館 用 一 般 図 書 分 類 別 蔵 書 冊 数 （冊） | R2: 備 考
B3: 総 記 | C3: 宗教哲学 | D3: 歴史地理 | E3: 社会科学 | F3: 自然科学 | G3: 技術工学 | H3: 産 業 | I3: 芸術ｽﾎﾟｰﾂ | J3: 言 語 | K3: 文 学 | L3: そ の 他 | M3: 合 計
B4: 0 | C4: 1 | D4: 2 | E4: 3 | F4: 4 | G4: 5 | H4: 6 | I4: 7 | J4: 8 | K4: 9 | N4: 郷土資料 | O4: 児 童 | P4: 洋 書 | Q4: うち開架冊数
A5: 育英 | B5: 2648 | C5: 4023 | D5: 2780 | E5: 21868 | F5: 3880 | G5: 1100 | H5: 1438 | I5: 5093 | J5: 6003 | K5: 7979 | L5: 5860 | M5: 62672 | N5: 1313 | O5: 7205 | P5: 4158 | Q5: 48904
A6: 関学大 | B6: ‐ | C6: ‐ | D6: ‐ | E6: ‐ | F6: ‐ | G6: ‐ | H6: ‐ | I6: ‐ | J6: ‐ | K6: ‐ | L6: ‐ | M6: 242664 | Q6: 29464
A7: 未来大 | B7: 793 | C7: 1284 | D7: 879 | E7: 5476 | F7: 21848 | G7: 2822 | H7: 584 | I7: 2043 | J7: 811 | K7: 1367 | L7: 4473 | M7: 42380 | N7: 0 | O7: 0 | P7: 4722 | Q7: 24000
A8: 共愛大 | B8: 2806 | C8: 8432 | D8: 12376 | E8: 27519 | F8: 3624 | G8: 2701 | H8: 2313 | I8: 4696 | J8: 4340 | K8: 12986 | L8: 0 | M8: 81793 | N8: 1862 | O8: 0 | P8: 7740 | Q8: 69025
A9: 共愛短大 | B9: 4432 | C9: 1545 | D9: 2537 | E9: 11096 | F9: 6816 | G9: 5366 | H9: 680 | I9: 2442 | J9: 833 | K9: 9079 | L9: 12 | M9: 44838 | N9: 701 | O9: 2803 | P9: 576 | Q9: -
A10: 健科大 | B10: 6361 | C10: 2087 | D10: 1510 | E10: 8234 | F10: 26615 | G10: 4090 | H10: 405 | I10: 1892 | J10: 2044 | K10: 4179 | L10: 24603 | M10: 82020 | N10: 1102 | O10: 30 | P10: 7774 | Q10: 45889 | R10: その他は製本雑誌と看護分類
A11: 県女大 | B11: 25142 | C11: 10910 | D11: 11701 | E11: 19981 | F11: 5860 | G11: 1977 | H11: 1274 | I11: 14933 | J11: 12665 | K11: 41460 | L11: 8685 | M11: 154588 | N11: 3635 | O11: 809 | P11: 41103 | Q11: 123550
A12: 群高専 | B12: 17132 | C12: 4481 | D12: 6472 | E12: 8970 | F12: 26866 | G12: 24830 | H12: 1185 | I12: 3146 | J12: 10878 | K12: 13994 | L12: 726 | M12: 118680 | N12: 1025 | O12: 0 | P12: 10213 | Q12: 69452
A13: 群福大 | B13: 853 | C13: 3948 | D13: 665 | E13: 16648 | F13: 6623 | G13: 764 | H13: 311 | I13: 1282 | J13: 883 | K13: 2626 | L13: 1032 | M13: 35635 | N13: ― | O13: 1032 | P13: 1500 | Q13: 35635 | R13: その他は、絵本等です。
A14: 群福大藤 | B14: 106 | C14: 458 | D14: 32 | E14: 1533 | F14: 10568 | G14: 73 | H14: 8 | I14: 82 | J14: 202 | K14: 495 | L14: 9 | M14: 13566 | N14: ― | O14: 9 | P14: 653 | Q14: 13566 | R14: その他は、絵本等です。
A15: 群福大プ | B15: 44 | C15: 160 | D15: 6 | E15: 725 | F15: 6386 | G15: 34 | H15: 18 | I15: 283 | J15: 89 | K15: 156 | L15: 6 | M15: 7907 | N15: ― | O15: 6 | P15: 179 | Q15: 7566 | R15: その他は、絵本等です。
A16: 群大図 | B16: 15346 | C16: 25679 | D16: 30124 | E16: 79088 | F16: 41345 | G16: 10095 | H16: 6022 | I16: 18099 | J16: 16920 | K16: 41089 | L16: 35259 | M16: 319066 | N16: 3321 | O16: 1265 | P16: 53426 | Q16: 138231
A17: 群大医 | B17: 768 | C17: 2173 | D17: 452 | E17: 3267 | F17: 119007 | G17: 222 | H17: 90 | I17: 312 | J17: 804 | K17: 674 | L17: 648 | M17: 128417 | N17: 0 | O17: 0 | P17: 57806 | Q17: 128982
A18: 群大理工 | B18: 2545 | C18: 4244 | D18: 2194 | E18: 4444 | F18: 68328 | G18: 57139 | H18: 1237 | I18: 1276 | J18: 2092 | K18: 1893 | L18: 0 | M18: 145392 | N18: 108 | O18: 0 | P18: 66097 | Q18: 138379
A19: 群パ大 | B19: 1143 | C19: 1790 | D19: 764 | E19: 5672 | F19: 37172 | G19: 1092 | H19: 182 | I19: 1914 | J19: 4651 | K19: 3308 | L19: 6319 | M19: 64007 | N19: 292 | O19: 210 | P19: 7004 | Q19: 47651
A20: 上武 | B20: 3922 | C20: 6539 | D20: 8255 | E20: 41795 | F20: 7891 | G20: 3812 | H20: 7080 | I20: 7607 | J20: 5268 | K20: 10123 | L20: 647 | M20: 102939 | N20: 1147 | P20: 9031
A21: 上武分 | B21: 8812 | C21: 4692 | D21: 5645 | E21: 36968 | F21: 16391 | G21: 6781 | H21: 5369 | I21: 2940 | J21: 6284 | K21: 7176 | L21: 11356 | M21: 112414 | N21: 623 | O21: 0 | P21: 13108 | Q21: 110518 | R21: その他は看護N分類
A22: 高経大 | B22: 21218 | C22: 16075 | D22: 63961 | E22: 167278 | F22: 18586 | G22: 21285 | H22: 36798 | I22: 9514 | J22: 14067 | K22: 20738 | L22: 7034 | M22: 396554 | N22: 53795 | O22: 0 | P22: 60920 | Q22: 389251 | R22: 全国郷土資料を含む
A23: 健大 | B23: 5395 | C23: 4582 | D23: 2577 | E23: 26241 | F23: 27885 | G23: 5132 | H23: 4812 | I23: 6459 | J23: 3498 | K23: 5989 | L23: 0 | M23: 92570 | N23: 2118 | O23: 0 | P23: 8647 | Q23: 71814
A24: 健大分 | B24: 1271 | C24: 753 | D24: 1614 | E24: 1466 | F24: 8705 | G24: 270 | H24: 81 | I24: 704 | J24: 1391 | K24: 5411 | L24: 15388 | M24: 37054 | N24: 22 | O24: 0 | P24: 1905 | Q24: 30174
A25: 高商大 | B25: 6772 | C25: 2984 | D25: 2983 | E25: 31821 | F25: 2155 | G25: 3044 | H25: 6744 | I25: 2032 | J25: 3410 | K25: 6701 | L25: 808 | M25: 69454 | N25: 130 | P25: 6950 | Q25: 27827
A26: 東福大 | B26: 2479 | C26: 8024 | D26: 2447 | E26: 49043 | F26: 12422 | G26: 2997 | H26: 888 | I26: 5679 | J26: 2477 | K26: 5904 | L26: 2810 | M26: 95170 | N26: 0 | O26: 2723 | P26: 4845 | Q26: 39884 | R26: 児童は絵本、その他は製本雑誌
A27: 新島 | B27: 2140 | C27: 8765 | D27: 9960 | E27: 16120 | F27: 2589 | G27: 1512 | H27: 1209 | I27: 3975 | J27: 3706 | K27: 12227 | L27: 708 | M27: 62911 | N27: 2427 | P27: 2889 | Q27: 47639
A28: 工科大 | B28: 5539 | C28: 2154 | D28: 3207 | E28: 5334 | F28: 14776 | G28: 26121 | H28: 1939 | I28: 2917 | J28: 1976 | K28: 3743 | L28: 7653 | M28: 75359 | N28: 1827 | O28: 0 | P28: 5126 | Q28: 2526 | R28: 電子ブック含む
A30: 受入図書冊数 | P30: 令和7年度
A31: 館 名 | B31: 年間受入 冊数 | C31: 受入方法による内訳（冊） | F31: 年間除籍冊数 （含移管） | G31: 年間受入雑誌種数(点) | J31: 年間受入新聞種数(点) | M31: 備 考
C32: 購入 | D32: 寄贈 | E32: その他１ | G32: 購入 | H32: 寄贈 | I32: 合計 | J32: 購入 | K32: 寄贈 | L32: 合計
A34: 育英 | B34: 940 | C34: 881 | D34: 59 | E34: 0 | F34: 640 | G34: 104 | H34: 79 | I34: 183 | J34: 8 | K34: 0 | L34: 8
A35: 関学大 | B35: 621 | C35: 620 | D35: 1 | E35: 0 | F35: 0 | G35: 53 | H35: 243 | I35: 296 | J35: 7 | K35: 1 | L35: 8
A36: 未来大 | B36: 1067 | C36: 1032 | D36: 35 | E36: 0 | F36: 1792 | G36: 61 | H36: 0 | I36: 61 | J36: 2 | K36: 2 | L36: 4
A37: 共愛大 | B37: 4478 | C37: 3833 | D37: 645 | E37: 0 | F37: 3771 | G37: 79 | H37: 1 | I37: 80 | J37: 11 | K37: 0 | L37: 11
A38: 共愛短大 | B38: 251 | C38: 212 | D38: 39 | E38: 0 | F38: 0 | G38: 38 | H38: - | I38: 38 | J38: 3 | K38: - | L38: 3
A39: 健科大 | B39: 993 | C39: 791 | D39: 75 | E39: 127 | F39: 38 | G39: 95 | H39: 46 | I39: 141 | J39: 1 | K39: 7 | L39: 8 | M39: その他は製本雑誌
A40: 県女大 | B40: 889 | C40: 831 | D40: 57 | E40: 1 | F40: 212 | G40: 73 | H40: 74 | I40: 147 | J40: 10 | K40: 0 | L40: 10
A41: 群高専 | B41: 976 | C41: 926 | D41: 47 | E41: 3 | F41: 0 | G41: 44 | H41: 52 | I41: 96 | J41: 7 | K41: 0 | L41: 7
A42: 群福大 | B42: 458 | C42: 458 | D42: ― | E42: ― | F42: ― | G42: 161 | H42: ― | I42: 161 | J42: 9 | K42: 3 | L42: 12
A43: 群福大藤 | B43: 393 | C43: 393 | D43: ― | E43: ― | F43: ― | G43: 53 | H43: ― | I43: 53 | J43: 2 | K43: ― | L43: 2
A44: 群福大プ | B44: 341 | C44: 341 | D44: ― | E44: ― | F44: ― | G44: 43 | H44: ― | I44: 43 | J44: 2 | K44: ― | L44: 2
A45: 群大図 | B45: 396 | C45: 396 | D45: 0 | E45: 0 | F45: 12243 | G45: 134 | H45: 375 | I45: 509 | J45: 15 | K45: 4 | L45: 19
A46: 群大医 | B46: 565 | C46: 324 | D46: 0 | E46: 241 | F46: 2866 | G46: 143 | H46: 183 | I46: 326 | J46: 10 | K46: 8 | L46: 18
A47: 群大理工 | B47: 170 | C47: 156 | D47: 0 | E47: 14 | F47: 2 | G47: 50 | H47: 49 | I47: 99 | J47: 13 | K47: 2 | L47: 15
A48: 群パ大 | B48: 2360 | C48: 1391 | D48: 807 | E48: 162 | F48: 4 | G48: 78 | H48: 137 | I48: 215 | J48: 5 | K48: 0 | L48: 5
A49: 上武 | B49: 808 | C49: 787 | D49: 21 | E49: 0 | F49: 0 | G49: 33 | H49: 9 | I49: 42 | J49: 5 | K49: 0 | L49: 5
A50: 上武分 | B50: 1010 | C50: 807 | D50: 203 | E50: 0 | F50: 0 | G50: 98 | H50: 42 | I50: 140 | J50: 5 | K50: 1 | L50: 6
A51: 高経大 | B51: 2347 | C51: 669 | D51: 1508 | E51: 170 | F51: 453 | G51: 1236 | H51: 5240 | I51: 6476 | J51: 17 | K51: 5 | L51: 22
A52: 健大 | B52: 4361 | C52: 4144 | D52: 23 | E52: 194 | F52: 948 | G52: 245 | H52: 41 | I52: 286 | J52: 20 | K52: 0 | L52: 20
A53: 健大分 | B53: 996 | C53: 989 | D53: 7 | F53: 280 | G53: 71 | H53: 1 | I53: 72 | J53: 5 | K53: 0 | L53: 5
A54: 高商大 | B54: 318 | C54: 233 | D54: 85 | F54: 2763 | G54: 88 | H54: 34 | I54: 122 | J54: 8 | K54: 2 | L54: 10
A55: 東福大 | B55: 1018 | C55: 928 | D55: 90 | E55: 0 | F55: 504 | G55: 143 | H55: 17 | I55: 160 | J55: 15 | K55: 2 | L55: 17 | M55: その他1は製本雑誌
A56: 新島 | B56: 626 | C56: 485 | D56: 140 | E56: 1 | F56: 185 | G56: 29 | H56: 3 | I56: 32 | J56: 8 | L56: 8
A57: 工科大 | B57: 1396 | C57: 1184 | D57: 135 | E57: 77 | F57: 4027 | G57: 128 | H57: 20 | I57: 148 | J57: 8 | K57: 4 | L57: 12

Sheet 貸出サービス状況等
A1: 視聴覚資料等所蔵・受入状況 | AY1: #REF! | AZ1: カ所 ： | BA1: #REF!
A2: 館 名 | B2: 所 蔵 数 (点) | H2: ( | I2: =蔵書等!R1 -> 令和8年3月31日現在 | K2: ) | L2: 年 間 受 入 点 数 (点) | R2: ( | S2: =蔵書等!P30 -> 令和7年度 | U2: ) | V2: 備 考
B3: 視 聴 覚 資 料 | J3: ＣＤ－ＲＯＭ | K3: マイクロフィルム、 | L3: 視 聴 覚 資 料 | T3: ＣＤ－ＲＯＭ | U3: マイクロフィルム、
B4: Ｃ Ｄ | C4: レコード | D4: カセット | E4: ビデオ | F4: Ｌ Ｄ | G4: DVD | H4: その他 | I4: 合 計 | J4: ＤＶＤ－ＲＯＭ | K4: フィッシュ | L4: Ｃ Ｄ | M4: レコード | N4: カセット | O4: ビデオ | P4: Ｌ Ｄ | Q4: DVD | R4: その他 | S4: 合 計 | T4: ＤＶＤ－ＲＯＭ | U4: フィッシュ
A5: 育英 | B5: 1482 | C5: 0 | D5: 65 | E5: 612 | F5: 0 | G5: 1103 | H5: 24 | I5: 3286 | J5: 24 | K5: 0 | L5: 1 | M5: 0 | N5: 0 | O5: 0 | P5: 0 | Q5: 12 | R5: 0 | S5: 13 | T5: 0 | U5: 0
A6: 関学大 | B6: 0 | C6: 0 | D6: 36 | E6: 147 | F6: 0 | G6: 0 | H6: 0 | I6: 183 | J6: 243 | K6: 1617 | L6: 0 | M6: 0 | N6: 0 | O6: 0 | P6: 0 | Q6: 0 | R6: 0 | S6: 0 | T6: 0 | U6: 0
A7: 未来大 | B7: 119 | C7: 0 | D7: 1 | E7: 875 | F7: 0 | G7: 605 | H7: 0 | I7: 1600 | J7: 0 | K7: 0 | L7: 0 | M7: 0 | N7: 0 | O7: 0 | P7: 0 | Q7: 17 | R7: 0 | S7: 17 | T7: 0 | U7: 0
A8: 共愛大 | B8: 76 | C8: 0 | D8: 0 | E8: 0 | F8: 0 | G8: 429 | H8: 0 | I8: 505 | J8: 8 | K8: 105 | L8: 0 | M8: 0 | N8: 0 | O8: 0 | P8: 0 | Q8: 0 | R8: 0 | S8: 0 | T8: 0 | U8: 0
A9: 共愛短大 | B9: 31 | C9: 0 | D9: 80 | E9: 524 | F9: 0 | G9: 68 | H9: 9 | I9: 712 | J9: 114 | K9: 0 | L9: 0 | M9: 0 | N9: 0 | O9: 0 | P9: 0 | Q9: 0 | R9: 0 | S9: 0 | T9: 0 | U9: 0
A10: 健科大 | B10: 0 | C10: 0 | D10: 0 | E10: 1477 | F10: 0 | G10: 293 | H10: 8 | I10: 1778 | J10: 8 | K10: 0 | L10: 0 | M10: 0 | N10: 0 | O10: 0 | P10: 0 | Q10: 3 | R10: 0 | S10: 3 | T10: 0 | U10: 0
A11: 県女大 | B11: 108 | C11: 241 | D11: 0 | E11: 0 | F11: 24 | G11: 163 | H11: 0 | I11: 536 | J11: 23 | K11: 217 | L11: 0 | M11: 0 | N11: 0 | O11: 0 | P11: 0 | Q11: 3 | R11: 0 | S11: 3 | T11: 0 | U11: 0
A12: 群高専 | B12: 24 | C12: 0 | D12: 29 | E12: 687 | F12: 0 | G12: 470 | H12: 1 | I12: 1211 | J12: 118 | K12: 0 | L12: 1 | M12: 0 | N12: 0 | O12: 0 | P12: 0 | Q12: 0 | R12: 0 | S12: 1 | T12: 0 | U12: 0
A13: 群福大 | B13: 0 | C13: 0 | D13: 0 | E13: ― | F13: 0 | G13: 318 | H13: 0 | I13: 318 | J13: 0 | K13: 0 | L13: 0 | M13: 0 | N13: 0 | O13: 0 | P13: 0 | Q13: 0 | R13: 0 | S13: 0 | T13: 0 | U13: 0
A14: 群福大藤 | B14: 0 | C14: 0 | D14: 0 | E14: 0 | F14: 0 | G14: 633 | H14: 0 | I14: 633 | J14: 0 | K14: 0 | L14: 0 | M14: 0 | N14: 0 | O14: 0 | P14: 0 | Q14: 0 | R14: 0 | S14: 0 | T14: 0 | U14: 0
A15: 群福大プ | B15: 0 | C15: 0 | D15: 0 | E15: ― | F15: 0 | G15: 640 | H15: 0 | I15: 640 | J15: 0 | K15: 0 | L15: 0 | M15: 0 | N15: 0 | O15: 0 | P15: 0 | Q15: 0 | R15: 0 | S15: 0 | T15: 0 | U15: 0
A16: 群大図 | B16: 109 | C16: 0 | D16: 7 | E16: 13 | F16: 0 | G16: 398 | H16: 0 | I16: 527 | J16: 16 | K16: 0 | L16: 0 | M16: 0 | N16: 0 | O16: 0 | P16: 0 | Q16: 0 | R16: 0 | S16: 0 | T16: 0 | U16: 0
A17: 群大医 | B17: 40 | C17: 0 | D17: 32 | E17: 741 | F17: 0 | G17: 472 | H17: 2 | I17: 1287 | J17: 152 | K17: 0 | L17: 0 | M17: 0 | N17: 0 | O17: 0 | P17: 0 | Q17: 0 | R17: 0 | S17: 0 | T17: 0 | U17: 0
A18: 群大理工 | B18: 67 | C18: 0 | D18: 1 | E18: 0 | F18: 0 | G18: 284 | H18: 0 | I18: 352 | J18: 77 | K18: 0 | L18: 0 | M18: 0 | N18: 0 | O18: 0 | P18: 0 | Q18: 0 | R18: 0 | S18: 0 | T18: 0 | U18: 0
A19: 群パ大 | B19: 7 | C19: 0 | D19: 0 | E19: 666 | F19: 0 | G19: 881 | H19: 0 | I19: 1554 | J19: 8 | K19: 0 | L19: 0 | N19: 0 | O19: 0 | P19: 0 | Q19: 17 | R19: 0 | S19: 17 | T19: 0 | U19: 0
A20: 上武 | B20: 378 | C20: 0 | D20: 11 | E20: 327 | F20: 10 | G20: 2638 | H20: 57 | I20: 3421 | J20: 411 | K20: 0 | L20: 0 | M20: 0 | N20: 0 | O20: 0 | P20: 0 | Q20: 1 | R20: 0 | S20: 1 | T20: 0 | U20: 0
A21: 上武分 | B21: 130 | C21: 0 | D21: 111 | E21: 630 | F21: 296 | G21: 719 | H21: 12 | I21: 1898 | J21: 201 | K21: 0 | L21: 0 | M21: 0 | N21: 0 | O21: 0 | P21: 0 | Q21: 15 | R21: 0 | S21: 15 | T21: 0 | U21: 0
A22: 高経大 | B22: 237 | C22: 0 | D22: 116 | E22: 2896 | F22: 1 | G22: 1432 | H22: 0 | I22: 4682 | J22: 1058 | K22: 760 | L22: 0 | M22: 0 | N22: 0 | O22: 0 | P22: 0 | Q22: 12 | R22: 0 | S22: 12 | T22: 0 | U22: 0
A23: 健大 | B23: 291 | C23: 0 | D23: 6 | E23: 290 | F23: 0 | G23: 2208 | H23: 329 | I23: 3124 | J23: 43 | K23: 0 | L23: 0 | M23: 0 | N23: 0 | O23: 0 | P23: 0 | Q23: 117 | R23: 0 | S23: 117 | T23: 0 | U23: 0
A24: 健大分 | B24: 267 | C24: 0 | D24: 0 | E24: 0 | F24: 0 | G24: 1388 | H24: 56 | I24: 1711 | J24: 56 | K24: 0 | L24: 0 | M24: 0 | N24: 0 | O24: 0 | P24: 0 | Q24: 48 | R24: 0 | S24: 48 | T24: 0 | U24: 0
A25: 高商大 | B25: 565 | C25: 0 | D25: 93 | E25: 1338 | F25: 0 | G25: 1262 | H25: 531 | I25: 3789 | Q25: 11 | S25: 11
A26: 東福大 | B26: 0 | C26: 0 | D26: 0 | E26: 163 | F26: 0 | G26: 6 | H26: 0 | I26: 169 | J26: 257 | K26: 0 | L26: 0 | M26: 0 | N26: 0 | O26: 0 | P26: 0 | Q26: 0 | R26: 0 | S26: 0 | T26: 11 | U26: 0
A27: 新島 | B27: 545 | E27: 1096 | F27: 7 | G27: 661 | I27: 2309 | L27: 6 | Q27: 8 | S27: 14
A28: 工科大 | B28: 6 | C28: 0 | D28: 0 | E28: 0 | F28: 21 | G28: 118 | H28: 0 | I28: 145 | J28: 95 | K28: 0 | L28: 0 | M28: 0 | N28: 0 | O28: 0 | P28: 0 | Q28: 2 | R28: 0 | S28: 2 | T28: 0 | U28: 0
A30: 貸出サービス概況 | K30: =蔵書等!P30 -> 令和7年度
A31: 館 名 | B31: 有効利用登録者 | C31: 開館日数（日） | D31: 来館者数 （人） | E31: 個人貸出人数 | I31: 貸出数 （図書＋視聴覚資料） | J31: 備 考
E32: 職員 | F32: 学生 | G32: その他 | H32: 合計
A34: 育英 | B34: 1279 | C34: 237 | D34: 10243 | E34: 254 | F34: 2002 | G34: 3 | H34: 2259 | I34: 6781
A35: 関学大 | B35: 537 | C35: 198 | D35: 3465 | E35: 79 | F35: 197 | G35: 0 | H35: 276 | I35: 490
A36: 未来大 | B36: 768 | C36: 221 | D36: 20949 | E36: 147 | F36: 688 | G36: 22 | H36: 857 | I36: 1755
A37: 共愛大 | B37: 1174 | C37: 269 | D37: 23635 | E37: 312 | F37: 4453 | G37: 74 | H37: 4839 | I37: 8419
A38: 共愛短大 | B38: 176 | C38: 249 | D38: 8634 | E38: 324 | F38: 781 | G38: 35 | H38: 1140 | I38: 1140
A39: 健科大 | B39: 643 | C39: 268 | D39: 16977 | E39: 354 | F39: 3340 | G39: 373 | H39: 4067 | I39: 7727 | J39: 視聴覚資料は館内利用限定
A40: 県女大 | B40: 1255 | C40: 230 | D40: 16639 | E40: 372 | F40: 5723 | G40: 156 | H40: 6251 | I40: 13143
A41: 群高専 | B41: 1232 | C41: 259 | D41: 71286 | E41: 158 | F41: 2710 | G41: 48 | H41: 2916 | I41: 5851
A42: 群福大 | B42: 716 | C42: 212 | D42: ― | E42: 145 | F42: 878 | G42: ― | H42: 1023 | I42: 1061
A43: 群福大藤 | B43: 360 | C43: 216 | D43: ― | E43: 67 | F43: 1440 | G43: ― | H43: 1507 | I43: 1520
A44: 群福大プ | B44: 312 | C44: 209 | D44: ― | E44: 58 | F44: 30 | G44: ― | H44: 88 | I44: 88
A45: 群大図 | B45: 3419 | C45: 293 | D45: 113690 | E45: 1287 | F45: 12435 | G45: 315 | H45: 14037 | I45: 24224
A46: 群大医 | B46: 4238 | C46: 282 | D46: 95477 | E46: 911 | F46: 3730 | G46: 186 | H46: 4827 | I46: 13786
A47: 群大理工 | B47: 2598 | C47: 276 | D47: 91301 | E47: 763 | F47: 5949 | G47: 88 | H47: 6800 | I47: 12252
A48: 群パ大 | B48: 2317 | C48: 264 | D48: 56483 | E48: 406 | F48: 4984 | G48: 99 | H48: 5489 | I48: 12847
A49: 上武 | B49: 1173 | C49: 238 | D49: 18852 | E49: 1484 | F49: 16580 | G49: 772 | H49: 18836 | I49: 1166
A50: 上武分 | B50: - | C50: 235 | D50: 11482 | E50: 215 | F50: 1036 | G50: 9 | H50: 1260 | I50: 2420 | J50: 視聴覚資料の館内貸出数は含まず
A51: 高経大 | B51: 4805 | C51: 310 | D51: 86979 | E51: 733 | F51: 6186 | G51: 243 | H51: 7162 | I51: 13963
A52: 健大 | B52: 3507 | C52: 224 | D52: 83579 | E52: 580 | F52: 1964 | G52: 7 | H52: 2551 | I52: 5072
A53: 健大分 | B53: 3507 | C53: 225 | D53: 27824 | E53: 1020 | F53: 2174 | G53: 30 | H53: 3224
A54: 高商大 | B54: 1234 | C54: 275 | D54: 27684 | E54: 339 | F54: 1024 | G54: 105 | H54: 1468 | I54: 2515
A55: 東福大 | B55: 2896 | C55: 252 | D55: 11097 | E55: 688 | F55: 944 | G55: 455 | H55: 2087 | I55: 2087 | J55: 視聴覚資料は館外貸出不可
A56: 新島 | B56: 192 | C56: 226 | D56: 3824 | E56: 109 | F56: 795 | G56: 10 | H56: 914 | I56: 1953
A57: 工科大 | B57: 2607 | C57: 260 | D57: 12446 | E57: 473 | F57: 1989 | G57: 145 | H57: 2607 | I57: 5492

Sheet レファレンス等
A1: レファレンス等 | Z1: =蔵書等!P30 -> 令和7年度
A2: 館 名 | B2: レ フ ァ レ ン ス | K2: 文 献 複 写 | O2: マイクロフィルム・フィッシュ複写 | Q2: CD-ROM等電子出版物複写 | S2: オンラインデータベース複写 | U2: リ ク エ ス ト | Y2: 相互貸借
B3: 受付件数 | C3: 受付区分 (件) | G3: 内容区分 (件) | I3: 担当者数 (人) | K3: 複写件数 | L3: 複写枚数 | M3: 複写料金 （白黒） | N3: カラー複写 料金 | O3: コピー枚数 | P3: コピー料金 | Q3: コピー枚数 | R3: コピー料金 | S3: コピー枚数 | T3: コピー料金 | U3: 返却待ち | V3: 購 入 | W3: 相互貸借 | X3: 合 計 | Y3: 貸出数 | Z3: 備 考
C4: 口 頭 | D4: 電 話 | E4: 文 書 | F4: e－メール | G4: 利用案内 | H4: 調査相談 | I4: 専 任 | J4: 兼 任 | K4: (冊・点) | L4: (枚) | M4: (円/1枚) | N4: (円/1枚) | O4: (枚) | P4: (円/1枚) | R4: (円/1枚) | T4: (円/1枚) | U4: 予約 | V4: 希 望 | W4: 借受数 | X4: (冊) | Y4: (冊)
A5: 育英 | B5: 164 | C5: 164 | D5: 0 | E5: 0 | F5: 0 | G5: 61 | H5: 103 | I5: 2 | J5: 0 | K5: 49 | L5: 145 | M5: 10 | N5: 10 | O5: 未実施 | P5: 未実施 | Q5: 未実施 | R5: 未実施 | S5: ― | T5: ― | U5: 8 | V5: 38 | W5: 7 | X5: 53 | Y5: 29
A6: 関学大 | B6: 82 | C6: 82 | D6: 0 | E6: 0 | F6: 0 | G6: 75 | H6: 7 | I6: 0 | J6: 2 | K6: 2 | L6: 24 | M6: 学内10円 学外30円 | N6: 未実施 | O6: 未実施 | Q6: 未実施 | S6: 未実施 | U6: 1 | V6: 25 | W6: 0 | X6: 26 | Y6: 0
A7: 未来大 | B7: 17 | C7: 5 | D7: 0 | E7: 0 | F7: 12 | G7: 1 | H7: 16 | I7: 0 | J7: 1 | K7: 188 | L7: 843 | M7: 10 | N7: 50 | O7: 未実施 | Q7: 未実施 | S7: 未実施 | U7: 2 | V7: 102 | W7: 30 | X7: 134 | Y7: 13
A8: 共愛大 | B8: 0 | C8: － | D8: － | E8: － | F8: － | G8: － | H8: － | I8: 0 | J8: 2 | K8: 106 | L8: 263 | M8: 10 | N8: 50 | O8: 未実施 | Q8: 未実施 | S8: 未実施 | U8: 16 | V8: 6 | W8: 16 | X8: 38 | Y8: 91
A9: 共愛短大 | B9: 15 | C9: 14 | D9: 1 | E9: 0 | F9: 0 | G9: 3 | H9: 12 | I9: 0 | J9: 2 | K9: - | L9: - | M9: - | N9: - | O9: 未実施 | Q9: 未実施 | S9: 未実施 | U9: 0 | V9: - | W9: 0 | X9: 0 | Y9: 0
A10: 健科大 | B10: 462 | C10: 455 | D10: 7 | E10: 0 | F10: 0 | G10: 330 | H10: 132 | I10: 0 | J10: 5 | K10: 403 | L10: - | M10: 10 | N10: 100 | O10: 未実施 | Q10: 未実施 | S10: 590 | T10: 0 | U10: 18 | V10: 6 | W10: 9 | X10: 33 | Y10: 22
A11: 県女大 | B11: 400 | C11: 338 | D11: 21 | E11: 15 | F11: 26 | G11: 369 | H11: 31 | I11: 0 | J11: 4 | K11: 915 | L11: 3804 | M11: 10 | N11: 50 | O11: 未実施 | P11: 0 | Q11: 未実施 | R11: 0 | S11: 未実施 | T11: 0 | U11: 53 | V11: 9 | W11: 172 | X11: 234 | Y11: 69
A12: 群高専 | B12: 7 | C12: 5 | D12: 2 | E12: 0 | F12: 0 | G12: 7 | H12: 0 | I12: 0 | J12: 1 | K12: 36 | L12: 565 | M12: 35 | N12: 0 | O12: 未実施 | P12: 0 | Q12: 未実施 | R12: 0 | S12: 未実施 | T12: 0 | U12: 16 | V12: 104 | W12: 15 | X12: 135 | Y12: 12
A13: 群福大 | B13: 662 | C13: 662 | D13: ― | E13: ― | F13: ― | G13: 313 | H13: 349 | I13: 2 | J13: 0 | K13: 58 | L13: 395 | M13: 10円 | N13: A3以外50円／A3：80円 | O13: 未実施 | P13: ― | Q13: 未実施 | R13: ― | S13: 64 | T13: ― | U13: ― | V13: ― | W13: 10 | X13: 10 | Y13: 17 | Z13: オンラインデータベース複写は、学内利用者のみ対応。（料金徴収なし）
A14: 群福大藤 | B14: 612 | C14: 612 | D14: ― | E14: ― | F14: ― | G14: 248 | H14: 364 | I14: 1 | J14: 0 | K14: 53 | L14: 206 | M14: 10円 | N14: A3以外50円／A3：80円 | O14: 未実施 | P14: ― | Q14: 未実施 | R14: ― | S14: ― | T14: ― | U14: ― | V14: ― | W14: ― | X14: 0 | Y14: ― | Z14: オンラインデータベース複写は、通常の文献複写に含めています。 ／ 相互協力は本館にて対応
A15: 群福大プ | B15: 39 | C15: 39 | D15: ― | E15: ― | F15: ― | G15: 7 | H15: 32 | I15: 1 | J15: 0 | K15: 0 | L15: 0 | M15: 10円 | N15: A3以外50円／A3：80円 | O15: 未実施 | P15: ― | Q15: 未実施 | R15: ― | S15: 0 | T15: ― | U15: ― | V15: ― | W15: ― | X15: 0 | Y15: ― | Z15: オンラインデータベース複写は、学内利用者のみ対応。（料金徴収なし） ／ 相互協力は本館にて対応
A16: 群大図 | B16: 8088 | C16: 7821 | D16: 131 | E16: 32 | F16: 104 | G16: 7619 | H16: 469 | I16: 0 | J16: 3 | K16: 590 | L16: 4675 | M16: 学内20学外35 | N16: 学内60学外90 | O16: 0 | P16: 学内20学外35 | Q16: 0 | R16: 学内20学外35 | S16: 未実施 | T16: 学内20学外35 | U16: 694 | V16: 238 | W16: 97 | X16: 1029 | Y16: 194
A17: 群大医 | B17: 2864 | C17: 1919 | D17: 573 | E17: 57 | F17: 315 | G17: 2409 | H17: 455 | I17: 2 | J17: 1 | K17: 1093 | L17: 4080 | M17: 学内20円 学外35円 | N17: 学内60円 学外90円 | O17: 未実施 | Q17: 未実施 | S17: 未実施 | U17: 158 | V17: 37 | W17: 3 | X17: 198 | Y17: 13
A18: 群大理工 | B18: 913 | C18: 774 | D18: 46 | E18: 91 | F18: 2 | G18: 754 | H18: 159 | I18: 0 | J18: 1 | K18: 159 | L18: 2982 | M18: 10 | N18: 50 | O18: 未実施 | Q18: 未実施 | S18: 0 | U18: 73 | V18: 70 | W18: 14 | X18: 157 | Y18: 66
A19: 群パ大 | B19: 440 | C19: 409 | D19: 26 | E19: 0 | F19: 5 | G19: 260 | H19: 180 | I19: 0 | J19: 2 | K19: 未実施 | L19: 未実施 | M19: 50 | N19: 100 | O19: 未実施 | P19: 未実施 | Q19: 未実施 | R19: 未実施 | S19: 未実施 | T19: 未実施 | U19: 31 | V19: 28 | W19: 4 | X19: 63 | Y19: 34
A20: 上武 | B20: 81 | C20: 81 | D20: 0 | E20: 0 | F20: 0 | G20: 0 | H20: 81 | I20: 0 | J20: 1 | K20: 25 | L20: 608 | M20: 10 | N20: 50 | O20: 0 | P20: 0 | Q20: 0 | R20: 0 | S20: 0 | T20: 0 | U20: 0 | V20: 0 | W20: 1 | X20: 1 | Y20: 1
A21: 上武分 | B21: 132 | C21: - | D21: - | E21: - | F21: - | G21: 0 | H21: 132 | I21: 1 | J21: 1 | K21: 54 | L21: 420 | M21: 10 | N21: 50 | O21: 未実施 | P21: 未実施 | Q21: 未実施 | R21: 未実施 | S21: 70 | T21: 未実施 | U21: 0 | V21: 4 | W21: 4 | X21: 8 | Y21: 3
A22: 高経大 | B22: 447 | C22: 447 | D22: 0 | E22: 0 | F22: 0 | G22: 422 | H22: 25 | I22: 0 | J22: 6 | K22: 799 | L22: 6356 | M22: 学内/10円 学外/35円 | N22: 学内/50円 | O22: 未実施 | Q22: 未実施 | S22: 未実施 | U22: 121 | V22: 22 | W22: 90 | X22: 233 | Y22: 343
A23: 健大 | B23: 158 | C23: 136 | D23: 21 | E23: 1 | F23: 0 | G23: 148 | H23: 10 | I23: 0 | J23: 6 | K23: 338 | L23: 1460 | M23: 学外40円、学内10円 | N23: 学内40円(A3:80円)、学外80円 | O23: 未実施 | P23: 未実施 | Q23: 197 | R23: 40円(1ページ) | S23: 未実施 | T23: 未実施 | U23: 15 | V23: 6 | W23: 11 | X23: 32 | Y23: 50
A24: 健大分 | B24: 320 | C24: 247 | D24: 63 | E24: 0 | F24: 10 | G24: 301 | H24: 19 | J24: 3 | K24: 32 | L24: 136 | M24: 学外40円、学内10円 | N24: 学外80円、学内40円、A3サイズ80円 | O24: 未実施 | Q24: 0 | R24: 40 | S24: 0 | T24: 40 | U24: 22 | V24: 21 | W24: 6 | X24: 49 | Y24: 22
A25: 高商大 | B25: 17 | C25: 17 | G25: 0 | H25: 17 | I25: 1 | J25: 3 | K25: 0 | M25: 20 | N25: 40 | O25: 未実施 | Q25: 未実施 | S25: 未実施 | U25: 14 | V25: 7 | W25: 56 | X25: 77 | Y25: 25
A26: 東福大 | B26: 304 | C26: - | D26: - | E26: - | F26: - | G26: 236 | H26: 14 | I26: 0 | J26: 4 | K26: 51 | L26: 442 | M26: 10 | N26: 50 | O26: 未実施 | Q26: 未実施 | S26: 未実施 | U26: 5 | V26: 統計無 | W26: 0 | X26: 5 | Y26: 2
A27: 新島 | B27: 0 | I27: 0 | J27: 1 | K27: 20 | L27: 106 | M27: 5 | N27: 50 | U27: 28 | W27: 13 | X27: 41 | Y27: 4
A28: 工科大 | B28: 1118 | C28: 1118 | D28: - | E28: - | F28: 0 | G28: 881 | H28: 237 | I28: 0 | J28: 7 | K28: 45 | L28: 486 | M28: 10 | N28: 50 | O28: 未実施 | Q28: 未実施 | S28: 未実施 | U28: 1447 | V28: 35 | W28: 22 | X28: 1504 | Y28: 60 | Z28: 予約に取り置きを含む
A30: 視聴覚資料利用 | K30: =蔵書等!P30 -> 令和7年度
A31: 館 名 | B31: 資 料 種 別 利 用 数 | J31: 利用点数 | K31: 備 考
H32: CD-ROM, DVD-ROM | J32: (点)
B33: Ｃ Ｄ | C33: レコード | D33: カセット | E33: ビデオ | F33: ＬＤ | G33: DVD | I33: その他 | J33: 合計
A34: 育英 | B34: 17 | C34: 0 | D34: 0 | E34: 0 | F34: 0 | G34: 30 | H34: 0 | I34: 0 | J34: 47
A35: 関学大 | B35: 0 | C35: 0 | D35: 0 | E35: 0 | F35: 0 | G35: 0 | H35: 0 | I35: 0 | J35: 0
A36: 未来大 | B36: 0 | C36: 0 | D36: 0 | E36: 0 | F36: 0 | G36: 34 | H36: 0 | I36: 0 | J36: 34
A37: 共愛大 | B37: 0 | C37: 0 | D37: 0 | E37: 0 | F37: 0 | G37: 0 | H37: 0 | I37: 0 | J37: 0
A38: 共愛短大 | B38: 0 | C38: 0 | D38: 0 | E38: 0 | F38: 0 | G38: 0 | H38: 0 | I38: 0 | J38: 0 | K38: 館内に限定
A39: 健科大 | B39: 0 | C39: 0 | D39: 0 | E39: 0 | F39: 0 | G39: 29 | H39: 0 | I39: 0 | J39: 29 | K39: 館内利用限定
A40: 県女大 | B40: 1 | C40: 0 | D40: 0 | E40: 0 | F40: 0 | G40: 4 | H40: 0 | I40: 0 | J40: 5
A41: 群高専 | B41: 0 | C41: 0 | D41: 0 | E41: 0 | F41: 0 | G41: 4 | H41: 0 | I41: 0 | J41: 4
A42: 群福大 | B42: 0 | C42: 0 | D42: 0 | E42: 0 | F42: 0 | G42: 0 | H42: 0 | I42: 0 | J42: 0 | K42: 館内利用限定
A43: 群福大藤 | B43: 0 | C43: 0 | D43: 0 | E43: 0 | F43: 0 | G43: 0 | H43: 0 | I43: 0 | J43: 0 | K43: 館内利用限定
A44: 群福大プ | B44: 0 | C44: 0 | D44: 0 | E44: 0 | F44: 0 | G44: 0 | H44: 0 | I44: 0 | J44: 0 | K44: 館内利用限定
A45: 群大図 | B45: 24 | C45: 0 | D45: 0 | E45: 0 | F45: 0 | G45: 0 | H45: 0 | I45: 0 | J45: 24
A46: 群大医 | B46: 0 | C46: 0 | D46: 0 | E46: 0 | F46: 0 | G46: 3 | H46: 0 | I46: 0 | J46: 3
A47: 群大理工 | B47: 1 | C47: 0 | D47: 0 | E47: 0 | F47: 0 | G47: 0 | H47: 0 | I47: 0 | J47: 1
A48: 群パ大 | B48: 0 | C48: 0 | D48: 0 | E48: 0 | F48: 0 | G48: 72 | H48: 0 | I48: 0 | J48: 72
A49: 上武 | B49: 0 | C49: 0 | D49: 0 | E49: 0 | F49: 0 | G49: 42 | H49: 0 | I49: 0 | J49: 42
A50: 上武分 | B50: 0 | C50: 0 | D50: 0 | E50: 0 | F50: 0 | G50: 178 | H50: 0 | I50: 0 | J50: 178 | K50: 館内貸出数
A51: 高経大 | B51: 0 | C51: 0 | D51: 0 | E51: 5 | F51: 0 | G51: 13 | H51: 1 | I51: 12 | J51: 31
A52: 健大 | B52: 0 | C52: 0 | D52: 0 | E52: 0 | F52: 0 | G52: 147 | H52: 3 | I52: 14 | J52: 164
A53: 健大分 | B53: 0 | C53: 0 | D53: 0 | E53: 0 | F53: 0 | G53: 160 | H53: 0 | I53: 0 | J53: 160
A54: 高商大 | B54: 0 | C54: 0 | D54: 0 | E54: 0 | F54: 0 | G54: 0 | H54: 0 | I54: 0 | J54: 0 | K54: 館内視聴のみ
A55: 東福大 | B55: 0 | C55: 0 | D55: 0 | E55: 0 | F55: 0 | G55: 0 | H55: 0 | I55: 0 | J55: 0 | K55: 視聴覚資料は館外貸出不可
A56: 新島 | J56: 78
A57: 工科大 | B57: 0 | C57: 0 | D57: 0 | E57: 0 | F57: 0 | G57: 0 | H57: 0 | I57: 0 | J57: 0

Sheet コンピュータシステム
A1: コンピュータ・システム
S2: =蔵書等!R1 -> 令和8年3月31日現在
A3: 館 名 | B3: 現行システム稼働年月日 | C3: ハ ー ド | G3: O S | H3: ソ フ ト | I3: マ ー ク | J3: ホ ー ム ペ ー ジ | N3: 端末台数 | P3: インターネット | Q3: 導入経費 | R3: ランニングコスト
C4: メーカー | D4: 機 種 | E4: ホストのタイプ | F4: ディスク 記憶容量 | K4: 蔵書検索 | L4: 予約受付 | M4: サーバ | O4: うち利用者開放端末 | P4: 利用者開放 | S4: 備 考
I5: 図書、ＡＶ | M5: の所在 | P5: 端末台数 | Q5: (千円) | R5: (千円)
A6: 育英 | B6: 令和4年8月 | C6: HP | D6: HP Prodesk 600 G6 Small Form FactorPC | E6: パソコン | F6: 237GB | G6: Windows 10 Pro | H6: 情報館 | I6: NC | J6: ○ | K6: ○ | L6: × | M6: 館内 | N6: 7 | O6: 4 | P6: 4 | Q6: ― | R6: ―
A7: 関学大 | B7: 42095 | C7: ‐ | D7: ‐ | F7: ‐ | G7: ‐ | H7: ネオシリウス | I7: NC | J7: ○ | K7: ○ | L7: ○ | M7: 学外 | N7: 4 | O7: 2 | P7: 10 | Q7: 0 | R7: 2304 | S7: クラウド型システムのため、ハード・OS不明
A8: 未来大 | B8: 39539 | C8: HP | D8: HP ProOne 440 G9 All-in-One Desktop | E8: パソコン | F8: 256GB | G8: Windows11 | H8: 情報館v10 | I8: - | J8: ○ | K8: ○ | L8: × | M8: 学外 | N8: 28 | O8: 23 | P8: 23 | Q8: - | R8: -
A9: 共愛大 | B9: 45547 | C9: DELL | D9: OptiPlex | E9: パソコン | F9: 119KGB | G9: Windows11 | H9: mike | I9: NII | J9: ○ | K9: ○ | L9: × | M9: 学外 | N9: 4 | O9: 1 | P9: 1 | Q9: - | R9: -
A10: 共愛短大 | B10: - | C10: HP | D10: 250G7 | E10: パソコン | F10: 500G | G10: Windows11 | H10: CASA | I10: なし | J10: ○ | K10: ○ | L10: × | M10: 学外 | N10: 26 | O10: 24 | P10: 24 | Q10: - | R10: -
A11: 健科大 | B11: 45901 | H11: 情報館 | I11: NII | J11: ○ | K11: ○ | L11: × | M11: 学外 | N11: 8 | O11: 6 | P11: 6 | Q11: － | R11: － | S11: サーバは未設置
A12: 県女大 | B12: 46082 | C12: 日本HP | D12: SFF 400 G9 | F12: 256GB以上 | G12: Windows | H12: CueLIB | I12: NII | J12: ○ | K12: ○ | L12: ○ | M12: 学外 | N12: 10 | O12: 4 | P12: 0 | Q12: 0 | R12: 3571
A13: 群高専 | B13: 44986 | C13: 富士通 | D13: - | E13: 汎用機 | F13: - | G13: - | H13: iLiswave-J V3 | I13: NII設定 | J13: ○ | K13: ○ | L13: ○ | M13: 学内 | N13: 5 | O13: 1 | P13: 0 | Q13: - | R13: 985
A14: 群福大 | B14: 45658 | C14: DELL | D14: Inspironスモールデスクトップ 3030S | E14: パソコン | F14: 512MB M.2 PCIe NVMe SSDのRAID1構成（Windowsの標準機能によるソフトウェアRAID） | G14: Windows 11 Pro | H14: 情報館v9 | I14: ＮＩＩ・ＴＲＣ | J14: ○ | K14: ○ | L14: × | M14: 学外 | N14: 16 | O14: 12 | P14: 12 | Q14: ― | R14: ―
A15: 群福大藤 | B15: 45658 | C15: DELL | D15: Inspironスモールデスクトップ 3030S | E15: パソコン | F15: 512MB M.2 PCIe NVMe SSDのRAID1構成（Windowsの標準機能によるソフトウェアRAID） | G15: Windows 11 Pro | H15: 情報館v9 | I15: ＮＩＩ・ＴＲＣ | J15: ○ | K15: ○ | L15: × | M15: 学外 | N15: 8 | O15: 6 | P15: 6 | Q15: ― | R15: ―
A16: 群福大プ | B16: 45658 | C16: DELL | D16: Inspironスモールデスクトップ 3030S | E16: パソコン | F16: 512MB M.2 PCIe NVMe SSDのRAID1構成（Windowsの標準機能によるソフトウェアRAID） | G16: Windows 11 Pro | H16: 情報館v9 | I16: ＮＩＩ・ＴＲＣ | J16: ○ | K16: ○ | L16: × | M16: 学外 | N16: 8 | O16: 6 | P16: 6 | Q16: ― | R16: ―
A17: 群大図 | B17: R5.4 | C17: HP | D17: DL360 Gen10 | E17: ワークステーション | F17: 600G | G17: Oracle Linux8.7 | H17: NALIS | I17: - | J17: ○ | K17: ○ | L17: ○ | M17: 学内 | N17: 32 | O17: 10 | P17: 6 | Q17: - | R17: -
A18: 群大医 | B18: - | C18: - | D18: - | E18: - | F18: - | G18: - | H18: - | I18: - | J18: ○ | K18: ○ | L18: ○ | M18: 学外 | N18: 15 | O18: 7 | P18: 4 | Q18: - | R18: -
A19: 群大理工 | B19: － | C19: － | D19: － | E19: － | F19: － | G19: － | H19: － | I19: － | J19: ○ | K19: ○ | L19: ○ | M19: 学内 | N19: 12 | O19: 4 | P19: 0 | Q19: － | R19: －
A20: 群パ大 | B20: 44992 | C20: DELL | D20: PowerEdge T350 Server | E20: 汎用機 | F20: 600GB | G20: WindowsServer2022 | H20: 情報館ver.10 | I20: なし | J20: ○ | K20: ○ | L20: ○ | M20: 学外 | N20: 8 | O20: 2 | P20: 2 | Q20: - | R20: 1031
A21: 上武 | B21: 45765 | C21: - | D21: - | F21: - | G21: Windows11Pro | H21: LIMEDIO | I21: NC,TRC | J21: ○ | K21: ○ | L21: × | M21: 学外 | N21: 11 | O21: 8 | P21: 7 | Q21: － | R21: － | S21: クラウドサービスのためハードは非公開
A22: 上武分 | B22: 45765 | C22: - | D22: - | F22: - | G22: Windows11 Pro | H22: LIMEDIO | I22: NC、TRC | J22: ○ | K22: ○ | L22: × | M22: 学外 | N22: 11 | O22: 8 | P22: 7 | Q22: - | R22: - | S22: クラウドサービスのためハードは非公開
A23: 高経大 | B23: 45748 | C23: 富士通 | D23: PRIMERGY | E23: ワークステーション | F23: クラウド | G23: Linux | H23: iLiswave-J V3 | I23: Nii TRC | J23: ○ | K23: ○ | L23: ○ | M23: 学外 | N23: 15 | O23: 5 | P23: 22 | R23: 13230
A24: 健大 | B24: 41724 | C24: 日本HP | D24: HP Store Virtual | F24: 160GB | G24: Windows Server 2019 | H24: 情報館ver.10 | I24: なし | J24: ○ | K24: ○ | L24: × | N24: 9 | O24: 3 | P24: 20 | Q24: - | R24: - | S24: 「ハード：ホストコンピュータ」は「サーバ」、「ホームページ：Webサーバの所在」について、HPは学内、蔵書検索は学外。
A25: 健大分 | B25: 41724 | C25: 日本HP | D25: HP ProBook 450 15.6 inch G9 Notebook PC | F25: 237GB | G25: Windows 11 Pro | H25: 情報館Ver.10 | I25: なし | J25: ○ | K25: ○ | L25: × | M25: 学外 | N25: 5 | O25: 2 | P25: 2 | Q25: － | R25: － | S25: サーバについて、ホームページは学内、蔵書検索は学外
A26: 高商大 | B26: 43709 | C26: DELL | D26: OptiPlex 3060 | E26: パソコン | F26: 1000GB | G26: Windows11 | H26: 情報館V9 | I26: なし | J26: ○ | K26: ○ | L26: × | M26: 学外 | N26: 4 | O26: 2 | P26: 38 | Q26: 253 | R26: 0
A27: 東福大 | B27: 平成26.1.7 | C27: 東芝 | D27: nabookSatellite B552/H | E27: パソコン | F27: 300GB | G27: Windows7Pro | H27: 情報館v7 | I27: TRC | J27: ○ | K27: ○ | L27: × | M27: 学内 | N27: 2 | O27: 0 | P27: 0 | Q27: - | R27: -
B28: 平成26.1.7 | C28: HP | D28: Compaq Pro 4300 SFF PC | E28: パソコン | F28: 500GB | G28: Windows7Pro | H28: 情報館v7 | I28: TRC | J28: ○ | K28: ○ | L28: × | M28: 学内 | N28: 6 | O28: 4 | P28: 1 | Q28: - | R28: -
B29: 平成26.1.7 | C29: DELL | D29: OPTIPLEX 3010 | E29: パソコン | F29: 500GB | G29: Windows7Pro | H29: 情報館v7 | I29: TRC | J29: ○ | K29: ○ | L29: × | M29: 学内 | N29: 2 | O29: 2 | P29: 2 | Q29: - | R29: -
A30: 新島 | B30: 44510 | C30: 富士通 | D30: ESPRIMC | E30: パソコン | F30: 500GB | G30: Windows11 | H30: 情報館VER10 | J30: ○ | K30: ○ | L30: ○ | M30: 学外 | N30: 2 | O30: 0 | P30: 2
A31: 工科大 | B31: 44621 | G31: Windows11 | H31: CueLIB Ver3.3 | I31: Nacsis | J31: ○ | K31: ○ | L31: ○ | M31: 学外 | N31: 7 | O31: 2 | P31: 2

Sheet 相互貸借
A1: 県内大学図書館相互貸借状況 | BB1: =蔵書等!P30 -> 令和7年度
A3: 借受館 | B3: 前橋 | C3: 前橋こ | D3: 前橋分 | E3: 高崎 | F3: 箕郷 | G3: 群馬 | H3: 新町 | I3: 榛名 | J3: 吉井 | K3: 桐生 | L3: 新里 | M3: 伊勢崎 | N3: 赤堀 | O3: あずま | P3: 境 | Q3: 太田 | R3: 尾島 | S3: 新田 | T3: 藪塚 | U3: 太田美 | V3: 沼田 | W3: 館林 | X3: 渋川 | Y3: 北橘 | Z3: 藤岡 | AA3: 富岡 | AB3: 安中 | AC3: 松井田 | AD3: 笠懸 | AE3: 大間々 | AF3: 吉岡 | AG3: 上野 | AH3: 神流 | AI3: 甘楽 | AJ3: 中之条 | AK3: 草津 | AL3: 玉村 | AM3: 明和 | AN3: 千代田 | AO3: 大泉 | AP3: 邑楽 | AQ3: 県立 | AR3: 小計 | AS3: 県内公民館 | AT3: 県内大学・高専 | AU3: 県内高校 | AV3: 点字 | AW3: 県議会 | AX3: 県内合計 | AY3: 県外 | AZ3: その他 | BA3: 合 計 | BB3: 備 考
A5: 貸出館
A6: 育英 | B6: 2 | E6: 8 | K6: 1 | M6: 1 | Z6: 1 | AB6: 1 | AE6: 1 | AJ6: 1 | AK6: 1 | AL6: 1 | AN6: 1 | AQ6: 6 | AR6: 25 | AT6: 4 | AU6: 1 | AX6: 30 | BA6: 30
A7: 関学大 | B7: 0 | C7: 0 | D7: 0 | E7: 0 | F7: 0 | G7: 0 | H7: 0 | I7: 0 | J7: 0 | K7: 0 | L7: 0 | M7: 0 | N7: 0 | O7: 0 | P7: 0 | Q7: 0 | R7: 0 | S7: 0 | T7: 0 | U7: 0 | V7: 0 | W7: 0 | X7: 0 | Y7: 0 | Z7: 0 | AA7: 0 | AB7: 0 | AC7: 0 | AD7: 0 | AE7: 0 | AF7: 0 | AG7: 0 | AH7: 0 | AI7: 0 | AJ7: 0 | AK7: 0 | AL7: 0 | AM7: 0 | AN7: 0 | AO7: 0 | AP7: 0 | AQ7: 0 | AR7: 0 | AS7: 0 | AT7: 0 | AU7: 0 | AV7: 0 | AW7: 0 | AX7: 0 | AY7: 0 | AZ7: 0 | BA7: 0 | BB7: 他館への資料の貸出を実施していない
A8: 未来大 | B8: 1 | E8: 1 | M8: 1 | AL8: 1 | AO8: 1 | AQ8: 4 | AR8: 9 | AU8: 1 | AX8: 10 | BA8: 10
A9: 共愛大 | B9: 9 | C9: 0 | D9: 0 | E9: 8 | F9: 1 | G9: 0 | H9: 0 | I9: 0 | J9: 0 | K9: 0 | L9: 0 | M9: 1 | N9: 0 | O9: 0 | P9: 0 | Q9: 0 | R9: 0 | S9: 0 | T9: 0 | U9: 0 | V9: 0 | W9: 0 | X9: 2 | Y9: 0 | Z9: 1 | AA9: 2 | AB9: 16 | AC9: 1 | AD9: 0 | AE9: 1 | AF9: 0 | AG9: 0 | AH9: 0 | AI9: 0 | AJ9: 1 | AK9: 1 | AL9: 5 | AM9: 0 | AN9: 0 | AO9: 5 | AP9: 0 | AQ9: 19 | AR9: 73 | AS9: 1 | AT9: 8 | AU9: 9 | AV9: 0 | AW9: 0 | AX9: 91 | AY9: 0 | AZ9: 0 | BA9: 91
A10: 共愛短大 | AR10: 0 | AX10: 0 | BA10: 0
A11: 健科大 | B11: 2 | L11: 1 | Z11: 1 | AB11: 2 | AQ11: 13 | AR11: 19 | AT11: 2 | AX11: 21 | AY11: 1 | BA11: 22
A12: 県女大 | B12: 4 | C12: 0 | D12: 0 | E12: 1 | F12: 0 | G12: 0 | H12: 0 | I12: 0 | J12: 0 | K12: 1 | L12: 1 | M12: 0 | N12: 0 | O12: 0 | P12: 0 | Q12: 3 | R12: 0 | S12: 0 | T12: 0 | U12: 0 | V12: 0 | W12: 2 | X12: 0 | Y12: 0 | Z12: 0 | AA12: 2 | AB12: 2 | AC12: 4 | AD12: 0 | AE12: 0 | AF12: 0 | AG12: 0 | AH12: 0 | AI12: 0 | AJ12: 0 | AK12: 0 | AL12: 0 | AM12: 0 | AN12: 0 | AO12: 6 | AP12: 0 | AQ12: 29 | AR12: 55 | AS12: 0 | AT12: 11 | AU12: 2 | AV12: 0 | AW12: 0 | AX12: 68 | AY12: 0 | AZ12: 1 | BA12: 69
A13: 群高専 | E13: 4 | Z13: 3 | AR13: 7 | AT13: 1 | AU13: 1 | AX13: 9 | AY13: 3 | BA13: 12
A14: 群福大 | B14: 1 | E14: 4 | Q14: 1 | AB14: 1 | AF14: 1 | AQ14: 6 | AR14: 14 | AT14: 2 | AU14: 1 | AX14: 17 | BA14: 17
A15: 群大図 | B15: 8 | C15: 0 | D15: 0 | E15: 8 | F15: 0 | G15: 0 | H15: 12 | I15: 0 | J15: 0 | K15: 2 | L15: 0 | M15: 1 | N15: 0 | O15: 0 | P15: 0 | Q15: 0 | R15: 0 | S15: 0 | T15: 0 | U15: 0 | V15: 0 | W15: 1 | X15: 0 | Y15: 0 | Z15: 0 | AA15: 0 | AB15: 1 | AC15: 3 | AD15: 0 | AE15: 0 | AF15: 0 | AG15: 0 | AH15: 0 | AI15: 1 | AJ15: 0 | AK15: 0 | AL15: 1 | AM15: 0 | AN15: 0 | AO15: 0 | AP15: 1 | AQ15: 24 | AR15: 63 | AS15: 3 | AT15: 18 | AU15: 29 | AV15: 2 | AW15: 0 | AX15: 115 | AY15: 79 | AZ15: 0 | BA15: 194
A16: 群大医 | B16: 0 | C16: 0 | D16: 0 | E16: 3 | F16: 0 | G16: 0 | H16: 0 | I16: 0 | J16: 0 | K16: 0 | L16: 0 | M16: 0 | N16: 0 | O16: 0 | P16: 0 | Q16: 0 | R16: 0 | S16: 0 | T16: 0 | U16: 0 | V16: 0 | W16: 0 | X16: 0 | Y16: 0 | Z16: 1 | AA16: 0 | AB16: 0 | AC16: 0 | AD16: 0 | AE16: 0 | AF16: 0 | AG16: 0 | AH16: 0 | AI16: 0 | AJ16: 0 | AK16: 0 | AL16: 0 | AM16: 0 | AN16: 0 | AO16: 0 | AP16: 0 | AQ16: 5 | AR16: 9 | AS16: 0 | AT16: 2 | AU16: 0 | AV16: 0 | AW16: 0 | AX16: 11 | AY16: 2 | AZ16: 0 | BA16: 13
A17: 群大理工 | B17: 2 | C17: 0 | D17: 0 | E17: 7 | F17: 1 | G17: 0 | H17: 13 | I17: 0 | J17: 0 | K17: 0 | L17: 0 | M17: 0 | N17: 0 | O17: 0 | P17: 0 | Q17: 2 | R17: 0 | S17: 0 | T17: 0 | U17: 0 | V17: 0 | W17: 0 | X17: 0 | Y17: 0 | Z17: 0 | AA17: 1 | AB17: 5 | AC17: 0 | AD17: 0 | AE17: 0 | AF17: 0 | AG17: 0 | AH17: 0 | AI17: 0 | AJ17: 0 | AK17: 0 | AL17: 0 | AM17: 0 | AN17: 0 | AO17: 0 | AP17: 0 | AQ17: 6 | AR17: 37 | AS17: 0 | AT17: 5 | AU17: 6 | AV17: 0 | AW17: 0 | AX17: 48 | AY17: 18 | AZ17: 0 | BA17: 66
A18: 群パ大 | B18: 1 | E18: 2 | K18: 1 | V18: 1 | X18: 1 | AL18: 1 | AQ18: 11 | AR18: 18 | AT18: 1 | AU18: 2 | AX18: 21 | AY18: 13 | BA18: 34
A19: 上武大 | E19: 2 | M19: 1 | V19: 3 | AQ19: 1 | AR19: 7 | AT19: 2 | AX19: 9 | AY19: 9 | BA19: 18
A20: 上武分 | E20: 1 | AR20: 1 | AT20: 1 | AX20: 2 | AY20: 1 | BA20: 3
A21: 高経大 | B21: 7 | C21: 0 | D21: 0 | E21: 3 | F21: 0 | G21: 1 | H21: 3 | I21: 0 | J21: 0 | K21: 1 | L21: 0 | M21: 1 | N21: 0 | O21: 0 | P21: 0 | Q21: 3 | R21: 0 | S21: 1 | T21: 0 | U21: 0 | V21: 0 | W21: 1 | X21: 3 | Y21: 0 | Z21: 0 | AA21: 1 | AB21: 0 | AC21: 1 | AD21: 0 | AE21: 0 | AF21: 0 | AG21: 0 | AH21: 0 | AI21: 0 | AJ21: 0 | AK21: 1 | AL21: 1 | AM21: 1 | AN21: 0 | AO21: 0 | AP21: 0 | AQ21: 30 | AR21: 59 | AS21: 1 | AT21: 7 | AU21: 24 | AV21: 0 | AW21: 0 | AX21: 91 | AY21: 244 | AZ21: 6 | BA21: 341
A22: 健大 | B22: 6 | C22: 0 | D22: 0 | E22: 0 | F22: 0 | G22: 0 | H22: 1 | I22: 0 | J22: 0 | K22: 1 | L22: 0 | M22: 1 | N22: 0 | O22: 0 | P22: 0 | Q22: 1 | R22: 1 | S22: 0 | T22: 0 | U22: 0 | V22: 0 | W22: 0 | X22: 2 | Y22: 0 | Z22: 1 | AA22: 2 | AB22: 0 | AC22: 1 | AD22: 0 | AE22: 0 | AF22: 0 | AG22: 0 | AH22: 0 | AI22: 0 | AJ22: 0 | AK22: 0 | AL22: 0 | AM22: 0 | AN22: 0 | AO22: 0 | AP22: 0 | AQ22: 18 | AR22: 35 | AS22: 2 | AT22: 8 | AU22: 2 | AV22: 0 | AW22: 0 | AX22: 47 | AY22: 3 | AZ22: 0 | BA22: 50
A23: 健大分 | B23: 1 | AQ23: 19 | AR23: 20 | AU23: 2 | AX23: 22 | BA23: 22
A24: 高商大 | B24: 4 | E24: 2 | W24: 1 | X24: 1 | AB24: 3 | AQ24: 7 | AR24: 18 | AS24: 1 | AU24: 3 | AX24: 22 | BA24: 22
A25: 東福大 | B25: 0 | C25: 0 | D25: 0 | E25: 0 | F25: 0 | G25: 0 | H25: 0 | I25: 0 | J25: 0 | K25: 0 | L25: 0 | M25: 0 | N25: 0 | O25: 0 | P25: 0 | Q25: 0 | R25: 0 | S25: 0 | T25: 0 | U25: 0 | V25: 0 | W25: 0 | X25: 0 | Y25: 0 | Z25: 0 | AA25: 0 | AB25: 0 | AC25: 0 | AD25: 0 | AE25: 0 | AF25: 0 | AG25: 0 | AH25: 0 | AI25: 0 | AJ25: 0 | AK25: 0 | AL25: 0 | AM25: 0 | AN25: 0 | AO25: 0 | AP25: 0 | AQ25: 0 | AR25: 0 | AS25: 0 | AT25: 0 | AU25: 0 | AV25: 0 | AW25: 0 | AX25: 0 | AY25: 2 | AZ25: 0 | BA25: 2
A26: 新島 | E26: 4 | AR26: 4 | AX26: 4 | AY26: 1 | BA26: 5
A27: 工科大 | B27: 4 | C27: 0 | D27: 0 | E27: 4 | F27: 1 | G27: 0 | H27: 3 | I27: 0 | J27: 0 | K27: 1 | L27: 0 | M27: 0 | N27: 1 | O27: 0 | P27: 0 | Q27: 2 | R27: 0 | S27: 0 | T27: 0 | U27: 0 | V27: 0 | W27: 0 | X27: 1 | Y27: 0 | Z27: 0 | AA27: 0 | AB27: 0 | AC27: 0 | AD27: 0 | AE27: 0 | AF27: 1 | AG27: 0 | AH27: 0 | AI27: 0 | AJ27: 1 | AK27: 0 | AL27: 1 | AM27: 2 | AN27: 0 | AO27: 0 | AP27: 0 | AQ27: 7 | AR27: 29 | AS27: 0 | AT27: 6 | AU27: 9 | AV27: 0 | AW27: 0 | AX27: 44 | AY27: 17 | AZ27: 0 | BA27: 61
A28: 合計 | B28: =SUM(B6:B27) -> 52 | C28: =SUM(C6:C27) -> 0 | D28: =SUM(D6:D27) -> 0 | E28: =SUM(E6:E27) -> 62 | F28: =SUM(F6:F27) -> 3 | G28: =SUM(G6:G27) -> 1 | H28: =SUM(H6:H27) -> 32 | I28: =SUM(I6:I27) -> 0 | ... BA28: =SUM(BA6:BA27) -> 1082
